BEGIN:VCALENDAR
VERSION:2.0
PRODID:-//Wynyard Matters - ECPv6.15.20//NONSGML v1.0//EN
CALSCALE:GREGORIAN
METHOD:PUBLISH
X-ORIGINAL-URL:https://wynyardmatters.org
X-WR-CALDESC:Events for Wynyard Matters
REFRESH-INTERVAL;VALUE=DURATION:PT1H
X-Robots-Tag:noindex
X-PUBLISHED-TTL:PT1H
BEGIN:VTIMEZONE
TZID:Europe/London
BEGIN:DAYLIGHT
TZOFFSETFROM:+0000
TZOFFSETTO:+0100
TZNAME:BST
DTSTART:20240331T010000
END:DAYLIGHT
BEGIN:STANDARD
TZOFFSETFROM:+0100
TZOFFSETTO:+0000
TZNAME:GMT
DTSTART:20241027T010000
END:STANDARD
BEGIN:DAYLIGHT
TZOFFSETFROM:+0000
TZOFFSETTO:+0100
TZNAME:BST
DTSTART:20250330T010000
END:DAYLIGHT
BEGIN:STANDARD
TZOFFSETFROM:+0100
TZOFFSETTO:+0000
TZNAME:GMT
DTSTART:20251026T010000
END:STANDARD
BEGIN:DAYLIGHT
TZOFFSETFROM:+0000
TZOFFSETTO:+0100
TZNAME:BST
DTSTART:20260329T010000
END:DAYLIGHT
BEGIN:STANDARD
TZOFFSETFROM:+0100
TZOFFSETTO:+0000
TZNAME:GMT
DTSTART:20261025T010000
END:STANDARD
BEGIN:DAYLIGHT
TZOFFSETFROM:+0000
TZOFFSETTO:+0100
TZNAME:BST
DTSTART:20270328T010000
END:DAYLIGHT
BEGIN:STANDARD
TZOFFSETFROM:+0100
TZOFFSETTO:+0000
TZNAME:GMT
DTSTART:20271031T010000
END:STANDARD
END:VTIMEZONE
BEGIN:VEVENT
DTSTART;TZID=Europe/London:20260318T180000
DTEND;TZID=Europe/London:20260318T193000
DTSTAMP:20260421T175629
CREATED:20260304T111237Z
LAST-MODIFIED:20260316T205316Z
UID:10001739-1773856800-1773862200@wynyardmatters.org
SUMMARY:Wynyard Parish Council (Hartlepool) Annual Parish Meeting 2026
DESCRIPTION:
URL:https://wynyardmatters.org/event/wynyard-parish-council-hartlepool-annual-parish-meeting-2026/
LOCATION:Wynyard Hall\, Wynyard Road\, Wynyard\, Stockton-on-Tees\, TS22 5NF\, United Kingdom
CATEGORIES:Monthly,Parish Council
ORGANIZER;CN="Wynyard Parish Council (Hartlepool)":MAILTO:clerk@wynyard-hartlepool-pc.gov.uk
END:VEVENT
BEGIN:VEVENT
DTSTART;TZID=Europe/London:20260107T180000
DTEND;TZID=Europe/London:20260107T193000
DTSTAMP:20260421T175629
CREATED:20251202T095819Z
LAST-MODIFIED:20251202T095819Z
UID:10000219-1767808800-1767814200@wynyardmatters.org
SUMMARY:Wynyard Parish Council (Hartlepool) Meeting
DESCRIPTION:
URL:https://wynyardmatters.org/event/wynyard-parish-council-hartlepool-meeting-8/
LOCATION:Wynyard Hall\, Wynyard Road\, Wynyard\, Stockton-on-Tees\, TS22 5NF\, United Kingdom
CATEGORIES:Monthly,Parish Council
ORGANIZER;CN="Wynyard Parish Council (Hartlepool)":MAILTO:clerk@wynyard-hartlepool-pc.gov.uk
END:VEVENT
BEGIN:VEVENT
DTSTART;TZID=Europe/London:20251126T180000
DTEND;TZID=Europe/London:20251126T193000
DTSTAMP:20260421T175629
CREATED:20251002T085018Z
LAST-MODIFIED:20251002T085018Z
UID:10000158-1764180000-1764185400@wynyardmatters.org
SUMMARY:Wynyard Parish Council (Hartlepool) Meeting
DESCRIPTION:
URL:https://wynyardmatters.org/event/wynyard-parish-council-hartlepool-meeting-7/
LOCATION:Wynyard Hall\, Wynyard Road\, Wynyard\, Stockton-on-Tees\, TS22 5NF\, United Kingdom
CATEGORIES:Monthly,Parish Council
ORGANIZER;CN="Wynyard Parish Council (Hartlepool)":MAILTO:clerk@wynyard-hartlepool-pc.gov.uk
END:VEVENT
BEGIN:VEVENT
DTSTART;TZID=Europe/London:20251015T180000
DTEND;TZID=Europe/London:20251015T193000
DTSTAMP:20260421T175629
CREATED:20251002T084648Z
LAST-MODIFIED:20251002T084648Z
UID:10000151-1760551200-1760556600@wynyardmatters.org
SUMMARY:Wynyard Parish Council (Hartlepool) Meeting
DESCRIPTION:
URL:https://wynyardmatters.org/event/wynyard-parish-council-hartlepool-meeting-6/
LOCATION:Wynyard Hall\, Wynyard Road\, Wynyard\, Stockton-on-Tees\, TS22 5NF\, United Kingdom
CATEGORIES:Monthly,Parish Council
ORGANIZER;CN="Wynyard Parish Council (Hartlepool)":MAILTO:clerk@wynyard-hartlepool-pc.gov.uk
END:VEVENT
BEGIN:VEVENT
DTSTART;TZID=Europe/London:20250724T183000
DTEND;TZID=Europe/London:20250724T200000
DTSTAMP:20260421T175629
CREATED:20250507T214307Z
LAST-MODIFIED:20250507T214307Z
UID:10000117-1753381800-1753387200@wynyardmatters.org
SUMMARY:Wynyard Parish Council (Hartlepool) Meeting
DESCRIPTION:
URL:https://wynyardmatters.org/event/wynyard-parish-council-hartlepool-meeting-5/
LOCATION:Wynyard Hall\, Wynyard Road\, Wynyard\, Stockton-on-Tees\, TS22 5NF\, United Kingdom
CATEGORIES:Monthly,Parish Council
ORGANIZER;CN="Wynyard Parish Council (Hartlepool)":MAILTO:clerk@wynyard-hartlepool-pc.gov.uk
END:VEVENT
BEGIN:VEVENT
DTSTART;TZID=Europe/London:20250624T183000
DTEND;TZID=Europe/London:20250624T200000
DTSTAMP:20260421T175629
CREATED:20250507T214219Z
LAST-MODIFIED:20250507T214231Z
UID:10000116-1750789800-1750795200@wynyardmatters.org
SUMMARY:Wynyard Parish Council (Hartlepool) Meeting
DESCRIPTION:
URL:https://wynyardmatters.org/event/wynyard-parish-council-hartlepool-meeting-4/
LOCATION:Wynyard Hall\, Wynyard Road\, Wynyard\, Stockton-on-Tees\, TS22 5NF\, United Kingdom
CATEGORIES:Monthly,Parish Council
ORGANIZER;CN="Wynyard Parish Council (Hartlepool)":MAILTO:clerk@wynyard-hartlepool-pc.gov.uk
END:VEVENT
BEGIN:VEVENT
DTSTART;TZID=Europe/London:20250521T183000
DTEND;TZID=Europe/London:20250521T200000
DTSTAMP:20260421T175629
CREATED:20250228T233804Z
LAST-MODIFIED:20250309T193726Z
UID:10000051-1747852200-1747857600@wynyardmatters.org
SUMMARY:Wynyard Parish Council (Hartlepool) Meeting
DESCRIPTION:
URL:https://wynyardmatters.org/event/wynyard-parish-council-hartlepool-meeting-3/
LOCATION:Wynyard Hall\, Wynyard Road\, Wynyard\, Stockton-on-Tees\, TS22 5NF\, United Kingdom
CATEGORIES:Monthly,Parish Council
ORGANIZER;CN="Wynyard Parish Council (Hartlepool)":MAILTO:clerk@wynyard-hartlepool-pc.gov.uk
END:VEVENT
BEGIN:VEVENT
DTSTART;TZID=Europe/London:20250416T183000
DTEND;TZID=Europe/London:20250416T200000
DTSTAMP:20260421T175629
CREATED:20250228T233732Z
LAST-MODIFIED:20250309T193725Z
UID:10000050-1744828200-1744833600@wynyardmatters.org
SUMMARY:Wynyard Parish Council (Hartlepool) Meeting
DESCRIPTION:
URL:https://wynyardmatters.org/event/wynyard-parish-council-hartlepool-meeting-2/
LOCATION:Wynyard Hall\, Wynyard Road\, Wynyard\, Stockton-on-Tees\, TS22 5NF\, United Kingdom
CATEGORIES:Monthly,Parish Council
ORGANIZER;CN="Wynyard Parish Council (Hartlepool)":MAILTO:clerk@wynyard-hartlepool-pc.gov.uk
END:VEVENT
BEGIN:VEVENT
DTSTART;TZID=Europe/London:20250319T183000
DTEND;TZID=Europe/London:20250319T200000
DTSTAMP:20260421T175629
CREATED:20250228T233703Z
LAST-MODIFIED:20250309T193724Z
UID:10000049-1742409000-1742414400@wynyardmatters.org
SUMMARY:Wynyard Parish Council (Hartlepool) Meeting
DESCRIPTION:
URL:https://wynyardmatters.org/event/wynyard-parish-council-hartlepool-meeting/
LOCATION:Wynyard Hall\, Wynyard Road\, Wynyard\, Stockton-on-Tees\, TS22 5NF\, United Kingdom
CATEGORIES:Monthly,Parish Council
ORGANIZER;CN="Wynyard Parish Council (Hartlepool)":MAILTO:clerk@wynyard-hartlepool-pc.gov.uk
END:VEVENT
END:VCALENDAR