BEGIN:VCALENDAR
VERSION:2.0
PRODID:-//Wynyard Matters - ECPv6.15.20//NONSGML v1.0//EN
CALSCALE:GREGORIAN
METHOD:PUBLISH
X-WR-CALNAME:Wynyard Matters
X-ORIGINAL-URL:https://wynyardmatters.org
X-WR-CALDESC:Events for Wynyard Matters
REFRESH-INTERVAL;VALUE=DURATION:PT1H
X-Robots-Tag:noindex
X-PUBLISHED-TTL:PT1H
BEGIN:VTIMEZONE
TZID:Europe/London
BEGIN:DAYLIGHT
TZOFFSETFROM:+0000
TZOFFSETTO:+0100
TZNAME:BST
DTSTART:20260329T010000
END:DAYLIGHT
BEGIN:STANDARD
TZOFFSETFROM:+0100
TZOFFSETTO:+0000
TZNAME:GMT
DTSTART:20261025T010000
END:STANDARD
BEGIN:DAYLIGHT
TZOFFSETFROM:+0000
TZOFFSETTO:+0100
TZNAME:BST
DTSTART:20270328T010000
END:DAYLIGHT
BEGIN:STANDARD
TZOFFSETFROM:+0100
TZOFFSETTO:+0000
TZNAME:GMT
DTSTART:20271031T010000
END:STANDARD
BEGIN:DAYLIGHT
TZOFFSETFROM:+0000
TZOFFSETTO:+0100
TZNAME:BST
DTSTART:20280326T010000
END:DAYLIGHT
BEGIN:STANDARD
TZOFFSETFROM:+0100
TZOFFSETTO:+0000
TZNAME:GMT
DTSTART:20281029T010000
END:STANDARD
BEGIN:DAYLIGHT
TZOFFSETFROM:+0000
TZOFFSETTO:+0100
TZNAME:BST
DTSTART:20290325T010000
END:DAYLIGHT
BEGIN:STANDARD
TZOFFSETFROM:+0100
TZOFFSETTO:+0000
TZNAME:GMT
DTSTART:20291028T010000
END:STANDARD
BEGIN:DAYLIGHT
TZOFFSETFROM:+0000
TZOFFSETTO:+0100
TZNAME:BST
DTSTART:20300331T010000
END:DAYLIGHT
BEGIN:STANDARD
TZOFFSETFROM:+0100
TZOFFSETTO:+0000
TZNAME:GMT
DTSTART:20301027T010000
END:STANDARD
END:VTIMEZONE
BEGIN:VEVENT
DTSTART;TZID=Europe/London:20270223T140000
DTEND;TZID=Europe/London:20270223T160000
DTSTAMP:20260421T175523
CREATED:20251202T100036Z
LAST-MODIFIED:20260304T105749Z
UID:10001157-1803391200-1803398400@wynyardmatters.org
SUMMARY:Meet & Greet Golf Club
DESCRIPTION:
URL:https://wynyardmatters.org/event/meet-greet-golf-club-4/2027-02-23/
LOCATION:Wynyard Golf Club\, Wellington Drive\, Wynyard\, TS22 5QJ\, United Kingdom
CATEGORIES:Community,Monthly
END:VEVENT
BEGIN:VEVENT
DTSTART;TZID=Europe/London:20270330T140000
DTEND;TZID=Europe/London:20270330T160000
DTSTAMP:20260421T175523
CREATED:20251202T100036Z
LAST-MODIFIED:20260304T105749Z
UID:10001158-1806415200-1806422400@wynyardmatters.org
SUMMARY:Meet & Greet Golf Club
DESCRIPTION:
URL:https://wynyardmatters.org/event/meet-greet-golf-club-4/2027-03-30/
LOCATION:Wynyard Golf Club\, Wellington Drive\, Wynyard\, TS22 5QJ\, United Kingdom
CATEGORIES:Community,Monthly
END:VEVENT
BEGIN:VEVENT
DTSTART;TZID=Europe/London:20270427T140000
DTEND;TZID=Europe/London:20270427T160000
DTSTAMP:20260421T175523
CREATED:20251202T100036Z
LAST-MODIFIED:20260304T105749Z
UID:10001159-1808834400-1808841600@wynyardmatters.org
SUMMARY:Meet & Greet Golf Club
DESCRIPTION:
URL:https://wynyardmatters.org/event/meet-greet-golf-club-4/2027-04-27/
LOCATION:Wynyard Golf Club\, Wellington Drive\, Wynyard\, TS22 5QJ\, United Kingdom
CATEGORIES:Community,Monthly
END:VEVENT
BEGIN:VEVENT
DTSTART;TZID=Europe/London:20270525T140000
DTEND;TZID=Europe/London:20270525T160000
DTSTAMP:20260421T175523
CREATED:20251202T100036Z
LAST-MODIFIED:20260304T105749Z
UID:10001160-1811253600-1811260800@wynyardmatters.org
SUMMARY:Meet & Greet Golf Club
DESCRIPTION:
URL:https://wynyardmatters.org/event/meet-greet-golf-club-4/2027-05-25/
LOCATION:Wynyard Golf Club\, Wellington Drive\, Wynyard\, TS22 5QJ\, United Kingdom
CATEGORIES:Community,Monthly
END:VEVENT
BEGIN:VEVENT
DTSTART;TZID=Europe/London:20270629T140000
DTEND;TZID=Europe/London:20270629T160000
DTSTAMP:20260421T175523
CREATED:20251202T100036Z
LAST-MODIFIED:20260304T105749Z
UID:10001161-1814277600-1814284800@wynyardmatters.org
SUMMARY:Meet & Greet Golf Club
DESCRIPTION:
URL:https://wynyardmatters.org/event/meet-greet-golf-club-4/2027-06-29/
LOCATION:Wynyard Golf Club\, Wellington Drive\, Wynyard\, TS22 5QJ\, United Kingdom
CATEGORIES:Community,Monthly
END:VEVENT
BEGIN:VEVENT
DTSTART;TZID=Europe/London:20270727T140000
DTEND;TZID=Europe/London:20270727T160000
DTSTAMP:20260421T175523
CREATED:20251202T100036Z
LAST-MODIFIED:20260304T105749Z
UID:10001162-1816696800-1816704000@wynyardmatters.org
SUMMARY:Meet & Greet Golf Club
DESCRIPTION:
URL:https://wynyardmatters.org/event/meet-greet-golf-club-4/2027-07-27/
LOCATION:Wynyard Golf Club\, Wellington Drive\, Wynyard\, TS22 5QJ\, United Kingdom
CATEGORIES:Community,Monthly
END:VEVENT
BEGIN:VEVENT
DTSTART;TZID=Europe/London:20270831T140000
DTEND;TZID=Europe/London:20270831T160000
DTSTAMP:20260421T175523
CREATED:20251202T100036Z
LAST-MODIFIED:20260304T105749Z
UID:10001163-1819720800-1819728000@wynyardmatters.org
SUMMARY:Meet & Greet Golf Club
DESCRIPTION:
URL:https://wynyardmatters.org/event/meet-greet-golf-club-4/2027-08-31/
LOCATION:Wynyard Golf Club\, Wellington Drive\, Wynyard\, TS22 5QJ\, United Kingdom
CATEGORIES:Community,Monthly
END:VEVENT
BEGIN:VEVENT
DTSTART;TZID=Europe/London:20270928T140000
DTEND;TZID=Europe/London:20270928T160000
DTSTAMP:20260421T175523
CREATED:20251202T100036Z
LAST-MODIFIED:20260304T105749Z
UID:10001164-1822140000-1822147200@wynyardmatters.org
SUMMARY:Meet & Greet Golf Club
DESCRIPTION:
URL:https://wynyardmatters.org/event/meet-greet-golf-club-4/2027-09-28/
LOCATION:Wynyard Golf Club\, Wellington Drive\, Wynyard\, TS22 5QJ\, United Kingdom
CATEGORIES:Community,Monthly
END:VEVENT
BEGIN:VEVENT
DTSTART;TZID=Europe/London:20271026T140000
DTEND;TZID=Europe/London:20271026T160000
DTSTAMP:20260421T175523
CREATED:20251202T100036Z
LAST-MODIFIED:20260304T105749Z
UID:10001165-1824559200-1824566400@wynyardmatters.org
SUMMARY:Meet & Greet Golf Club
DESCRIPTION:
URL:https://wynyardmatters.org/event/meet-greet-golf-club-4/2027-10-26/
LOCATION:Wynyard Golf Club\, Wellington Drive\, Wynyard\, TS22 5QJ\, United Kingdom
CATEGORIES:Community,Monthly
END:VEVENT
BEGIN:VEVENT
DTSTART;TZID=Europe/London:20271130T140000
DTEND;TZID=Europe/London:20271130T160000
DTSTAMP:20260421T175523
CREATED:20251202T100036Z
LAST-MODIFIED:20260304T105749Z
UID:10001166-1827583200-1827590400@wynyardmatters.org
SUMMARY:Meet & Greet Golf Club
DESCRIPTION:
URL:https://wynyardmatters.org/event/meet-greet-golf-club-4/2027-11-30/
LOCATION:Wynyard Golf Club\, Wellington Drive\, Wynyard\, TS22 5QJ\, United Kingdom
CATEGORIES:Community,Monthly
END:VEVENT
BEGIN:VEVENT
DTSTART;TZID=Europe/London:20271228T140000
DTEND;TZID=Europe/London:20271228T160000
DTSTAMP:20260421T175523
CREATED:20251202T100036Z
LAST-MODIFIED:20260304T105749Z
UID:10001167-1830002400-1830009600@wynyardmatters.org
SUMMARY:Meet & Greet Golf Club
DESCRIPTION:
URL:https://wynyardmatters.org/event/meet-greet-golf-club-4/2027-12-28/
LOCATION:Wynyard Golf Club\, Wellington Drive\, Wynyard\, TS22 5QJ\, United Kingdom
CATEGORIES:Community,Monthly
END:VEVENT
BEGIN:VEVENT
DTSTART;TZID=Europe/London:20280125T140000
DTEND;TZID=Europe/London:20280125T160000
DTSTAMP:20260421T175523
CREATED:20251202T100036Z
LAST-MODIFIED:20260304T105749Z
UID:10001168-1832421600-1832428800@wynyardmatters.org
SUMMARY:Meet & Greet Golf Club
DESCRIPTION:
URL:https://wynyardmatters.org/event/meet-greet-golf-club-4/2028-01-25/
LOCATION:Wynyard Golf Club\, Wellington Drive\, Wynyard\, TS22 5QJ\, United Kingdom
CATEGORIES:Community,Monthly
END:VEVENT
BEGIN:VEVENT
DTSTART;TZID=Europe/London:20280229T140000
DTEND;TZID=Europe/London:20280229T160000
DTSTAMP:20260421T175523
CREATED:20251202T100036Z
LAST-MODIFIED:20260304T105749Z
UID:10001169-1835445600-1835452800@wynyardmatters.org
SUMMARY:Meet & Greet Golf Club
DESCRIPTION:
URL:https://wynyardmatters.org/event/meet-greet-golf-club-4/2028-02-29/
LOCATION:Wynyard Golf Club\, Wellington Drive\, Wynyard\, TS22 5QJ\, United Kingdom
CATEGORIES:Community,Monthly
END:VEVENT
BEGIN:VEVENT
DTSTART;TZID=Europe/London:20280328T140000
DTEND;TZID=Europe/London:20280328T160000
DTSTAMP:20260421T175523
CREATED:20251202T100036Z
LAST-MODIFIED:20260304T105749Z
UID:10001170-1837864800-1837872000@wynyardmatters.org
SUMMARY:Meet & Greet Golf Club
DESCRIPTION:
URL:https://wynyardmatters.org/event/meet-greet-golf-club-4/2028-03-28/
LOCATION:Wynyard Golf Club\, Wellington Drive\, Wynyard\, TS22 5QJ\, United Kingdom
CATEGORIES:Community,Monthly
END:VEVENT
BEGIN:VEVENT
DTSTART;TZID=Europe/London:20280425T140000
DTEND;TZID=Europe/London:20280425T160000
DTSTAMP:20260421T175523
CREATED:20251202T100036Z
LAST-MODIFIED:20260304T105749Z
UID:10001171-1840284000-1840291200@wynyardmatters.org
SUMMARY:Meet & Greet Golf Club
DESCRIPTION:
URL:https://wynyardmatters.org/event/meet-greet-golf-club-4/2028-04-25/
LOCATION:Wynyard Golf Club\, Wellington Drive\, Wynyard\, TS22 5QJ\, United Kingdom
CATEGORIES:Community,Monthly
END:VEVENT
BEGIN:VEVENT
DTSTART;TZID=Europe/London:20280530T140000
DTEND;TZID=Europe/London:20280530T160000
DTSTAMP:20260421T175523
CREATED:20251202T100036Z
LAST-MODIFIED:20260304T105749Z
UID:10001172-1843308000-1843315200@wynyardmatters.org
SUMMARY:Meet & Greet Golf Club
DESCRIPTION:
URL:https://wynyardmatters.org/event/meet-greet-golf-club-4/2028-05-30/
LOCATION:Wynyard Golf Club\, Wellington Drive\, Wynyard\, TS22 5QJ\, United Kingdom
CATEGORIES:Community,Monthly
END:VEVENT
BEGIN:VEVENT
DTSTART;TZID=Europe/London:20280627T140000
DTEND;TZID=Europe/London:20280627T160000
DTSTAMP:20260421T175523
CREATED:20251202T100036Z
LAST-MODIFIED:20260304T105749Z
UID:10001173-1845727200-1845734400@wynyardmatters.org
SUMMARY:Meet & Greet Golf Club
DESCRIPTION:
URL:https://wynyardmatters.org/event/meet-greet-golf-club-4/2028-06-27/
LOCATION:Wynyard Golf Club\, Wellington Drive\, Wynyard\, TS22 5QJ\, United Kingdom
CATEGORIES:Community,Monthly
END:VEVENT
BEGIN:VEVENT
DTSTART;TZID=Europe/London:20280725T140000
DTEND;TZID=Europe/London:20280725T160000
DTSTAMP:20260421T175523
CREATED:20251202T100036Z
LAST-MODIFIED:20260304T105749Z
UID:10001174-1848146400-1848153600@wynyardmatters.org
SUMMARY:Meet & Greet Golf Club
DESCRIPTION:
URL:https://wynyardmatters.org/event/meet-greet-golf-club-4/2028-07-25/
LOCATION:Wynyard Golf Club\, Wellington Drive\, Wynyard\, TS22 5QJ\, United Kingdom
CATEGORIES:Community,Monthly
END:VEVENT
BEGIN:VEVENT
DTSTART;TZID=Europe/London:20280829T140000
DTEND;TZID=Europe/London:20280829T160000
DTSTAMP:20260421T175523
CREATED:20251202T100036Z
LAST-MODIFIED:20260304T105749Z
UID:10001175-1851170400-1851177600@wynyardmatters.org
SUMMARY:Meet & Greet Golf Club
DESCRIPTION:
URL:https://wynyardmatters.org/event/meet-greet-golf-club-4/2028-08-29/
LOCATION:Wynyard Golf Club\, Wellington Drive\, Wynyard\, TS22 5QJ\, United Kingdom
CATEGORIES:Community,Monthly
END:VEVENT
BEGIN:VEVENT
DTSTART;TZID=Europe/London:20280926T140000
DTEND;TZID=Europe/London:20280926T160000
DTSTAMP:20260421T175523
CREATED:20251202T100036Z
LAST-MODIFIED:20260304T105749Z
UID:10001176-1853589600-1853596800@wynyardmatters.org
SUMMARY:Meet & Greet Golf Club
DESCRIPTION:
URL:https://wynyardmatters.org/event/meet-greet-golf-club-4/2028-09-26/
LOCATION:Wynyard Golf Club\, Wellington Drive\, Wynyard\, TS22 5QJ\, United Kingdom
CATEGORIES:Community,Monthly
END:VEVENT
BEGIN:VEVENT
DTSTART;TZID=Europe/London:20281031T140000
DTEND;TZID=Europe/London:20281031T160000
DTSTAMP:20260421T175523
CREATED:20251202T100036Z
LAST-MODIFIED:20260304T105749Z
UID:10001177-1856613600-1856620800@wynyardmatters.org
SUMMARY:Meet & Greet Golf Club
DESCRIPTION:
URL:https://wynyardmatters.org/event/meet-greet-golf-club-4/2028-10-31/
LOCATION:Wynyard Golf Club\, Wellington Drive\, Wynyard\, TS22 5QJ\, United Kingdom
CATEGORIES:Community,Monthly
END:VEVENT
BEGIN:VEVENT
DTSTART;TZID=Europe/London:20281128T140000
DTEND;TZID=Europe/London:20281128T160000
DTSTAMP:20260421T175523
CREATED:20251202T100036Z
LAST-MODIFIED:20260304T105749Z
UID:10001178-1859032800-1859040000@wynyardmatters.org
SUMMARY:Meet & Greet Golf Club
DESCRIPTION:
URL:https://wynyardmatters.org/event/meet-greet-golf-club-4/2028-11-28/
LOCATION:Wynyard Golf Club\, Wellington Drive\, Wynyard\, TS22 5QJ\, United Kingdom
CATEGORIES:Community,Monthly
END:VEVENT
BEGIN:VEVENT
DTSTART;TZID=Europe/London:20281226T140000
DTEND;TZID=Europe/London:20281226T160000
DTSTAMP:20260421T175523
CREATED:20251202T100036Z
LAST-MODIFIED:20260304T105749Z
UID:10001179-1861452000-1861459200@wynyardmatters.org
SUMMARY:Meet & Greet Golf Club
DESCRIPTION:
URL:https://wynyardmatters.org/event/meet-greet-golf-club-4/2028-12-26/
LOCATION:Wynyard Golf Club\, Wellington Drive\, Wynyard\, TS22 5QJ\, United Kingdom
CATEGORIES:Community,Monthly
END:VEVENT
BEGIN:VEVENT
DTSTART;TZID=Europe/London:20290130T140000
DTEND;TZID=Europe/London:20290130T160000
DTSTAMP:20260421T175523
CREATED:20251202T100036Z
LAST-MODIFIED:20260304T105749Z
UID:10001180-1864476000-1864483200@wynyardmatters.org
SUMMARY:Meet & Greet Golf Club
DESCRIPTION:
URL:https://wynyardmatters.org/event/meet-greet-golf-club-4/2029-01-30/
LOCATION:Wynyard Golf Club\, Wellington Drive\, Wynyard\, TS22 5QJ\, United Kingdom
CATEGORIES:Community,Monthly
END:VEVENT
BEGIN:VEVENT
DTSTART;TZID=Europe/London:20290227T140000
DTEND;TZID=Europe/London:20290227T160000
DTSTAMP:20260421T175523
CREATED:20251202T100036Z
LAST-MODIFIED:20260304T105749Z
UID:10001181-1866895200-1866902400@wynyardmatters.org
SUMMARY:Meet & Greet Golf Club
DESCRIPTION:
URL:https://wynyardmatters.org/event/meet-greet-golf-club-4/2029-02-27/
LOCATION:Wynyard Golf Club\, Wellington Drive\, Wynyard\, TS22 5QJ\, United Kingdom
CATEGORIES:Community,Monthly
END:VEVENT
BEGIN:VEVENT
DTSTART;TZID=Europe/London:20290327T140000
DTEND;TZID=Europe/London:20290327T160000
DTSTAMP:20260421T175523
CREATED:20251202T100036Z
LAST-MODIFIED:20260304T105749Z
UID:10001182-1869314400-1869321600@wynyardmatters.org
SUMMARY:Meet & Greet Golf Club
DESCRIPTION:
URL:https://wynyardmatters.org/event/meet-greet-golf-club-4/2029-03-27/
LOCATION:Wynyard Golf Club\, Wellington Drive\, Wynyard\, TS22 5QJ\, United Kingdom
CATEGORIES:Community,Monthly
END:VEVENT
BEGIN:VEVENT
DTSTART;TZID=Europe/London:20290424T140000
DTEND;TZID=Europe/London:20290424T160000
DTSTAMP:20260421T175523
CREATED:20251202T100036Z
LAST-MODIFIED:20260304T105749Z
UID:10001183-1871733600-1871740800@wynyardmatters.org
SUMMARY:Meet & Greet Golf Club
DESCRIPTION:
URL:https://wynyardmatters.org/event/meet-greet-golf-club-4/2029-04-24/
LOCATION:Wynyard Golf Club\, Wellington Drive\, Wynyard\, TS22 5QJ\, United Kingdom
CATEGORIES:Community,Monthly
END:VEVENT
BEGIN:VEVENT
DTSTART;TZID=Europe/London:20290529T140000
DTEND;TZID=Europe/London:20290529T160000
DTSTAMP:20260421T175523
CREATED:20251202T100036Z
LAST-MODIFIED:20260304T105749Z
UID:10001184-1874757600-1874764800@wynyardmatters.org
SUMMARY:Meet & Greet Golf Club
DESCRIPTION:
URL:https://wynyardmatters.org/event/meet-greet-golf-club-4/2029-05-29/
LOCATION:Wynyard Golf Club\, Wellington Drive\, Wynyard\, TS22 5QJ\, United Kingdom
CATEGORIES:Community,Monthly
END:VEVENT
BEGIN:VEVENT
DTSTART;TZID=Europe/London:20290626T140000
DTEND;TZID=Europe/London:20290626T160000
DTSTAMP:20260421T175523
CREATED:20251202T100036Z
LAST-MODIFIED:20260304T105749Z
UID:10001185-1877176800-1877184000@wynyardmatters.org
SUMMARY:Meet & Greet Golf Club
DESCRIPTION:
URL:https://wynyardmatters.org/event/meet-greet-golf-club-4/2029-06-26/
LOCATION:Wynyard Golf Club\, Wellington Drive\, Wynyard\, TS22 5QJ\, United Kingdom
CATEGORIES:Community,Monthly
END:VEVENT
BEGIN:VEVENT
DTSTART;TZID=Europe/London:20290731T140000
DTEND;TZID=Europe/London:20290731T160000
DTSTAMP:20260421T175523
CREATED:20251202T100036Z
LAST-MODIFIED:20260304T105749Z
UID:10001186-1880200800-1880208000@wynyardmatters.org
SUMMARY:Meet & Greet Golf Club
DESCRIPTION:
URL:https://wynyardmatters.org/event/meet-greet-golf-club-4/2029-07-31/
LOCATION:Wynyard Golf Club\, Wellington Drive\, Wynyard\, TS22 5QJ\, United Kingdom
CATEGORIES:Community,Monthly
END:VEVENT
END:VCALENDAR