BEGIN:VCALENDAR
VERSION:2.0
PRODID:-//Wynyard Matters - ECPv6.15.20//NONSGML v1.0//EN
CALSCALE:GREGORIAN
METHOD:PUBLISH
X-ORIGINAL-URL:https://wynyardmatters.org
X-WR-CALDESC:Events for Wynyard Matters
REFRESH-INTERVAL;VALUE=DURATION:PT1H
X-Robots-Tag:noindex
X-PUBLISHED-TTL:PT1H
BEGIN:VTIMEZONE
TZID:Europe/London
BEGIN:DAYLIGHT
TZOFFSETFROM:+0000
TZOFFSETTO:+0100
TZNAME:BST
DTSTART:20240331T010000
END:DAYLIGHT
BEGIN:STANDARD
TZOFFSETFROM:+0100
TZOFFSETTO:+0000
TZNAME:GMT
DTSTART:20241027T010000
END:STANDARD
BEGIN:DAYLIGHT
TZOFFSETFROM:+0000
TZOFFSETTO:+0100
TZNAME:BST
DTSTART:20250330T010000
END:DAYLIGHT
BEGIN:STANDARD
TZOFFSETFROM:+0100
TZOFFSETTO:+0000
TZNAME:GMT
DTSTART:20251026T010000
END:STANDARD
BEGIN:DAYLIGHT
TZOFFSETFROM:+0000
TZOFFSETTO:+0100
TZNAME:BST
DTSTART:20260329T010000
END:DAYLIGHT
BEGIN:STANDARD
TZOFFSETFROM:+0100
TZOFFSETTO:+0000
TZNAME:GMT
DTSTART:20261025T010000
END:STANDARD
END:VTIMEZONE
BEGIN:VEVENT
DTSTART;VALUE=DATE:20251220
DTEND;VALUE=DATE:20251222
DTSTAMP:20260423T180318
CREATED:20251202T095424Z
LAST-MODIFIED:20251202T095424Z
UID:10000216-1766188800-1766361599@wynyardmatters.org
SUMMARY:Headlight Project Fundraising Stalls
DESCRIPTION:Stalls will be outside the Co-Op Village store on 20th and 21st December to raise money for the Headlight Project
URL:https://wynyardmatters.org/event/headlight-project-fundraising-stalls/
LOCATION:The Village Store\, Unit 2 The Granary\, Wynyard\, Stockton-on-Tees\, TS22 5QG\, United Kingdom
CATEGORIES:Community
END:VEVENT
BEGIN:VEVENT
DTSTART;TZID=Europe/London:20251011T100000
DTEND;TZID=Europe/London:20251011T170000
DTSTAMP:20260423T180318
CREATED:20251002T085307Z
LAST-MODIFIED:20251002T085448Z
UID:10000159-1760176800-1760202000@wynyardmatters.org
SUMMARY:Scarecrow Trail and Competition 2025
DESCRIPTION:
URL:https://wynyardmatters.org/event/scarecrow-trail-and-competition-2025/
LOCATION:The Village Store\, Unit 2 The Granary\, Wynyard\, Stockton-on-Tees\, TS22 5QG\, United Kingdom
CATEGORIES:Community
END:VEVENT
END:VCALENDAR