BEGIN:VCALENDAR
VERSION:2.0
PRODID:-//Wynyard Matters - ECPv6.15.20//NONSGML v1.0//EN
CALSCALE:GREGORIAN
METHOD:PUBLISH
X-WR-CALNAME:Wynyard Matters
X-ORIGINAL-URL:https://wynyardmatters.org
X-WR-CALDESC:Events for Wynyard Matters
REFRESH-INTERVAL;VALUE=DURATION:PT1H
X-Robots-Tag:noindex
X-PUBLISHED-TTL:PT1H
BEGIN:VTIMEZONE
TZID:Europe/London
BEGIN:DAYLIGHT
TZOFFSETFROM:+0000
TZOFFSETTO:+0100
TZNAME:BST
DTSTART:20240331T010000
END:DAYLIGHT
BEGIN:STANDARD
TZOFFSETFROM:+0100
TZOFFSETTO:+0000
TZNAME:GMT
DTSTART:20241027T010000
END:STANDARD
BEGIN:DAYLIGHT
TZOFFSETFROM:+0000
TZOFFSETTO:+0100
TZNAME:BST
DTSTART:20250330T010000
END:DAYLIGHT
BEGIN:STANDARD
TZOFFSETFROM:+0100
TZOFFSETTO:+0000
TZNAME:GMT
DTSTART:20251026T010000
END:STANDARD
BEGIN:DAYLIGHT
TZOFFSETFROM:+0000
TZOFFSETTO:+0100
TZNAME:BST
DTSTART:20260329T010000
END:DAYLIGHT
BEGIN:STANDARD
TZOFFSETFROM:+0100
TZOFFSETTO:+0000
TZNAME:GMT
DTSTART:20261025T010000
END:STANDARD
BEGIN:DAYLIGHT
TZOFFSETFROM:+0000
TZOFFSETTO:+0100
TZNAME:BST
DTSTART:20270328T010000
END:DAYLIGHT
BEGIN:STANDARD
TZOFFSETFROM:+0100
TZOFFSETTO:+0000
TZNAME:GMT
DTSTART:20271031T010000
END:STANDARD
END:VTIMEZONE
BEGIN:VEVENT
DTSTART;TZID=Europe/London:20260421T100000
DTEND;TZID=Europe/London:20260421T120000
DTSTAMP:20260423T162009
CREATED:20260304T105003Z
LAST-MODIFIED:20260304T105003Z
UID:10000237-1776765600-1776772800@wynyardmatters.org
SUMMARY:Weekly Nordic Walking
DESCRIPTION:
URL:https://wynyardmatters.org/event/weekly-nordic-walking/2026-04-21/
LOCATION:The Stables Car Park\, 138 The Stables\, Wynyard\, Stockton-on-Tees\, TS22 5QQ\, United Kingdom
CATEGORIES:Weekly
END:VEVENT
BEGIN:VEVENT
DTSTART;TZID=Europe/London:20260414T100000
DTEND;TZID=Europe/London:20260414T120000
DTSTAMP:20260423T162009
CREATED:20260304T105003Z
LAST-MODIFIED:20260304T105003Z
UID:10000236-1776160800-1776168000@wynyardmatters.org
SUMMARY:Weekly Nordic Walking
DESCRIPTION:
URL:https://wynyardmatters.org/event/weekly-nordic-walking/2026-04-14/
LOCATION:The Stables Car Park\, 138 The Stables\, Wynyard\, Stockton-on-Tees\, TS22 5QQ\, United Kingdom
CATEGORIES:Weekly
END:VEVENT
BEGIN:VEVENT
DTSTART;TZID=Europe/London:20260409T143000
DTEND;TZID=Europe/London:20260409T150000
DTSTAMP:20260423T162009
CREATED:20251202T100100Z
LAST-MODIFIED:20260304T110210Z
UID:10001468-1775745000-1775746800@wynyardmatters.org
SUMMARY:Library Van
DESCRIPTION:The Mobile Library visits the parts of the Borough where there is no static community library within easy reach. \nThe Mobile Library carries a range of materials but on a smaller scale than a community library. It operates on a 3-weekly schedule\, visiting on a set day and time and at a designated place. \nCome for a cuppa in the pub after!
URL:https://wynyardmatters.org/event/library-van-14/2026-04-09/
LOCATION:The Stables Car Park\, 138 The Stables\, Wynyard\, Stockton-on-Tees\, TS22 5QQ\, United Kingdom
CATEGORIES:Community
ORGANIZER;CN="Stockton Borough Council":MAILTO:mobilelibrary.services@stockton.gov.uk
END:VEVENT
BEGIN:VEVENT
DTSTART;TZID=Europe/London:20260407T100000
DTEND;TZID=Europe/London:20260407T120000
DTSTAMP:20260423T162009
CREATED:20260304T105003Z
LAST-MODIFIED:20260304T105003Z
UID:10000235-1775556000-1775563200@wynyardmatters.org
SUMMARY:Weekly Nordic Walking
DESCRIPTION:
URL:https://wynyardmatters.org/event/weekly-nordic-walking/2026-04-07/
LOCATION:The Stables Car Park\, 138 The Stables\, Wynyard\, Stockton-on-Tees\, TS22 5QQ\, United Kingdom
CATEGORIES:Weekly
END:VEVENT
BEGIN:VEVENT
DTSTART;TZID=Europe/London:20260331T100000
DTEND;TZID=Europe/London:20260331T120000
DTSTAMP:20260423T162009
CREATED:20260304T105003Z
LAST-MODIFIED:20260304T105003Z
UID:10000234-1774951200-1774958400@wynyardmatters.org
SUMMARY:Weekly Nordic Walking
DESCRIPTION:
URL:https://wynyardmatters.org/event/weekly-nordic-walking/2026-03-31/
LOCATION:The Stables Car Park\, 138 The Stables\, Wynyard\, Stockton-on-Tees\, TS22 5QQ\, United Kingdom
CATEGORIES:Weekly
END:VEVENT
BEGIN:VEVENT
DTSTART;TZID=Europe/London:20260328T100000
DTEND;TZID=Europe/London:20260328T120000
DTSTAMP:20260423T162009
CREATED:20260304T111417Z
LAST-MODIFIED:20260311T123637Z
UID:10001740-1774692000-1774699200@wynyardmatters.org
SUMMARY:Easter Scavenger Hunt and Egg Design Competition 2026
DESCRIPTION:
URL:https://wynyardmatters.org/event/easter-scavenger-hunt-and-egg-design-competition-2026/
LOCATION:The Stables Car Park\, 138 The Stables\, Wynyard\, Stockton-on-Tees\, TS22 5QQ\, United Kingdom
CATEGORIES:Community
END:VEVENT
BEGIN:VEVENT
DTSTART;TZID=Europe/London:20260324T100000
DTEND;TZID=Europe/London:20260324T120000
DTSTAMP:20260423T162009
CREATED:20260304T105003Z
LAST-MODIFIED:20260304T105003Z
UID:10000233-1774346400-1774353600@wynyardmatters.org
SUMMARY:Weekly Nordic Walking
DESCRIPTION:
URL:https://wynyardmatters.org/event/weekly-nordic-walking/2026-03-24/
LOCATION:The Stables Car Park\, 138 The Stables\, Wynyard\, Stockton-on-Tees\, TS22 5QQ\, United Kingdom
CATEGORIES:Weekly
END:VEVENT
BEGIN:VEVENT
DTSTART;TZID=Europe/London:20260319T143000
DTEND;TZID=Europe/London:20260319T150000
DTSTAMP:20260423T162009
CREATED:20251202T100100Z
LAST-MODIFIED:20260304T110210Z
UID:10001467-1773930600-1773932400@wynyardmatters.org
SUMMARY:Library Van
DESCRIPTION:The Mobile Library visits the parts of the Borough where there is no static community library within easy reach. \nThe Mobile Library carries a range of materials but on a smaller scale than a community library. It operates on a 3-weekly schedule\, visiting on a set day and time and at a designated place. \nCome for a cuppa in the pub after!
URL:https://wynyardmatters.org/event/library-van-14/2026-03-19/
LOCATION:The Stables Car Park\, 138 The Stables\, Wynyard\, Stockton-on-Tees\, TS22 5QQ\, United Kingdom
CATEGORIES:Community
ORGANIZER;CN="Stockton Borough Council":MAILTO:mobilelibrary.services@stockton.gov.uk
END:VEVENT
BEGIN:VEVENT
DTSTART;TZID=Europe/London:20260317T100000
DTEND;TZID=Europe/London:20260317T120000
DTSTAMP:20260423T162009
CREATED:20260304T105003Z
LAST-MODIFIED:20260304T105003Z
UID:10000232-1773741600-1773748800@wynyardmatters.org
SUMMARY:Weekly Nordic Walking
DESCRIPTION:
URL:https://wynyardmatters.org/event/weekly-nordic-walking/2026-03-17/
LOCATION:The Stables Car Park\, 138 The Stables\, Wynyard\, Stockton-on-Tees\, TS22 5QQ\, United Kingdom
CATEGORIES:Weekly
END:VEVENT
BEGIN:VEVENT
DTSTART;TZID=Europe/London:20260310T100000
DTEND;TZID=Europe/London:20260310T120000
DTSTAMP:20260423T162009
CREATED:20260304T105003Z
LAST-MODIFIED:20260304T105003Z
UID:10000231-1773136800-1773144000@wynyardmatters.org
SUMMARY:Weekly Nordic Walking
DESCRIPTION:
URL:https://wynyardmatters.org/event/weekly-nordic-walking/2026-03-10/
LOCATION:The Stables Car Park\, 138 The Stables\, Wynyard\, Stockton-on-Tees\, TS22 5QQ\, United Kingdom
CATEGORIES:Weekly
END:VEVENT
BEGIN:VEVENT
DTSTART;TZID=Europe/London:20260303T100000
DTEND;TZID=Europe/London:20260303T120000
DTSTAMP:20260423T162009
CREATED:20260304T105003Z
LAST-MODIFIED:20260304T105003Z
UID:10000230-1772532000-1772539200@wynyardmatters.org
SUMMARY:Weekly Nordic Walking
DESCRIPTION:
URL:https://wynyardmatters.org/event/weekly-nordic-walking/2026-03-03/
LOCATION:The Stables Car Park\, 138 The Stables\, Wynyard\, Stockton-on-Tees\, TS22 5QQ\, United Kingdom
CATEGORIES:Weekly
END:VEVENT
BEGIN:VEVENT
DTSTART;TZID=Europe/London:20260226T143000
DTEND;TZID=Europe/London:20260226T150000
DTSTAMP:20260423T162009
CREATED:20251202T100100Z
LAST-MODIFIED:20260304T110210Z
UID:10000225-1772116200-1772118000@wynyardmatters.org
SUMMARY:Library Van
DESCRIPTION:The Mobile Library visits the parts of the Borough where there is no static community library within easy reach. \nThe Mobile Library carries a range of materials but on a smaller scale than a community library. It operates on a 3-weekly schedule\, visiting on a set day and time and at a designated place. \nCome for a cuppa in the pub after!
URL:https://wynyardmatters.org/event/library-van-14/2026-02-26/
LOCATION:The Stables Car Park\, 138 The Stables\, Wynyard\, Stockton-on-Tees\, TS22 5QQ\, United Kingdom
CATEGORIES:Community
ORGANIZER;CN="Stockton Borough Council":MAILTO:mobilelibrary.services@stockton.gov.uk
END:VEVENT
BEGIN:VEVENT
DTSTART;TZID=Europe/London:20260224T100000
DTEND;TZID=Europe/London:20260224T120000
DTSTAMP:20260423T162009
CREATED:20251202T092942Z
LAST-MODIFIED:20251202T092942Z
UID:10000174-1771927200-1771934400@wynyardmatters.org
SUMMARY:Nordic Walking
DESCRIPTION:
URL:https://wynyardmatters.org/event/nordic-walking-30/
LOCATION:The Stables Car Park\, 138 The Stables\, Wynyard\, Stockton-on-Tees\, TS22 5QQ\, United Kingdom
CATEGORIES:Weekly
END:VEVENT
BEGIN:VEVENT
DTSTART;TZID=Europe/London:20260217T100000
DTEND;TZID=Europe/London:20260217T120000
DTSTAMP:20260423T162009
CREATED:20251202T092918Z
LAST-MODIFIED:20251202T092918Z
UID:10000173-1771322400-1771329600@wynyardmatters.org
SUMMARY:Nordic Walking
DESCRIPTION:
URL:https://wynyardmatters.org/event/nordic-walking-29/
LOCATION:The Stables Car Park\, 138 The Stables\, Wynyard\, Stockton-on-Tees\, TS22 5QQ\, United Kingdom
CATEGORIES:Weekly
END:VEVENT
BEGIN:VEVENT
DTSTART;TZID=Europe/London:20260210T100000
DTEND;TZID=Europe/London:20260210T120000
DTSTAMP:20260423T162009
CREATED:20251202T092900Z
LAST-MODIFIED:20251202T092900Z
UID:10000172-1770717600-1770724800@wynyardmatters.org
SUMMARY:Nordic Walking
DESCRIPTION:
URL:https://wynyardmatters.org/event/nordic-walking-28/
LOCATION:The Stables Car Park\, 138 The Stables\, Wynyard\, Stockton-on-Tees\, TS22 5QQ\, United Kingdom
CATEGORIES:Weekly
END:VEVENT
BEGIN:VEVENT
DTSTART;TZID=Europe/London:20260205T143000
DTEND;TZID=Europe/London:20260205T150000
DTSTAMP:20260423T162009
CREATED:20251202T094028Z
LAST-MODIFIED:20251202T094028Z
UID:10000193-1770301800-1770303600@wynyardmatters.org
SUMMARY:Library Van
DESCRIPTION:The Mobile Library visits the parts of the Borough where there is no static community library within easy reach. \nThe Mobile Library carries a range of materials but on a smaller scale than a community library. It operates on a 3-weekly schedule\, visiting on a set day and time and at a designated place. \nCome for a cuppa in the pub after!
URL:https://wynyardmatters.org/event/library-van-13/
LOCATION:The Stables Car Park\, 138 The Stables\, Wynyard\, Stockton-on-Tees\, TS22 5QQ\, United Kingdom
CATEGORIES:Community
ORGANIZER;CN="Stockton Borough Council":MAILTO:mobilelibrary.services@stockton.gov.uk
END:VEVENT
BEGIN:VEVENT
DTSTART;TZID=Europe/London:20260203T100000
DTEND;TZID=Europe/London:20260203T120000
DTSTAMP:20260423T162009
CREATED:20251202T092842Z
LAST-MODIFIED:20251202T092842Z
UID:10000171-1770112800-1770120000@wynyardmatters.org
SUMMARY:Nordic Walking
DESCRIPTION:
URL:https://wynyardmatters.org/event/nordic-walking-27/
LOCATION:The Stables Car Park\, 138 The Stables\, Wynyard\, Stockton-on-Tees\, TS22 5QQ\, United Kingdom
CATEGORIES:Weekly
END:VEVENT
BEGIN:VEVENT
DTSTART;TZID=Europe/London:20260127T100000
DTEND;TZID=Europe/London:20260127T120000
DTSTAMP:20260423T162009
CREATED:20251202T092825Z
LAST-MODIFIED:20251202T092825Z
UID:10000170-1769508000-1769515200@wynyardmatters.org
SUMMARY:Nordic Walking
DESCRIPTION:
URL:https://wynyardmatters.org/event/nordic-walking-26/
LOCATION:The Stables Car Park\, 138 The Stables\, Wynyard\, Stockton-on-Tees\, TS22 5QQ\, United Kingdom
CATEGORIES:Weekly
END:VEVENT
BEGIN:VEVENT
DTSTART;TZID=Europe/London:20260120T100000
DTEND;TZID=Europe/London:20260120T120000
DTSTAMP:20260423T162009
CREATED:20251202T092807Z
LAST-MODIFIED:20251202T092807Z
UID:10000169-1768903200-1768910400@wynyardmatters.org
SUMMARY:Nordic Walking
DESCRIPTION:
URL:https://wynyardmatters.org/event/nordic-walking-25/
LOCATION:The Stables Car Park\, 138 The Stables\, Wynyard\, Stockton-on-Tees\, TS22 5QQ\, United Kingdom
CATEGORIES:Weekly
END:VEVENT
BEGIN:VEVENT
DTSTART;TZID=Europe/London:20260115T143000
DTEND;TZID=Europe/London:20260115T150000
DTSTAMP:20260423T162009
CREATED:20251202T094002Z
LAST-MODIFIED:20251202T094002Z
UID:10000192-1768487400-1768489200@wynyardmatters.org
SUMMARY:Library Van
DESCRIPTION:The Mobile Library visits the parts of the Borough where there is no static community library within easy reach. \nThe Mobile Library carries a range of materials but on a smaller scale than a community library. It operates on a 3-weekly schedule\, visiting on a set day and time and at a designated place. \nCome for a cuppa in the pub after!
URL:https://wynyardmatters.org/event/library-van-12/
LOCATION:The Stables Car Park\, 138 The Stables\, Wynyard\, Stockton-on-Tees\, TS22 5QQ\, United Kingdom
CATEGORIES:Community
ORGANIZER;CN="Stockton Borough Council":MAILTO:mobilelibrary.services@stockton.gov.uk
END:VEVENT
BEGIN:VEVENT
DTSTART;TZID=Europe/London:20260113T100000
DTEND;TZID=Europe/London:20260113T120000
DTSTAMP:20260423T162009
CREATED:20251202T092749Z
LAST-MODIFIED:20251202T092749Z
UID:10000168-1768298400-1768305600@wynyardmatters.org
SUMMARY:Nordic Walking
DESCRIPTION:
URL:https://wynyardmatters.org/event/nordic-walking-24/
LOCATION:The Stables Car Park\, 138 The Stables\, Wynyard\, Stockton-on-Tees\, TS22 5QQ\, United Kingdom
CATEGORIES:Weekly
END:VEVENT
BEGIN:VEVENT
DTSTART;TZID=Europe/London:20260106T100000
DTEND;TZID=Europe/London:20260106T120000
DTSTAMP:20260423T162009
CREATED:20251202T092728Z
LAST-MODIFIED:20251202T092728Z
UID:10000167-1767693600-1767700800@wynyardmatters.org
SUMMARY:Nordic Walking
DESCRIPTION:
URL:https://wynyardmatters.org/event/nordic-walking-23/
LOCATION:The Stables Car Park\, 138 The Stables\, Wynyard\, Stockton-on-Tees\, TS22 5QQ\, United Kingdom
CATEGORIES:Weekly
END:VEVENT
BEGIN:VEVENT
DTSTART;TZID=Europe/London:20251204T143000
DTEND;TZID=Europe/London:20251204T150000
DTSTAMP:20260423T162009
CREATED:20251202T093932Z
LAST-MODIFIED:20251202T093932Z
UID:10000191-1764858600-1764860400@wynyardmatters.org
SUMMARY:Library Van
DESCRIPTION:The Mobile Library visits the parts of the Borough where there is no static community library within easy reach. \nThe Mobile Library carries a range of materials but on a smaller scale than a community library. It operates on a 3-weekly schedule\, visiting on a set day and time and at a designated place. \nCome for a cuppa in the pub after!
URL:https://wynyardmatters.org/event/library-van-11/
LOCATION:The Stables Car Park\, 138 The Stables\, Wynyard\, Stockton-on-Tees\, TS22 5QQ\, United Kingdom
CATEGORIES:Community
ORGANIZER;CN="Stockton Borough Council":MAILTO:mobilelibrary.services@stockton.gov.uk
END:VEVENT
BEGIN:VEVENT
DTSTART;TZID=Europe/London:20251202T100000
DTEND;TZID=Europe/London:20251202T120000
DTSTAMP:20260423T162009
CREATED:20251202T092645Z
LAST-MODIFIED:20251202T092645Z
UID:10000166-1764669600-1764676800@wynyardmatters.org
SUMMARY:Nordic Walking
DESCRIPTION:
URL:https://wynyardmatters.org/event/nordic-walking-22/
LOCATION:The Stables Car Park\, 138 The Stables\, Wynyard\, Stockton-on-Tees\, TS22 5QQ\, United Kingdom
CATEGORIES:Weekly
END:VEVENT
BEGIN:VEVENT
DTSTART;TZID=Europe/London:20251125T100000
DTEND;TZID=Europe/London:20251125T120000
DTSTAMP:20260423T162009
CREATED:20251002T082849Z
LAST-MODIFIED:20251002T082849Z
UID:10000137-1764064800-1764072000@wynyardmatters.org
SUMMARY:Nordic Walking
DESCRIPTION:
URL:https://wynyardmatters.org/event/nordic-walking-21/
LOCATION:The Stables Car Park\, 138 The Stables\, Wynyard\, Stockton-on-Tees\, TS22 5QQ\, United Kingdom
CATEGORIES:Weekly
END:VEVENT
BEGIN:VEVENT
DTSTART;TZID=Europe/London:20251118T100000
DTEND;TZID=Europe/London:20251118T120000
DTSTAMP:20260423T162009
CREATED:20251002T082824Z
LAST-MODIFIED:20251002T082824Z
UID:10000136-1763460000-1763467200@wynyardmatters.org
SUMMARY:Nordic Walking
DESCRIPTION:
URL:https://wynyardmatters.org/event/nordic-walking-20/
LOCATION:The Stables Car Park\, 138 The Stables\, Wynyard\, Stockton-on-Tees\, TS22 5QQ\, United Kingdom
CATEGORIES:Weekly
END:VEVENT
BEGIN:VEVENT
DTSTART;TZID=Europe/London:20251113T143000
DTEND;TZID=Europe/London:20251113T150000
DTSTAMP:20260423T162009
CREATED:20251002T085853Z
LAST-MODIFIED:20251002T085853Z
UID:10000162-1763044200-1763046000@wynyardmatters.org
SUMMARY:Library Van
DESCRIPTION:The Mobile Library visits the parts of the Borough where there is no static community library within easy reach. \nThe Mobile Library carries a range of materials but on a smaller scale than a community library. It operates on a 3-weekly schedule\, visiting on a set day and time and at a designated place. \nCome for a cuppa in the pub after!
URL:https://wynyardmatters.org/event/library-van-10/
LOCATION:The Stables Car Park\, 138 The Stables\, Wynyard\, Stockton-on-Tees\, TS22 5QQ\, United Kingdom
CATEGORIES:Community
ORGANIZER;CN="Stockton Borough Council":MAILTO:mobilelibrary.services@stockton.gov.uk
END:VEVENT
BEGIN:VEVENT
DTSTART;TZID=Europe/London:20251111T100000
DTEND;TZID=Europe/London:20251111T120000
DTSTAMP:20260423T162009
CREATED:20251002T082741Z
LAST-MODIFIED:20251002T082741Z
UID:10000135-1762855200-1762862400@wynyardmatters.org
SUMMARY:Nordic Walking
DESCRIPTION:
URL:https://wynyardmatters.org/event/nordic-walking-19/
LOCATION:The Stables Car Park\, 138 The Stables\, Wynyard\, Stockton-on-Tees\, TS22 5QQ\, United Kingdom
CATEGORIES:Weekly
END:VEVENT
BEGIN:VEVENT
DTSTART;TZID=Europe/London:20251104T100000
DTEND;TZID=Europe/London:20251104T120000
DTSTAMP:20260423T162009
CREATED:20251002T082711Z
LAST-MODIFIED:20251002T082711Z
UID:10000134-1762250400-1762257600@wynyardmatters.org
SUMMARY:Nordic Walking
DESCRIPTION:
URL:https://wynyardmatters.org/event/nordic-walking-18/
LOCATION:The Stables Car Park\, 138 The Stables\, Wynyard\, Stockton-on-Tees\, TS22 5QQ\, United Kingdom
CATEGORIES:Weekly
END:VEVENT
BEGIN:VEVENT
DTSTART;TZID=Europe/London:20251028T100000
DTEND;TZID=Europe/London:20251028T120000
DTSTAMP:20260423T162009
CREATED:20251002T082630Z
LAST-MODIFIED:20251002T082630Z
UID:10000133-1761645600-1761652800@wynyardmatters.org
SUMMARY:Nordic Walking
DESCRIPTION:
URL:https://wynyardmatters.org/event/nordic-walking-17/
LOCATION:The Stables Car Park\, 138 The Stables\, Wynyard\, Stockton-on-Tees\, TS22 5QQ\, United Kingdom
CATEGORIES:Weekly
END:VEVENT
END:VCALENDAR