BEGIN:VCALENDAR
VERSION:2.0
PRODID:-//Wynyard Matters - ECPv6.15.20//NONSGML v1.0//EN
CALSCALE:GREGORIAN
METHOD:PUBLISH
X-ORIGINAL-URL:https://wynyardmatters.org
X-WR-CALDESC:Events for Wynyard Matters
REFRESH-INTERVAL;VALUE=DURATION:PT1H
X-Robots-Tag:noindex
X-PUBLISHED-TTL:PT1H
BEGIN:VTIMEZONE
TZID:Europe/London
BEGIN:DAYLIGHT
TZOFFSETFROM:+0000
TZOFFSETTO:+0100
TZNAME:BST
DTSTART:20240331T010000
END:DAYLIGHT
BEGIN:STANDARD
TZOFFSETFROM:+0100
TZOFFSETTO:+0000
TZNAME:GMT
DTSTART:20241027T010000
END:STANDARD
BEGIN:DAYLIGHT
TZOFFSETFROM:+0000
TZOFFSETTO:+0100
TZNAME:BST
DTSTART:20250330T010000
END:DAYLIGHT
BEGIN:STANDARD
TZOFFSETFROM:+0100
TZOFFSETTO:+0000
TZNAME:GMT
DTSTART:20251026T010000
END:STANDARD
BEGIN:DAYLIGHT
TZOFFSETFROM:+0000
TZOFFSETTO:+0100
TZNAME:BST
DTSTART:20260329T010000
END:DAYLIGHT
BEGIN:STANDARD
TZOFFSETFROM:+0100
TZOFFSETTO:+0000
TZNAME:GMT
DTSTART:20261025T010000
END:STANDARD
END:VTIMEZONE
BEGIN:VEVENT
DTSTART;TZID=Europe/London:20250325T140000
DTEND;TZID=Europe/London:20250325T160000
DTSTAMP:20260420T160314
CREATED:20250228T234036Z
LAST-MODIFIED:20250309T193724Z
UID:10000052-1742911200-1742918400@wynyardmatters.org
SUMMARY:Meet & Greet
DESCRIPTION:
URL:https://wynyardmatters.org/event/meet-greet/
LOCATION:Wynyard Golf Club\, Wellington Drive\, Wynyard\, TS22 5QJ\, United Kingdom
CATEGORIES:Community,Monthly
END:VEVENT
BEGIN:VEVENT
DTSTART;TZID=Europe/London:20250311T183000
DTEND;TZID=Europe/London:20250311T200000
DTSTAMP:20260420T160314
CREATED:20250228T230934Z
LAST-MODIFIED:20250309T193724Z
UID:10000024-1741717800-1741723200@wynyardmatters.org
SUMMARY:WRA March 2025 Meeting
DESCRIPTION:
URL:https://wynyardmatters.org/event/wra-march-2025-meeting/
LOCATION:Wynyard Church of England Primary School\, Redwood Drive\, Wynyard\, Stockton-on-Tees\, TS22 5UB\, United Kingdom
CATEGORIES:WRA Meetings
END:VEVENT
END:VCALENDAR