BEGIN:VCALENDAR
VERSION:2.0
PRODID:-//Wynyard Matters - ECPv6.15.20//NONSGML v1.0//EN
CALSCALE:GREGORIAN
METHOD:PUBLISH
X-WR-CALNAME:Wynyard Matters
X-ORIGINAL-URL:https://wynyardmatters.org
X-WR-CALDESC:Events for Wynyard Matters
REFRESH-INTERVAL;VALUE=DURATION:PT1H
X-Robots-Tag:noindex
X-PUBLISHED-TTL:PT1H
BEGIN:VTIMEZONE
TZID:Europe/London
BEGIN:DAYLIGHT
TZOFFSETFROM:+0000
TZOFFSETTO:+0100
TZNAME:BST
DTSTART:20240331T010000
END:DAYLIGHT
BEGIN:STANDARD
TZOFFSETFROM:+0100
TZOFFSETTO:+0000
TZNAME:GMT
DTSTART:20241027T010000
END:STANDARD
BEGIN:DAYLIGHT
TZOFFSETFROM:+0000
TZOFFSETTO:+0100
TZNAME:BST
DTSTART:20250330T010000
END:DAYLIGHT
BEGIN:STANDARD
TZOFFSETFROM:+0100
TZOFFSETTO:+0000
TZNAME:GMT
DTSTART:20251026T010000
END:STANDARD
BEGIN:DAYLIGHT
TZOFFSETFROM:+0000
TZOFFSETTO:+0100
TZNAME:BST
DTSTART:20260329T010000
END:DAYLIGHT
BEGIN:STANDARD
TZOFFSETFROM:+0100
TZOFFSETTO:+0000
TZNAME:GMT
DTSTART:20261025T010000
END:STANDARD
BEGIN:DAYLIGHT
TZOFFSETFROM:+0000
TZOFFSETTO:+0100
TZNAME:BST
DTSTART:20270328T010000
END:DAYLIGHT
BEGIN:STANDARD
TZOFFSETFROM:+0100
TZOFFSETTO:+0000
TZNAME:GMT
DTSTART:20271031T010000
END:STANDARD
END:VTIMEZONE
BEGIN:VEVENT
DTSTART;TZID=Europe/London:20260331T140000
DTEND;TZID=Europe/London:20260331T160000
DTSTAMP:20260420T110141
CREATED:20251202T100036Z
LAST-MODIFIED:20260304T105749Z
UID:10001146-1774965600-1774972800@wynyardmatters.org
SUMMARY:Meet & Greet Golf Club
DESCRIPTION:
URL:https://wynyardmatters.org/event/meet-greet-golf-club-4/2026-03-31/
LOCATION:Wynyard Golf Club\, Wellington Drive\, Wynyard\, TS22 5QJ\, United Kingdom
CATEGORIES:Community,Monthly
END:VEVENT
BEGIN:VEVENT
DTSTART;TZID=Europe/London:20260310T183000
DTEND;TZID=Europe/London:20260310T200000
DTSTAMP:20260420T110141
CREATED:20260304T110337Z
LAST-MODIFIED:20260304T110337Z
UID:10001554-1773167400-1773172800@wynyardmatters.org
SUMMARY:WRA March 2026 Meeting
DESCRIPTION:WRAMeet10.3.20Agenda
URL:https://wynyardmatters.org/event/wra-march-2026-meeting/
LOCATION:Wynyard Church of England Primary School\, Redwood Drive\, Wynyard\, Stockton-on-Tees\, TS22 5UB\, United Kingdom
CATEGORIES:WRA Meetings
END:VEVENT
BEGIN:VEVENT
DTSTART;TZID=Europe/London:20260224T140000
DTEND;TZID=Europe/London:20260224T160000
DTSTAMP:20260420T110141
CREATED:20251202T100036Z
LAST-MODIFIED:20260304T105749Z
UID:10000224-1771941600-1771948800@wynyardmatters.org
SUMMARY:Meet & Greet Golf Club
DESCRIPTION:
URL:https://wynyardmatters.org/event/meet-greet-golf-club-4/2026-02-24/
LOCATION:Wynyard Golf Club\, Wellington Drive\, Wynyard\, TS22 5QJ\, United Kingdom
CATEGORIES:Community,Monthly
END:VEVENT
BEGIN:VEVENT
DTSTART;TZID=Europe/London:20260127T140000
DTEND;TZID=Europe/London:20260127T160000
DTSTAMP:20260420T110141
CREATED:20251202T100013Z
LAST-MODIFIED:20251202T100013Z
UID:10000223-1769522400-1769529600@wynyardmatters.org
SUMMARY:Meet & Greet Golf Club
DESCRIPTION:
URL:https://wynyardmatters.org/event/meet-greet-golf-club-3/
LOCATION:Wynyard Golf Club\, Wellington Drive\, Wynyard\, TS22 5QJ\, United Kingdom
CATEGORIES:Community,Monthly
END:VEVENT
BEGIN:VEVENT
DTSTART;TZID=Europe/London:20260113T183000
DTEND;TZID=Europe/London:20260113T200000
DTSTAMP:20260420T110141
CREATED:20260106T130056Z
LAST-MODIFIED:20260106T130212Z
UID:10000226-1768329000-1768334400@wynyardmatters.org
SUMMARY:WRA January 2026 Meeting
DESCRIPTION:AGENDA
URL:https://wynyardmatters.org/event/wra-january-2026-meeting/
LOCATION:Wynyard Church of England Primary School\, Redwood Drive\, Wynyard\, Stockton-on-Tees\, TS22 5UB\, United Kingdom
CATEGORIES:WRA Meetings
END:VEVENT
BEGIN:VEVENT
DTSTART;TZID=Europe/London:20251125T140000
DTEND;TZID=Europe/London:20251125T160000
DTSTAMP:20260420T110141
CREATED:20251002T090105Z
LAST-MODIFIED:20251002T090105Z
UID:10000165-1764079200-1764086400@wynyardmatters.org
SUMMARY:Meet & Greet Golf Club
DESCRIPTION:
URL:https://wynyardmatters.org/event/meet-greet-golf-club-2/
LOCATION:Wynyard Golf Club\, Wellington Drive\, Wynyard\, TS22 5QJ\, United Kingdom
CATEGORIES:Community,Monthly
END:VEVENT
BEGIN:VEVENT
DTSTART;TZID=Europe/London:20251111T183000
DTEND;TZID=Europe/London:20251111T200000
DTSTAMP:20260420T110141
CREATED:20251002T084853Z
LAST-MODIFIED:20251002T084853Z
UID:10000155-1762885800-1762891200@wynyardmatters.org
SUMMARY:WRA November 2025 Meeting
DESCRIPTION:
URL:https://wynyardmatters.org/event/wra-november-2025-meeting/
LOCATION:Wynyard Church of England Primary School\, Redwood Drive\, Wynyard\, Stockton-on-Tees\, TS22 5UB\, United Kingdom
CATEGORIES:WRA Meetings
END:VEVENT
BEGIN:VEVENT
DTSTART;TZID=Europe/London:20251028T140000
DTEND;TZID=Europe/London:20251028T160000
DTSTAMP:20260420T110141
CREATED:20251002T090043Z
LAST-MODIFIED:20251002T090043Z
UID:10000164-1761660000-1761667200@wynyardmatters.org
SUMMARY:Meet & Greet Golf Club
DESCRIPTION:
URL:https://wynyardmatters.org/event/meet-greet-golf-club/
LOCATION:Wynyard Golf Club\, Wellington Drive\, Wynyard\, TS22 5QJ\, United Kingdom
CATEGORIES:Community,Monthly
END:VEVENT
BEGIN:VEVENT
DTSTART;TZID=Europe/London:20251014T183000
DTEND;TZID=Europe/London:20251014T200000
DTSTAMP:20260420T110141
CREATED:20251002T084534Z
LAST-MODIFIED:20251002T084534Z
UID:10000150-1760466600-1760472000@wynyardmatters.org
SUMMARY:WRA October 2025 Meeting
DESCRIPTION:
URL:https://wynyardmatters.org/event/wra-october-2025-meeting/
LOCATION:Wynyard Church of England Primary School\, Redwood Drive\, Wynyard\, Stockton-on-Tees\, TS22 5UB\, United Kingdom
CATEGORIES:WRA Meetings
END:VEVENT
BEGIN:VEVENT
DTSTART;TZID=Europe/London:20250826T140000
DTEND;TZID=Europe/London:20250826T160000
DTSTAMP:20260420T110141
CREATED:20250507T213806Z
LAST-MODIFIED:20251002T090020Z
UID:10000110-1756216800-1756224000@wynyardmatters.org
SUMMARY:Meet & Greet Golf Club
DESCRIPTION:
URL:https://wynyardmatters.org/event/meet-greet-6/
LOCATION:Wynyard Golf Club\, Wellington Drive\, Wynyard\, TS22 5QJ\, United Kingdom
CATEGORIES:Community,Monthly
END:VEVENT
BEGIN:VEVENT
DTSTART;TZID=Europe/London:20250729T140000
DTEND;TZID=Europe/London:20250729T160000
DTSTAMP:20260420T110141
CREATED:20250507T213749Z
LAST-MODIFIED:20250507T213749Z
UID:10000109-1753797600-1753804800@wynyardmatters.org
SUMMARY:Meet & Greet
DESCRIPTION:
URL:https://wynyardmatters.org/event/meet-greet-5/
LOCATION:Wynyard Golf Club\, Wellington Drive\, Wynyard\, TS22 5QJ\, United Kingdom
CATEGORIES:Community,Monthly
END:VEVENT
BEGIN:VEVENT
DTSTART;TZID=Europe/London:20250624T140000
DTEND;TZID=Europe/London:20250624T160000
DTSTAMP:20260420T110141
CREATED:20250507T213731Z
LAST-MODIFIED:20250507T213731Z
UID:10000108-1750773600-1750780800@wynyardmatters.org
SUMMARY:Meet & Greet
DESCRIPTION:
URL:https://wynyardmatters.org/event/meet-greet-4/
LOCATION:Wynyard Golf Club\, Wellington Drive\, Wynyard\, TS22 5QJ\, United Kingdom
CATEGORIES:Community,Monthly
END:VEVENT
BEGIN:VEVENT
DTSTART;TZID=Europe/London:20250610T183000
DTEND;TZID=Europe/London:20250610T200000
DTSTAMP:20260420T110141
CREATED:20250507T214138Z
LAST-MODIFIED:20250507T214138Z
UID:10000115-1749580200-1749585600@wynyardmatters.org
SUMMARY:WRA June 2025 Meeting
DESCRIPTION:
URL:https://wynyardmatters.org/event/wra-june-2025-meeting/
LOCATION:Wynyard Church of England Primary School\, Redwood Drive\, Wynyard\, Stockton-on-Tees\, TS22 5UB\, United Kingdom
CATEGORIES:WRA Meetings
END:VEVENT
BEGIN:VEVENT
DTSTART;TZID=Europe/London:20250527T140000
DTEND;TZID=Europe/London:20250527T160000
DTSTAMP:20260420T110141
CREATED:20250228T234834Z
LAST-MODIFIED:20250309T193726Z
UID:10000061-1748354400-1748361600@wynyardmatters.org
SUMMARY:Meet & Greet
DESCRIPTION:
URL:https://wynyardmatters.org/event/meet-greet-3/
LOCATION:Wynyard Golf Club\, Wellington Drive\, Wynyard\, TS22 5QJ\, United Kingdom
CATEGORIES:Community,Monthly
END:VEVENT
BEGIN:VEVENT
DTSTART;TZID=Europe/London:20250513T183000
DTEND;TZID=Europe/London:20250513T200000
DTSTAMP:20260420T110141
CREATED:20250228T234207Z
LAST-MODIFIED:20250506T192055Z
UID:10000054-1747161000-1747166400@wynyardmatters.org
SUMMARY:WRA May 2025 Meeting
DESCRIPTION:Agenda
URL:https://wynyardmatters.org/event/wra-may-2025-meeting/
LOCATION:Wynyard Church of England Primary School\, Redwood Drive\, Wynyard\, Stockton-on-Tees\, TS22 5UB\, United Kingdom
CATEGORIES:WRA Meetings
END:VEVENT
BEGIN:VEVENT
DTSTART;TZID=Europe/London:20250510T100000
DTEND;TZID=Europe/London:20250510T130000
DTSTAMP:20260420T110141
CREATED:20250228T234645Z
LAST-MODIFIED:20250309T193726Z
UID:10000059-1746871200-1746882000@wynyardmatters.org
SUMMARY:Come and Sing!
DESCRIPTION:
URL:https://wynyardmatters.org/event/come-and-sing/
LOCATION:Wynyard Golf Club\, Wellington Drive\, Wynyard\, TS22 5QJ\, United Kingdom
END:VEVENT
BEGIN:VEVENT
DTSTART;TZID=Europe/London:20250508T183000
DTEND;TZID=Europe/London:20250508T203000
DTSTAMP:20260420T110141
CREATED:20250422T092857Z
LAST-MODIFIED:20250422T092858Z
UID:10000062-1746729000-1746736200@wynyardmatters.org
SUMMARY:VE Day 80
DESCRIPTION:
URL:https://wynyardmatters.org/event/ve-day-80/
LOCATION:Duck Pond\, Wynyard Village\, 70 The Granary\, Wynyard\, Stockton-on-Tees\, TS22 5QG\, United Kingdom
CATEGORIES:Community
END:VEVENT
BEGIN:VEVENT
DTSTART;TZID=Europe/London:20250429T140000
DTEND;TZID=Europe/London:20250429T160000
DTSTAMP:20260420T110141
CREATED:20250228T234545Z
LAST-MODIFIED:20250309T193725Z
UID:10000058-1745935200-1745942400@wynyardmatters.org
SUMMARY:Meet & Greet
DESCRIPTION:
URL:https://wynyardmatters.org/event/meet-greet-2/
LOCATION:Wynyard Golf Club\, Wellington Drive\, Wynyard\, TS22 5QJ\, United Kingdom
CATEGORIES:Community,Monthly
END:VEVENT
BEGIN:VEVENT
DTSTART;TZID=Europe/London:20250419T100000
DTEND;TZID=Europe/London:20250419T120000
DTSTAMP:20260420T110141
CREATED:20250228T234419Z
LAST-MODIFIED:20250317T103340Z
UID:10000056-1745056800-1745064000@wynyardmatters.org
SUMMARY:Easter 2025 Scavenger Hunt
DESCRIPTION:A fun event designed for young families will occur on Saturday 19th of April from 10 am until 12 noon. Starting from 19 The Stables located on the path at the top of the cricket pitch. \n1st\, 2nd\, and 3rd place prizes for best Easter egg designs will be awarded.\nThe Co-op is kindly donating the chocolate eggs and prizes!\nThere will also be a bake sale together with refreshments. \nHop on Down!
URL:https://wynyardmatters.org/event/easter-2025-scavenger-hunt/
LOCATION:The Stables Car Park\, 138 The Stables\, Wynyard\, Stockton-on-Tees\, TS22 5QQ\, United Kingdom
CATEGORIES:Community
END:VEVENT
BEGIN:VEVENT
DTSTART;TZID=Europe/London:20250408T183000
DTEND;TZID=Europe/London:20250408T200000
DTSTAMP:20260420T110141
CREATED:20250228T234122Z
LAST-MODIFIED:20250309T193725Z
UID:10000053-1744137000-1744142400@wynyardmatters.org
SUMMARY:WRA April 2025 Meeting
DESCRIPTION:
URL:https://wynyardmatters.org/event/wra-april-2025-meeting/
LOCATION:Wynyard Church of England Primary School\, Redwood Drive\, Wynyard\, Stockton-on-Tees\, TS22 5UB\, United Kingdom
CATEGORIES:WRA Meetings
END:VEVENT
BEGIN:VEVENT
DTSTART;TZID=Europe/London:20250325T140000
DTEND;TZID=Europe/London:20250325T160000
DTSTAMP:20260420T110141
CREATED:20250228T234036Z
LAST-MODIFIED:20250309T193724Z
UID:10000052-1742911200-1742918400@wynyardmatters.org
SUMMARY:Meet & Greet
DESCRIPTION:
URL:https://wynyardmatters.org/event/meet-greet/
LOCATION:Wynyard Golf Club\, Wellington Drive\, Wynyard\, TS22 5QJ\, United Kingdom
CATEGORIES:Community,Monthly
END:VEVENT
BEGIN:VEVENT
DTSTART;TZID=Europe/London:20250311T183000
DTEND;TZID=Europe/London:20250311T200000
DTSTAMP:20260420T110141
CREATED:20250228T230934Z
LAST-MODIFIED:20250309T193724Z
UID:10000024-1741717800-1741723200@wynyardmatters.org
SUMMARY:WRA March 2025 Meeting
DESCRIPTION:
URL:https://wynyardmatters.org/event/wra-march-2025-meeting/
LOCATION:Wynyard Church of England Primary School\, Redwood Drive\, Wynyard\, Stockton-on-Tees\, TS22 5UB\, United Kingdom
CATEGORIES:WRA Meetings
END:VEVENT
END:VCALENDAR