BEGIN:VCALENDAR
VERSION:2.0
PRODID:-//Wynyard Matters - ECPv6.15.20//NONSGML v1.0//EN
CALSCALE:GREGORIAN
METHOD:PUBLISH
X-ORIGINAL-URL:https://wynyardmatters.org
X-WR-CALDESC:Events for Wynyard Matters
REFRESH-INTERVAL;VALUE=DURATION:PT1H
X-Robots-Tag:noindex
X-PUBLISHED-TTL:PT1H
BEGIN:VTIMEZONE
TZID:Europe/London
BEGIN:DAYLIGHT
TZOFFSETFROM:+0000
TZOFFSETTO:+0100
TZNAME:BST
DTSTART:20260329T010000
END:DAYLIGHT
BEGIN:STANDARD
TZOFFSETFROM:+0100
TZOFFSETTO:+0000
TZNAME:GMT
DTSTART:20261025T010000
END:STANDARD
BEGIN:DAYLIGHT
TZOFFSETFROM:+0000
TZOFFSETTO:+0100
TZNAME:BST
DTSTART:20270328T010000
END:DAYLIGHT
BEGIN:STANDARD
TZOFFSETFROM:+0100
TZOFFSETTO:+0000
TZNAME:GMT
DTSTART:20271031T010000
END:STANDARD
BEGIN:DAYLIGHT
TZOFFSETFROM:+0000
TZOFFSETTO:+0100
TZNAME:BST
DTSTART:20280326T010000
END:DAYLIGHT
BEGIN:STANDARD
TZOFFSETFROM:+0100
TZOFFSETTO:+0000
TZNAME:GMT
DTSTART:20281029T010000
END:STANDARD
BEGIN:DAYLIGHT
TZOFFSETFROM:+0000
TZOFFSETTO:+0100
TZNAME:BST
DTSTART:20290325T010000
END:DAYLIGHT
BEGIN:STANDARD
TZOFFSETFROM:+0100
TZOFFSETTO:+0000
TZNAME:GMT
DTSTART:20291028T010000
END:STANDARD
BEGIN:DAYLIGHT
TZOFFSETFROM:+0000
TZOFFSETTO:+0100
TZNAME:BST
DTSTART:20300331T010000
END:DAYLIGHT
BEGIN:STANDARD
TZOFFSETFROM:+0100
TZOFFSETTO:+0000
TZNAME:GMT
DTSTART:20301027T010000
END:STANDARD
END:VTIMEZONE
BEGIN:VEVENT
DTSTART;TZID=Europe/London:20270321T090000
DTEND;TZID=Europe/London:20270321T140000
DTSTAMP:20260420T110206
CREATED:20251202T095232Z
LAST-MODIFIED:20260304T110806Z
UID:10001630-1805619600-1805637600@wynyardmatters.org
SUMMARY:Wynyard Farmers Market
DESCRIPTION:
URL:https://wynyardmatters.org/event/wynyard-farmers-market-11/2027-03-21/
LOCATION:Wynyard Hall Walled Gardens\, Wynyard Road\, Wynyard\, Stockton-on-Tees\, TS22 5NG\, United Kingdom
CATEGORIES:Monthly
ORGANIZER;CN="Wynyard Hall":MAILTO:reception@wynyardhall.co.uk
END:VEVENT
BEGIN:VEVENT
DTSTART;TZID=Europe/London:20270418T090000
DTEND;TZID=Europe/London:20270418T140000
DTSTAMP:20260420T110206
CREATED:20251202T095232Z
LAST-MODIFIED:20260304T110806Z
UID:10001631-1808038800-1808056800@wynyardmatters.org
SUMMARY:Wynyard Farmers Market
DESCRIPTION:
URL:https://wynyardmatters.org/event/wynyard-farmers-market-11/2027-04-18/
LOCATION:Wynyard Hall Walled Gardens\, Wynyard Road\, Wynyard\, Stockton-on-Tees\, TS22 5NG\, United Kingdom
CATEGORIES:Monthly
ORGANIZER;CN="Wynyard Hall":MAILTO:reception@wynyardhall.co.uk
END:VEVENT
BEGIN:VEVENT
DTSTART;TZID=Europe/London:20270516T090000
DTEND;TZID=Europe/London:20270516T140000
DTSTAMP:20260420T110206
CREATED:20251202T095232Z
LAST-MODIFIED:20260304T110806Z
UID:10001632-1810458000-1810476000@wynyardmatters.org
SUMMARY:Wynyard Farmers Market
DESCRIPTION:
URL:https://wynyardmatters.org/event/wynyard-farmers-market-11/2027-05-16/
LOCATION:Wynyard Hall Walled Gardens\, Wynyard Road\, Wynyard\, Stockton-on-Tees\, TS22 5NG\, United Kingdom
CATEGORIES:Monthly
ORGANIZER;CN="Wynyard Hall":MAILTO:reception@wynyardhall.co.uk
END:VEVENT
BEGIN:VEVENT
DTSTART;TZID=Europe/London:20270620T090000
DTEND;TZID=Europe/London:20270620T140000
DTSTAMP:20260420T110206
CREATED:20251202T095232Z
LAST-MODIFIED:20260304T110806Z
UID:10001633-1813482000-1813500000@wynyardmatters.org
SUMMARY:Wynyard Farmers Market
DESCRIPTION:
URL:https://wynyardmatters.org/event/wynyard-farmers-market-11/2027-06-20/
LOCATION:Wynyard Hall Walled Gardens\, Wynyard Road\, Wynyard\, Stockton-on-Tees\, TS22 5NG\, United Kingdom
CATEGORIES:Monthly
ORGANIZER;CN="Wynyard Hall":MAILTO:reception@wynyardhall.co.uk
END:VEVENT
BEGIN:VEVENT
DTSTART;TZID=Europe/London:20270718T090000
DTEND;TZID=Europe/London:20270718T140000
DTSTAMP:20260420T110206
CREATED:20251202T095232Z
LAST-MODIFIED:20260304T110806Z
UID:10001634-1815901200-1815919200@wynyardmatters.org
SUMMARY:Wynyard Farmers Market
DESCRIPTION:
URL:https://wynyardmatters.org/event/wynyard-farmers-market-11/2027-07-18/
LOCATION:Wynyard Hall Walled Gardens\, Wynyard Road\, Wynyard\, Stockton-on-Tees\, TS22 5NG\, United Kingdom
CATEGORIES:Monthly
ORGANIZER;CN="Wynyard Hall":MAILTO:reception@wynyardhall.co.uk
END:VEVENT
BEGIN:VEVENT
DTSTART;TZID=Europe/London:20270815T090000
DTEND;TZID=Europe/London:20270815T140000
DTSTAMP:20260420T110206
CREATED:20251202T095232Z
LAST-MODIFIED:20260304T110806Z
UID:10001635-1818320400-1818338400@wynyardmatters.org
SUMMARY:Wynyard Farmers Market
DESCRIPTION:
URL:https://wynyardmatters.org/event/wynyard-farmers-market-11/2027-08-15/
LOCATION:Wynyard Hall Walled Gardens\, Wynyard Road\, Wynyard\, Stockton-on-Tees\, TS22 5NG\, United Kingdom
CATEGORIES:Monthly
ORGANIZER;CN="Wynyard Hall":MAILTO:reception@wynyardhall.co.uk
END:VEVENT
BEGIN:VEVENT
DTSTART;TZID=Europe/London:20270919T090000
DTEND;TZID=Europe/London:20270919T140000
DTSTAMP:20260420T110206
CREATED:20251202T095232Z
LAST-MODIFIED:20260304T110806Z
UID:10001636-1821344400-1821362400@wynyardmatters.org
SUMMARY:Wynyard Farmers Market
DESCRIPTION:
URL:https://wynyardmatters.org/event/wynyard-farmers-market-11/2027-09-19/
LOCATION:Wynyard Hall Walled Gardens\, Wynyard Road\, Wynyard\, Stockton-on-Tees\, TS22 5NG\, United Kingdom
CATEGORIES:Monthly
ORGANIZER;CN="Wynyard Hall":MAILTO:reception@wynyardhall.co.uk
END:VEVENT
BEGIN:VEVENT
DTSTART;TZID=Europe/London:20271017T090000
DTEND;TZID=Europe/London:20271017T140000
DTSTAMP:20260420T110206
CREATED:20251202T095232Z
LAST-MODIFIED:20260304T110806Z
UID:10001637-1823763600-1823781600@wynyardmatters.org
SUMMARY:Wynyard Farmers Market
DESCRIPTION:
URL:https://wynyardmatters.org/event/wynyard-farmers-market-11/2027-10-17/
LOCATION:Wynyard Hall Walled Gardens\, Wynyard Road\, Wynyard\, Stockton-on-Tees\, TS22 5NG\, United Kingdom
CATEGORIES:Monthly
ORGANIZER;CN="Wynyard Hall":MAILTO:reception@wynyardhall.co.uk
END:VEVENT
BEGIN:VEVENT
DTSTART;TZID=Europe/London:20271121T090000
DTEND;TZID=Europe/London:20271121T140000
DTSTAMP:20260420T110206
CREATED:20251202T095232Z
LAST-MODIFIED:20260304T110806Z
UID:10001638-1826787600-1826805600@wynyardmatters.org
SUMMARY:Wynyard Farmers Market
DESCRIPTION:
URL:https://wynyardmatters.org/event/wynyard-farmers-market-11/2027-11-21/
LOCATION:Wynyard Hall Walled Gardens\, Wynyard Road\, Wynyard\, Stockton-on-Tees\, TS22 5NG\, United Kingdom
CATEGORIES:Monthly
ORGANIZER;CN="Wynyard Hall":MAILTO:reception@wynyardhall.co.uk
END:VEVENT
BEGIN:VEVENT
DTSTART;TZID=Europe/London:20271219T090000
DTEND;TZID=Europe/London:20271219T140000
DTSTAMP:20260420T110206
CREATED:20251202T095232Z
LAST-MODIFIED:20260304T110806Z
UID:10001639-1829206800-1829224800@wynyardmatters.org
SUMMARY:Wynyard Farmers Market
DESCRIPTION:
URL:https://wynyardmatters.org/event/wynyard-farmers-market-11/2027-12-19/
LOCATION:Wynyard Hall Walled Gardens\, Wynyard Road\, Wynyard\, Stockton-on-Tees\, TS22 5NG\, United Kingdom
CATEGORIES:Monthly
ORGANIZER;CN="Wynyard Hall":MAILTO:reception@wynyardhall.co.uk
END:VEVENT
BEGIN:VEVENT
DTSTART;TZID=Europe/London:20280116T090000
DTEND;TZID=Europe/London:20280116T140000
DTSTAMP:20260420T110206
CREATED:20251202T095232Z
LAST-MODIFIED:20260304T110806Z
UID:10001640-1831626000-1831644000@wynyardmatters.org
SUMMARY:Wynyard Farmers Market
DESCRIPTION:
URL:https://wynyardmatters.org/event/wynyard-farmers-market-11/2028-01-16/
LOCATION:Wynyard Hall Walled Gardens\, Wynyard Road\, Wynyard\, Stockton-on-Tees\, TS22 5NG\, United Kingdom
CATEGORIES:Monthly
ORGANIZER;CN="Wynyard Hall":MAILTO:reception@wynyardhall.co.uk
END:VEVENT
BEGIN:VEVENT
DTSTART;TZID=Europe/London:20280220T090000
DTEND;TZID=Europe/London:20280220T140000
DTSTAMP:20260420T110206
CREATED:20251202T095232Z
LAST-MODIFIED:20260304T110806Z
UID:10001641-1834650000-1834668000@wynyardmatters.org
SUMMARY:Wynyard Farmers Market
DESCRIPTION:
URL:https://wynyardmatters.org/event/wynyard-farmers-market-11/2028-02-20/
LOCATION:Wynyard Hall Walled Gardens\, Wynyard Road\, Wynyard\, Stockton-on-Tees\, TS22 5NG\, United Kingdom
CATEGORIES:Monthly
ORGANIZER;CN="Wynyard Hall":MAILTO:reception@wynyardhall.co.uk
END:VEVENT
BEGIN:VEVENT
DTSTART;TZID=Europe/London:20280319T090000
DTEND;TZID=Europe/London:20280319T140000
DTSTAMP:20260420T110206
CREATED:20251202T095232Z
LAST-MODIFIED:20260304T110806Z
UID:10001642-1837069200-1837087200@wynyardmatters.org
SUMMARY:Wynyard Farmers Market
DESCRIPTION:
URL:https://wynyardmatters.org/event/wynyard-farmers-market-11/2028-03-19/
LOCATION:Wynyard Hall Walled Gardens\, Wynyard Road\, Wynyard\, Stockton-on-Tees\, TS22 5NG\, United Kingdom
CATEGORIES:Monthly
ORGANIZER;CN="Wynyard Hall":MAILTO:reception@wynyardhall.co.uk
END:VEVENT
BEGIN:VEVENT
DTSTART;TZID=Europe/London:20280416T090000
DTEND;TZID=Europe/London:20280416T140000
DTSTAMP:20260420T110206
CREATED:20251202T095232Z
LAST-MODIFIED:20260304T110806Z
UID:10001643-1839488400-1839506400@wynyardmatters.org
SUMMARY:Wynyard Farmers Market
DESCRIPTION:
URL:https://wynyardmatters.org/event/wynyard-farmers-market-11/2028-04-16/
LOCATION:Wynyard Hall Walled Gardens\, Wynyard Road\, Wynyard\, Stockton-on-Tees\, TS22 5NG\, United Kingdom
CATEGORIES:Monthly
ORGANIZER;CN="Wynyard Hall":MAILTO:reception@wynyardhall.co.uk
END:VEVENT
BEGIN:VEVENT
DTSTART;TZID=Europe/London:20280521T090000
DTEND;TZID=Europe/London:20280521T140000
DTSTAMP:20260420T110206
CREATED:20251202T095232Z
LAST-MODIFIED:20260304T110806Z
UID:10001644-1842512400-1842530400@wynyardmatters.org
SUMMARY:Wynyard Farmers Market
DESCRIPTION:
URL:https://wynyardmatters.org/event/wynyard-farmers-market-11/2028-05-21/
LOCATION:Wynyard Hall Walled Gardens\, Wynyard Road\, Wynyard\, Stockton-on-Tees\, TS22 5NG\, United Kingdom
CATEGORIES:Monthly
ORGANIZER;CN="Wynyard Hall":MAILTO:reception@wynyardhall.co.uk
END:VEVENT
BEGIN:VEVENT
DTSTART;TZID=Europe/London:20280618T090000
DTEND;TZID=Europe/London:20280618T140000
DTSTAMP:20260420T110206
CREATED:20251202T095232Z
LAST-MODIFIED:20260304T110806Z
UID:10001645-1844931600-1844949600@wynyardmatters.org
SUMMARY:Wynyard Farmers Market
DESCRIPTION:
URL:https://wynyardmatters.org/event/wynyard-farmers-market-11/2028-06-18/
LOCATION:Wynyard Hall Walled Gardens\, Wynyard Road\, Wynyard\, Stockton-on-Tees\, TS22 5NG\, United Kingdom
CATEGORIES:Monthly
ORGANIZER;CN="Wynyard Hall":MAILTO:reception@wynyardhall.co.uk
END:VEVENT
BEGIN:VEVENT
DTSTART;TZID=Europe/London:20280716T090000
DTEND;TZID=Europe/London:20280716T140000
DTSTAMP:20260420T110206
CREATED:20251202T095232Z
LAST-MODIFIED:20260304T110806Z
UID:10001646-1847350800-1847368800@wynyardmatters.org
SUMMARY:Wynyard Farmers Market
DESCRIPTION:
URL:https://wynyardmatters.org/event/wynyard-farmers-market-11/2028-07-16/
LOCATION:Wynyard Hall Walled Gardens\, Wynyard Road\, Wynyard\, Stockton-on-Tees\, TS22 5NG\, United Kingdom
CATEGORIES:Monthly
ORGANIZER;CN="Wynyard Hall":MAILTO:reception@wynyardhall.co.uk
END:VEVENT
BEGIN:VEVENT
DTSTART;TZID=Europe/London:20280820T090000
DTEND;TZID=Europe/London:20280820T140000
DTSTAMP:20260420T110206
CREATED:20251202T095232Z
LAST-MODIFIED:20260304T110806Z
UID:10001647-1850374800-1850392800@wynyardmatters.org
SUMMARY:Wynyard Farmers Market
DESCRIPTION:
URL:https://wynyardmatters.org/event/wynyard-farmers-market-11/2028-08-20/
LOCATION:Wynyard Hall Walled Gardens\, Wynyard Road\, Wynyard\, Stockton-on-Tees\, TS22 5NG\, United Kingdom
CATEGORIES:Monthly
ORGANIZER;CN="Wynyard Hall":MAILTO:reception@wynyardhall.co.uk
END:VEVENT
BEGIN:VEVENT
DTSTART;TZID=Europe/London:20280917T090000
DTEND;TZID=Europe/London:20280917T140000
DTSTAMP:20260420T110206
CREATED:20251202T095232Z
LAST-MODIFIED:20260304T110806Z
UID:10001648-1852794000-1852812000@wynyardmatters.org
SUMMARY:Wynyard Farmers Market
DESCRIPTION:
URL:https://wynyardmatters.org/event/wynyard-farmers-market-11/2028-09-17/
LOCATION:Wynyard Hall Walled Gardens\, Wynyard Road\, Wynyard\, Stockton-on-Tees\, TS22 5NG\, United Kingdom
CATEGORIES:Monthly
ORGANIZER;CN="Wynyard Hall":MAILTO:reception@wynyardhall.co.uk
END:VEVENT
BEGIN:VEVENT
DTSTART;TZID=Europe/London:20281015T090000
DTEND;TZID=Europe/London:20281015T140000
DTSTAMP:20260420T110206
CREATED:20251202T095232Z
LAST-MODIFIED:20260304T110806Z
UID:10001649-1855213200-1855231200@wynyardmatters.org
SUMMARY:Wynyard Farmers Market
DESCRIPTION:
URL:https://wynyardmatters.org/event/wynyard-farmers-market-11/2028-10-15/
LOCATION:Wynyard Hall Walled Gardens\, Wynyard Road\, Wynyard\, Stockton-on-Tees\, TS22 5NG\, United Kingdom
CATEGORIES:Monthly
ORGANIZER;CN="Wynyard Hall":MAILTO:reception@wynyardhall.co.uk
END:VEVENT
BEGIN:VEVENT
DTSTART;TZID=Europe/London:20281119T090000
DTEND;TZID=Europe/London:20281119T140000
DTSTAMP:20260420T110206
CREATED:20251202T095232Z
LAST-MODIFIED:20260304T110806Z
UID:10001650-1858237200-1858255200@wynyardmatters.org
SUMMARY:Wynyard Farmers Market
DESCRIPTION:
URL:https://wynyardmatters.org/event/wynyard-farmers-market-11/2028-11-19/
LOCATION:Wynyard Hall Walled Gardens\, Wynyard Road\, Wynyard\, Stockton-on-Tees\, TS22 5NG\, United Kingdom
CATEGORIES:Monthly
ORGANIZER;CN="Wynyard Hall":MAILTO:reception@wynyardhall.co.uk
END:VEVENT
BEGIN:VEVENT
DTSTART;TZID=Europe/London:20281217T090000
DTEND;TZID=Europe/London:20281217T140000
DTSTAMP:20260420T110206
CREATED:20251202T095232Z
LAST-MODIFIED:20260304T110806Z
UID:10001651-1860656400-1860674400@wynyardmatters.org
SUMMARY:Wynyard Farmers Market
DESCRIPTION:
URL:https://wynyardmatters.org/event/wynyard-farmers-market-11/2028-12-17/
LOCATION:Wynyard Hall Walled Gardens\, Wynyard Road\, Wynyard\, Stockton-on-Tees\, TS22 5NG\, United Kingdom
CATEGORIES:Monthly
ORGANIZER;CN="Wynyard Hall":MAILTO:reception@wynyardhall.co.uk
END:VEVENT
BEGIN:VEVENT
DTSTART;TZID=Europe/London:20290121T090000
DTEND;TZID=Europe/London:20290121T140000
DTSTAMP:20260420T110206
CREATED:20251202T095232Z
LAST-MODIFIED:20260304T110806Z
UID:10001652-1863680400-1863698400@wynyardmatters.org
SUMMARY:Wynyard Farmers Market
DESCRIPTION:
URL:https://wynyardmatters.org/event/wynyard-farmers-market-11/2029-01-21/
LOCATION:Wynyard Hall Walled Gardens\, Wynyard Road\, Wynyard\, Stockton-on-Tees\, TS22 5NG\, United Kingdom
CATEGORIES:Monthly
ORGANIZER;CN="Wynyard Hall":MAILTO:reception@wynyardhall.co.uk
END:VEVENT
BEGIN:VEVENT
DTSTART;TZID=Europe/London:20290218T090000
DTEND;TZID=Europe/London:20290218T140000
DTSTAMP:20260420T110206
CREATED:20251202T095232Z
LAST-MODIFIED:20260304T110806Z
UID:10001653-1866099600-1866117600@wynyardmatters.org
SUMMARY:Wynyard Farmers Market
DESCRIPTION:
URL:https://wynyardmatters.org/event/wynyard-farmers-market-11/2029-02-18/
LOCATION:Wynyard Hall Walled Gardens\, Wynyard Road\, Wynyard\, Stockton-on-Tees\, TS22 5NG\, United Kingdom
CATEGORIES:Monthly
ORGANIZER;CN="Wynyard Hall":MAILTO:reception@wynyardhall.co.uk
END:VEVENT
BEGIN:VEVENT
DTSTART;TZID=Europe/London:20290318T090000
DTEND;TZID=Europe/London:20290318T140000
DTSTAMP:20260420T110206
CREATED:20251202T095232Z
LAST-MODIFIED:20260304T110806Z
UID:10001654-1868518800-1868536800@wynyardmatters.org
SUMMARY:Wynyard Farmers Market
DESCRIPTION:
URL:https://wynyardmatters.org/event/wynyard-farmers-market-11/2029-03-18/
LOCATION:Wynyard Hall Walled Gardens\, Wynyard Road\, Wynyard\, Stockton-on-Tees\, TS22 5NG\, United Kingdom
CATEGORIES:Monthly
ORGANIZER;CN="Wynyard Hall":MAILTO:reception@wynyardhall.co.uk
END:VEVENT
BEGIN:VEVENT
DTSTART;TZID=Europe/London:20290415T090000
DTEND;TZID=Europe/London:20290415T140000
DTSTAMP:20260420T110206
CREATED:20251202T095232Z
LAST-MODIFIED:20260304T110806Z
UID:10001655-1870938000-1870956000@wynyardmatters.org
SUMMARY:Wynyard Farmers Market
DESCRIPTION:
URL:https://wynyardmatters.org/event/wynyard-farmers-market-11/2029-04-15/
LOCATION:Wynyard Hall Walled Gardens\, Wynyard Road\, Wynyard\, Stockton-on-Tees\, TS22 5NG\, United Kingdom
CATEGORIES:Monthly
ORGANIZER;CN="Wynyard Hall":MAILTO:reception@wynyardhall.co.uk
END:VEVENT
BEGIN:VEVENT
DTSTART;TZID=Europe/London:20290520T090000
DTEND;TZID=Europe/London:20290520T140000
DTSTAMP:20260420T110206
CREATED:20251202T095232Z
LAST-MODIFIED:20260304T110806Z
UID:10001656-1873962000-1873980000@wynyardmatters.org
SUMMARY:Wynyard Farmers Market
DESCRIPTION:
URL:https://wynyardmatters.org/event/wynyard-farmers-market-11/2029-05-20/
LOCATION:Wynyard Hall Walled Gardens\, Wynyard Road\, Wynyard\, Stockton-on-Tees\, TS22 5NG\, United Kingdom
CATEGORIES:Monthly
ORGANIZER;CN="Wynyard Hall":MAILTO:reception@wynyardhall.co.uk
END:VEVENT
BEGIN:VEVENT
DTSTART;TZID=Europe/London:20290617T090000
DTEND;TZID=Europe/London:20290617T140000
DTSTAMP:20260420T110206
CREATED:20251202T095232Z
LAST-MODIFIED:20260304T110806Z
UID:10001657-1876381200-1876399200@wynyardmatters.org
SUMMARY:Wynyard Farmers Market
DESCRIPTION:
URL:https://wynyardmatters.org/event/wynyard-farmers-market-11/2029-06-17/
LOCATION:Wynyard Hall Walled Gardens\, Wynyard Road\, Wynyard\, Stockton-on-Tees\, TS22 5NG\, United Kingdom
CATEGORIES:Monthly
ORGANIZER;CN="Wynyard Hall":MAILTO:reception@wynyardhall.co.uk
END:VEVENT
BEGIN:VEVENT
DTSTART;TZID=Europe/London:20290715T090000
DTEND;TZID=Europe/London:20290715T140000
DTSTAMP:20260420T110206
CREATED:20251202T095232Z
LAST-MODIFIED:20260304T110806Z
UID:10001658-1878800400-1878818400@wynyardmatters.org
SUMMARY:Wynyard Farmers Market
DESCRIPTION:
URL:https://wynyardmatters.org/event/wynyard-farmers-market-11/2029-07-15/
LOCATION:Wynyard Hall Walled Gardens\, Wynyard Road\, Wynyard\, Stockton-on-Tees\, TS22 5NG\, United Kingdom
CATEGORIES:Monthly
ORGANIZER;CN="Wynyard Hall":MAILTO:reception@wynyardhall.co.uk
END:VEVENT
BEGIN:VEVENT
DTSTART;TZID=Europe/London:20290819T090000
DTEND;TZID=Europe/London:20290819T140000
DTSTAMP:20260420T110206
CREATED:20251202T095232Z
LAST-MODIFIED:20260304T110806Z
UID:10001659-1881824400-1881842400@wynyardmatters.org
SUMMARY:Wynyard Farmers Market
DESCRIPTION:
URL:https://wynyardmatters.org/event/wynyard-farmers-market-11/2029-08-19/
LOCATION:Wynyard Hall Walled Gardens\, Wynyard Road\, Wynyard\, Stockton-on-Tees\, TS22 5NG\, United Kingdom
CATEGORIES:Monthly
ORGANIZER;CN="Wynyard Hall":MAILTO:reception@wynyardhall.co.uk
END:VEVENT
END:VCALENDAR