BEGIN:VCALENDAR
VERSION:2.0
PRODID:-//Wynyard Matters - ECPv6.15.20//NONSGML v1.0//EN
CALSCALE:GREGORIAN
METHOD:PUBLISH
X-ORIGINAL-URL:https://wynyardmatters.org
X-WR-CALDESC:Events for Wynyard Matters
REFRESH-INTERVAL;VALUE=DURATION:PT1H
X-Robots-Tag:noindex
X-PUBLISHED-TTL:PT1H
BEGIN:VTIMEZONE
TZID:Europe/London
BEGIN:DAYLIGHT
TZOFFSETFROM:+0000
TZOFFSETTO:+0100
TZNAME:BST
DTSTART:20250330T010000
END:DAYLIGHT
BEGIN:STANDARD
TZOFFSETFROM:+0100
TZOFFSETTO:+0000
TZNAME:GMT
DTSTART:20251026T010000
END:STANDARD
BEGIN:DAYLIGHT
TZOFFSETFROM:+0000
TZOFFSETTO:+0100
TZNAME:BST
DTSTART:20260329T010000
END:DAYLIGHT
BEGIN:STANDARD
TZOFFSETFROM:+0100
TZOFFSETTO:+0000
TZNAME:GMT
DTSTART:20261025T010000
END:STANDARD
BEGIN:DAYLIGHT
TZOFFSETFROM:+0000
TZOFFSETTO:+0100
TZNAME:BST
DTSTART:20270328T010000
END:DAYLIGHT
BEGIN:STANDARD
TZOFFSETFROM:+0100
TZOFFSETTO:+0000
TZNAME:GMT
DTSTART:20271031T010000
END:STANDARD
BEGIN:DAYLIGHT
TZOFFSETFROM:+0000
TZOFFSETTO:+0100
TZNAME:BST
DTSTART:20280326T010000
END:DAYLIGHT
BEGIN:STANDARD
TZOFFSETFROM:+0100
TZOFFSETTO:+0000
TZNAME:GMT
DTSTART:20281029T010000
END:STANDARD
END:VTIMEZONE
BEGIN:VEVENT
DTSTART;TZID=Europe/London:20260430T143000
DTEND;TZID=Europe/London:20260430T150000
DTSTAMP:20260420T143423
CREATED:20251202T100100Z
LAST-MODIFIED:20260304T110210Z
UID:10001469-1777559400-1777561200@wynyardmatters.org
SUMMARY:Library Van
DESCRIPTION:The Mobile Library visits the parts of the Borough where there is no static community library within easy reach. \nThe Mobile Library carries a range of materials but on a smaller scale than a community library. It operates on a 3-weekly schedule\, visiting on a set day and time and at a designated place. \nCome for a cuppa in the pub after!
URL:https://wynyardmatters.org/event/library-van-14/2026-04-30/
LOCATION:The Stables Car Park\, 138 The Stables\, Wynyard\, Stockton-on-Tees\, TS22 5QQ\, United Kingdom
CATEGORIES:Community
ORGANIZER;CN="Stockton Borough Council":MAILTO:mobilelibrary.services@stockton.gov.uk
END:VEVENT
BEGIN:VEVENT
DTSTART;TZID=Europe/London:20260521T143000
DTEND;TZID=Europe/London:20260521T150000
DTSTAMP:20260420T143423
CREATED:20251202T100100Z
LAST-MODIFIED:20260304T110210Z
UID:10001470-1779373800-1779375600@wynyardmatters.org
SUMMARY:Library Van
DESCRIPTION:The Mobile Library visits the parts of the Borough where there is no static community library within easy reach. \nThe Mobile Library carries a range of materials but on a smaller scale than a community library. It operates on a 3-weekly schedule\, visiting on a set day and time and at a designated place. \nCome for a cuppa in the pub after!
URL:https://wynyardmatters.org/event/library-van-14/2026-05-21/
LOCATION:The Stables Car Park\, 138 The Stables\, Wynyard\, Stockton-on-Tees\, TS22 5QQ\, United Kingdom
CATEGORIES:Community
ORGANIZER;CN="Stockton Borough Council":MAILTO:mobilelibrary.services@stockton.gov.uk
END:VEVENT
BEGIN:VEVENT
DTSTART;TZID=Europe/London:20260611T143000
DTEND;TZID=Europe/London:20260611T150000
DTSTAMP:20260420T143423
CREATED:20251202T100100Z
LAST-MODIFIED:20260304T110210Z
UID:10001471-1781188200-1781190000@wynyardmatters.org
SUMMARY:Library Van
DESCRIPTION:The Mobile Library visits the parts of the Borough where there is no static community library within easy reach. \nThe Mobile Library carries a range of materials but on a smaller scale than a community library. It operates on a 3-weekly schedule\, visiting on a set day and time and at a designated place. \nCome for a cuppa in the pub after!
URL:https://wynyardmatters.org/event/library-van-14/2026-06-11/
LOCATION:The Stables Car Park\, 138 The Stables\, Wynyard\, Stockton-on-Tees\, TS22 5QQ\, United Kingdom
CATEGORIES:Community
ORGANIZER;CN="Stockton Borough Council":MAILTO:mobilelibrary.services@stockton.gov.uk
END:VEVENT
BEGIN:VEVENT
DTSTART;TZID=Europe/London:20260702T143000
DTEND;TZID=Europe/London:20260702T150000
DTSTAMP:20260420T143423
CREATED:20251202T100100Z
LAST-MODIFIED:20260304T110210Z
UID:10001472-1783002600-1783004400@wynyardmatters.org
SUMMARY:Library Van
DESCRIPTION:The Mobile Library visits the parts of the Borough where there is no static community library within easy reach. \nThe Mobile Library carries a range of materials but on a smaller scale than a community library. It operates on a 3-weekly schedule\, visiting on a set day and time and at a designated place. \nCome for a cuppa in the pub after!
URL:https://wynyardmatters.org/event/library-van-14/2026-07-02/
LOCATION:The Stables Car Park\, 138 The Stables\, Wynyard\, Stockton-on-Tees\, TS22 5QQ\, United Kingdom
CATEGORIES:Community
ORGANIZER;CN="Stockton Borough Council":MAILTO:mobilelibrary.services@stockton.gov.uk
END:VEVENT
BEGIN:VEVENT
DTSTART;TZID=Europe/London:20260723T143000
DTEND;TZID=Europe/London:20260723T150000
DTSTAMP:20260420T143423
CREATED:20251202T100100Z
LAST-MODIFIED:20260304T110210Z
UID:10001473-1784817000-1784818800@wynyardmatters.org
SUMMARY:Library Van
DESCRIPTION:The Mobile Library visits the parts of the Borough where there is no static community library within easy reach. \nThe Mobile Library carries a range of materials but on a smaller scale than a community library. It operates on a 3-weekly schedule\, visiting on a set day and time and at a designated place. \nCome for a cuppa in the pub after!
URL:https://wynyardmatters.org/event/library-van-14/2026-07-23/
LOCATION:The Stables Car Park\, 138 The Stables\, Wynyard\, Stockton-on-Tees\, TS22 5QQ\, United Kingdom
CATEGORIES:Community
ORGANIZER;CN="Stockton Borough Council":MAILTO:mobilelibrary.services@stockton.gov.uk
END:VEVENT
BEGIN:VEVENT
DTSTART;TZID=Europe/London:20260813T143000
DTEND;TZID=Europe/London:20260813T150000
DTSTAMP:20260420T143423
CREATED:20251202T100100Z
LAST-MODIFIED:20260304T110210Z
UID:10001474-1786631400-1786633200@wynyardmatters.org
SUMMARY:Library Van
DESCRIPTION:The Mobile Library visits the parts of the Borough where there is no static community library within easy reach. \nThe Mobile Library carries a range of materials but on a smaller scale than a community library. It operates on a 3-weekly schedule\, visiting on a set day and time and at a designated place. \nCome for a cuppa in the pub after!
URL:https://wynyardmatters.org/event/library-van-14/2026-08-13/
LOCATION:The Stables Car Park\, 138 The Stables\, Wynyard\, Stockton-on-Tees\, TS22 5QQ\, United Kingdom
CATEGORIES:Community
ORGANIZER;CN="Stockton Borough Council":MAILTO:mobilelibrary.services@stockton.gov.uk
END:VEVENT
BEGIN:VEVENT
DTSTART;TZID=Europe/London:20260903T143000
DTEND;TZID=Europe/London:20260903T150000
DTSTAMP:20260420T143423
CREATED:20251202T100100Z
LAST-MODIFIED:20260304T110210Z
UID:10001475-1788445800-1788447600@wynyardmatters.org
SUMMARY:Library Van
DESCRIPTION:The Mobile Library visits the parts of the Borough where there is no static community library within easy reach. \nThe Mobile Library carries a range of materials but on a smaller scale than a community library. It operates on a 3-weekly schedule\, visiting on a set day and time and at a designated place. \nCome for a cuppa in the pub after!
URL:https://wynyardmatters.org/event/library-van-14/2026-09-03/
LOCATION:The Stables Car Park\, 138 The Stables\, Wynyard\, Stockton-on-Tees\, TS22 5QQ\, United Kingdom
CATEGORIES:Community
ORGANIZER;CN="Stockton Borough Council":MAILTO:mobilelibrary.services@stockton.gov.uk
END:VEVENT
BEGIN:VEVENT
DTSTART;TZID=Europe/London:20260924T143000
DTEND;TZID=Europe/London:20260924T150000
DTSTAMP:20260420T143423
CREATED:20251202T100100Z
LAST-MODIFIED:20260304T110210Z
UID:10001476-1790260200-1790262000@wynyardmatters.org
SUMMARY:Library Van
DESCRIPTION:The Mobile Library visits the parts of the Borough where there is no static community library within easy reach. \nThe Mobile Library carries a range of materials but on a smaller scale than a community library. It operates on a 3-weekly schedule\, visiting on a set day and time and at a designated place. \nCome for a cuppa in the pub after!
URL:https://wynyardmatters.org/event/library-van-14/2026-09-24/
LOCATION:The Stables Car Park\, 138 The Stables\, Wynyard\, Stockton-on-Tees\, TS22 5QQ\, United Kingdom
CATEGORIES:Community
ORGANIZER;CN="Stockton Borough Council":MAILTO:mobilelibrary.services@stockton.gov.uk
END:VEVENT
BEGIN:VEVENT
DTSTART;TZID=Europe/London:20261015T143000
DTEND;TZID=Europe/London:20261015T150000
DTSTAMP:20260420T143423
CREATED:20251202T100100Z
LAST-MODIFIED:20260304T110210Z
UID:10001477-1792074600-1792076400@wynyardmatters.org
SUMMARY:Library Van
DESCRIPTION:The Mobile Library visits the parts of the Borough where there is no static community library within easy reach. \nThe Mobile Library carries a range of materials but on a smaller scale than a community library. It operates on a 3-weekly schedule\, visiting on a set day and time and at a designated place. \nCome for a cuppa in the pub after!
URL:https://wynyardmatters.org/event/library-van-14/2026-10-15/
LOCATION:The Stables Car Park\, 138 The Stables\, Wynyard\, Stockton-on-Tees\, TS22 5QQ\, United Kingdom
CATEGORIES:Community
ORGANIZER;CN="Stockton Borough Council":MAILTO:mobilelibrary.services@stockton.gov.uk
END:VEVENT
BEGIN:VEVENT
DTSTART;TZID=Europe/London:20261105T143000
DTEND;TZID=Europe/London:20261105T150000
DTSTAMP:20260420T143423
CREATED:20251202T100100Z
LAST-MODIFIED:20260304T110210Z
UID:10001478-1793889000-1793890800@wynyardmatters.org
SUMMARY:Library Van
DESCRIPTION:The Mobile Library visits the parts of the Borough where there is no static community library within easy reach. \nThe Mobile Library carries a range of materials but on a smaller scale than a community library. It operates on a 3-weekly schedule\, visiting on a set day and time and at a designated place. \nCome for a cuppa in the pub after!
URL:https://wynyardmatters.org/event/library-van-14/2026-11-05/
LOCATION:The Stables Car Park\, 138 The Stables\, Wynyard\, Stockton-on-Tees\, TS22 5QQ\, United Kingdom
CATEGORIES:Community
ORGANIZER;CN="Stockton Borough Council":MAILTO:mobilelibrary.services@stockton.gov.uk
END:VEVENT
BEGIN:VEVENT
DTSTART;TZID=Europe/London:20261126T143000
DTEND;TZID=Europe/London:20261126T150000
DTSTAMP:20260420T143423
CREATED:20251202T100100Z
LAST-MODIFIED:20260304T110210Z
UID:10001479-1795703400-1795705200@wynyardmatters.org
SUMMARY:Library Van
DESCRIPTION:The Mobile Library visits the parts of the Borough where there is no static community library within easy reach. \nThe Mobile Library carries a range of materials but on a smaller scale than a community library. It operates on a 3-weekly schedule\, visiting on a set day and time and at a designated place. \nCome for a cuppa in the pub after!
URL:https://wynyardmatters.org/event/library-van-14/2026-11-26/
LOCATION:The Stables Car Park\, 138 The Stables\, Wynyard\, Stockton-on-Tees\, TS22 5QQ\, United Kingdom
CATEGORIES:Community
ORGANIZER;CN="Stockton Borough Council":MAILTO:mobilelibrary.services@stockton.gov.uk
END:VEVENT
BEGIN:VEVENT
DTSTART;TZID=Europe/London:20261217T143000
DTEND;TZID=Europe/London:20261217T150000
DTSTAMP:20260420T143423
CREATED:20251202T100100Z
LAST-MODIFIED:20260304T110210Z
UID:10001480-1797517800-1797519600@wynyardmatters.org
SUMMARY:Library Van
DESCRIPTION:The Mobile Library visits the parts of the Borough where there is no static community library within easy reach. \nThe Mobile Library carries a range of materials but on a smaller scale than a community library. It operates on a 3-weekly schedule\, visiting on a set day and time and at a designated place. \nCome for a cuppa in the pub after!
URL:https://wynyardmatters.org/event/library-van-14/2026-12-17/
LOCATION:The Stables Car Park\, 138 The Stables\, Wynyard\, Stockton-on-Tees\, TS22 5QQ\, United Kingdom
CATEGORIES:Community
ORGANIZER;CN="Stockton Borough Council":MAILTO:mobilelibrary.services@stockton.gov.uk
END:VEVENT
BEGIN:VEVENT
DTSTART;TZID=Europe/London:20270107T143000
DTEND;TZID=Europe/London:20270107T150000
DTSTAMP:20260420T143423
CREATED:20251202T100100Z
LAST-MODIFIED:20260304T110210Z
UID:10001481-1799332200-1799334000@wynyardmatters.org
SUMMARY:Library Van
DESCRIPTION:The Mobile Library visits the parts of the Borough where there is no static community library within easy reach. \nThe Mobile Library carries a range of materials but on a smaller scale than a community library. It operates on a 3-weekly schedule\, visiting on a set day and time and at a designated place. \nCome for a cuppa in the pub after!
URL:https://wynyardmatters.org/event/library-van-14/2027-01-07/
LOCATION:The Stables Car Park\, 138 The Stables\, Wynyard\, Stockton-on-Tees\, TS22 5QQ\, United Kingdom
CATEGORIES:Community
ORGANIZER;CN="Stockton Borough Council":MAILTO:mobilelibrary.services@stockton.gov.uk
END:VEVENT
BEGIN:VEVENT
DTSTART;TZID=Europe/London:20270128T143000
DTEND;TZID=Europe/London:20270128T150000
DTSTAMP:20260420T143423
CREATED:20251202T100100Z
LAST-MODIFIED:20260304T110210Z
UID:10001482-1801146600-1801148400@wynyardmatters.org
SUMMARY:Library Van
DESCRIPTION:The Mobile Library visits the parts of the Borough where there is no static community library within easy reach. \nThe Mobile Library carries a range of materials but on a smaller scale than a community library. It operates on a 3-weekly schedule\, visiting on a set day and time and at a designated place. \nCome for a cuppa in the pub after!
URL:https://wynyardmatters.org/event/library-van-14/2027-01-28/
LOCATION:The Stables Car Park\, 138 The Stables\, Wynyard\, Stockton-on-Tees\, TS22 5QQ\, United Kingdom
CATEGORIES:Community
ORGANIZER;CN="Stockton Borough Council":MAILTO:mobilelibrary.services@stockton.gov.uk
END:VEVENT
BEGIN:VEVENT
DTSTART;TZID=Europe/London:20270218T143000
DTEND;TZID=Europe/London:20270218T150000
DTSTAMP:20260420T143423
CREATED:20251202T100100Z
LAST-MODIFIED:20260304T110210Z
UID:10001483-1802961000-1802962800@wynyardmatters.org
SUMMARY:Library Van
DESCRIPTION:The Mobile Library visits the parts of the Borough where there is no static community library within easy reach. \nThe Mobile Library carries a range of materials but on a smaller scale than a community library. It operates on a 3-weekly schedule\, visiting on a set day and time and at a designated place. \nCome for a cuppa in the pub after!
URL:https://wynyardmatters.org/event/library-van-14/2027-02-18/
LOCATION:The Stables Car Park\, 138 The Stables\, Wynyard\, Stockton-on-Tees\, TS22 5QQ\, United Kingdom
CATEGORIES:Community
ORGANIZER;CN="Stockton Borough Council":MAILTO:mobilelibrary.services@stockton.gov.uk
END:VEVENT
BEGIN:VEVENT
DTSTART;TZID=Europe/London:20270311T143000
DTEND;TZID=Europe/London:20270311T150000
DTSTAMP:20260420T143423
CREATED:20251202T100100Z
LAST-MODIFIED:20260304T110210Z
UID:10001484-1804775400-1804777200@wynyardmatters.org
SUMMARY:Library Van
DESCRIPTION:The Mobile Library visits the parts of the Borough where there is no static community library within easy reach. \nThe Mobile Library carries a range of materials but on a smaller scale than a community library. It operates on a 3-weekly schedule\, visiting on a set day and time and at a designated place. \nCome for a cuppa in the pub after!
URL:https://wynyardmatters.org/event/library-van-14/2027-03-11/
LOCATION:The Stables Car Park\, 138 The Stables\, Wynyard\, Stockton-on-Tees\, TS22 5QQ\, United Kingdom
CATEGORIES:Community
ORGANIZER;CN="Stockton Borough Council":MAILTO:mobilelibrary.services@stockton.gov.uk
END:VEVENT
BEGIN:VEVENT
DTSTART;TZID=Europe/London:20270401T143000
DTEND;TZID=Europe/London:20270401T150000
DTSTAMP:20260420T143423
CREATED:20251202T100100Z
LAST-MODIFIED:20260304T110210Z
UID:10001485-1806589800-1806591600@wynyardmatters.org
SUMMARY:Library Van
DESCRIPTION:The Mobile Library visits the parts of the Borough where there is no static community library within easy reach. \nThe Mobile Library carries a range of materials but on a smaller scale than a community library. It operates on a 3-weekly schedule\, visiting on a set day and time and at a designated place. \nCome for a cuppa in the pub after!
URL:https://wynyardmatters.org/event/library-van-14/2027-04-01/
LOCATION:The Stables Car Park\, 138 The Stables\, Wynyard\, Stockton-on-Tees\, TS22 5QQ\, United Kingdom
CATEGORIES:Community
ORGANIZER;CN="Stockton Borough Council":MAILTO:mobilelibrary.services@stockton.gov.uk
END:VEVENT
BEGIN:VEVENT
DTSTART;TZID=Europe/London:20270422T143000
DTEND;TZID=Europe/London:20270422T150000
DTSTAMP:20260420T143423
CREATED:20251202T100100Z
LAST-MODIFIED:20260304T110210Z
UID:10001486-1808404200-1808406000@wynyardmatters.org
SUMMARY:Library Van
DESCRIPTION:The Mobile Library visits the parts of the Borough where there is no static community library within easy reach. \nThe Mobile Library carries a range of materials but on a smaller scale than a community library. It operates on a 3-weekly schedule\, visiting on a set day and time and at a designated place. \nCome for a cuppa in the pub after!
URL:https://wynyardmatters.org/event/library-van-14/2027-04-22/
LOCATION:The Stables Car Park\, 138 The Stables\, Wynyard\, Stockton-on-Tees\, TS22 5QQ\, United Kingdom
CATEGORIES:Community
ORGANIZER;CN="Stockton Borough Council":MAILTO:mobilelibrary.services@stockton.gov.uk
END:VEVENT
BEGIN:VEVENT
DTSTART;TZID=Europe/London:20270513T143000
DTEND;TZID=Europe/London:20270513T150000
DTSTAMP:20260420T143423
CREATED:20251202T100100Z
LAST-MODIFIED:20260304T110210Z
UID:10001487-1810218600-1810220400@wynyardmatters.org
SUMMARY:Library Van
DESCRIPTION:The Mobile Library visits the parts of the Borough where there is no static community library within easy reach. \nThe Mobile Library carries a range of materials but on a smaller scale than a community library. It operates on a 3-weekly schedule\, visiting on a set day and time and at a designated place. \nCome for a cuppa in the pub after!
URL:https://wynyardmatters.org/event/library-van-14/2027-05-13/
LOCATION:The Stables Car Park\, 138 The Stables\, Wynyard\, Stockton-on-Tees\, TS22 5QQ\, United Kingdom
CATEGORIES:Community
ORGANIZER;CN="Stockton Borough Council":MAILTO:mobilelibrary.services@stockton.gov.uk
END:VEVENT
BEGIN:VEVENT
DTSTART;TZID=Europe/London:20270603T143000
DTEND;TZID=Europe/London:20270603T150000
DTSTAMP:20260420T143423
CREATED:20251202T100100Z
LAST-MODIFIED:20260304T110210Z
UID:10001488-1812033000-1812034800@wynyardmatters.org
SUMMARY:Library Van
DESCRIPTION:The Mobile Library visits the parts of the Borough where there is no static community library within easy reach. \nThe Mobile Library carries a range of materials but on a smaller scale than a community library. It operates on a 3-weekly schedule\, visiting on a set day and time and at a designated place. \nCome for a cuppa in the pub after!
URL:https://wynyardmatters.org/event/library-van-14/2027-06-03/
LOCATION:The Stables Car Park\, 138 The Stables\, Wynyard\, Stockton-on-Tees\, TS22 5QQ\, United Kingdom
CATEGORIES:Community
ORGANIZER;CN="Stockton Borough Council":MAILTO:mobilelibrary.services@stockton.gov.uk
END:VEVENT
BEGIN:VEVENT
DTSTART;TZID=Europe/London:20270624T143000
DTEND;TZID=Europe/London:20270624T150000
DTSTAMP:20260420T143423
CREATED:20251202T100100Z
LAST-MODIFIED:20260304T110210Z
UID:10001489-1813847400-1813849200@wynyardmatters.org
SUMMARY:Library Van
DESCRIPTION:The Mobile Library visits the parts of the Borough where there is no static community library within easy reach. \nThe Mobile Library carries a range of materials but on a smaller scale than a community library. It operates on a 3-weekly schedule\, visiting on a set day and time and at a designated place. \nCome for a cuppa in the pub after!
URL:https://wynyardmatters.org/event/library-van-14/2027-06-24/
LOCATION:The Stables Car Park\, 138 The Stables\, Wynyard\, Stockton-on-Tees\, TS22 5QQ\, United Kingdom
CATEGORIES:Community
ORGANIZER;CN="Stockton Borough Council":MAILTO:mobilelibrary.services@stockton.gov.uk
END:VEVENT
BEGIN:VEVENT
DTSTART;TZID=Europe/London:20270715T143000
DTEND;TZID=Europe/London:20270715T150000
DTSTAMP:20260420T143423
CREATED:20251202T100100Z
LAST-MODIFIED:20260304T110210Z
UID:10001490-1815661800-1815663600@wynyardmatters.org
SUMMARY:Library Van
DESCRIPTION:The Mobile Library visits the parts of the Borough where there is no static community library within easy reach. \nThe Mobile Library carries a range of materials but on a smaller scale than a community library. It operates on a 3-weekly schedule\, visiting on a set day and time and at a designated place. \nCome for a cuppa in the pub after!
URL:https://wynyardmatters.org/event/library-van-14/2027-07-15/
LOCATION:The Stables Car Park\, 138 The Stables\, Wynyard\, Stockton-on-Tees\, TS22 5QQ\, United Kingdom
CATEGORIES:Community
ORGANIZER;CN="Stockton Borough Council":MAILTO:mobilelibrary.services@stockton.gov.uk
END:VEVENT
BEGIN:VEVENT
DTSTART;TZID=Europe/London:20270805T143000
DTEND;TZID=Europe/London:20270805T150000
DTSTAMP:20260420T143423
CREATED:20251202T100100Z
LAST-MODIFIED:20260304T110210Z
UID:10001491-1817476200-1817478000@wynyardmatters.org
SUMMARY:Library Van
DESCRIPTION:The Mobile Library visits the parts of the Borough where there is no static community library within easy reach. \nThe Mobile Library carries a range of materials but on a smaller scale than a community library. It operates on a 3-weekly schedule\, visiting on a set day and time and at a designated place. \nCome for a cuppa in the pub after!
URL:https://wynyardmatters.org/event/library-van-14/2027-08-05/
LOCATION:The Stables Car Park\, 138 The Stables\, Wynyard\, Stockton-on-Tees\, TS22 5QQ\, United Kingdom
CATEGORIES:Community
ORGANIZER;CN="Stockton Borough Council":MAILTO:mobilelibrary.services@stockton.gov.uk
END:VEVENT
BEGIN:VEVENT
DTSTART;TZID=Europe/London:20270826T143000
DTEND;TZID=Europe/London:20270826T150000
DTSTAMP:20260420T143423
CREATED:20251202T100100Z
LAST-MODIFIED:20260304T110210Z
UID:10001492-1819290600-1819292400@wynyardmatters.org
SUMMARY:Library Van
DESCRIPTION:The Mobile Library visits the parts of the Borough where there is no static community library within easy reach. \nThe Mobile Library carries a range of materials but on a smaller scale than a community library. It operates on a 3-weekly schedule\, visiting on a set day and time and at a designated place. \nCome for a cuppa in the pub after!
URL:https://wynyardmatters.org/event/library-van-14/2027-08-26/
LOCATION:The Stables Car Park\, 138 The Stables\, Wynyard\, Stockton-on-Tees\, TS22 5QQ\, United Kingdom
CATEGORIES:Community
ORGANIZER;CN="Stockton Borough Council":MAILTO:mobilelibrary.services@stockton.gov.uk
END:VEVENT
BEGIN:VEVENT
DTSTART;TZID=Europe/London:20270916T143000
DTEND;TZID=Europe/London:20270916T150000
DTSTAMP:20260420T143423
CREATED:20251202T100100Z
LAST-MODIFIED:20260304T110210Z
UID:10001493-1821105000-1821106800@wynyardmatters.org
SUMMARY:Library Van
DESCRIPTION:The Mobile Library visits the parts of the Borough where there is no static community library within easy reach. \nThe Mobile Library carries a range of materials but on a smaller scale than a community library. It operates on a 3-weekly schedule\, visiting on a set day and time and at a designated place. \nCome for a cuppa in the pub after!
URL:https://wynyardmatters.org/event/library-van-14/2027-09-16/
LOCATION:The Stables Car Park\, 138 The Stables\, Wynyard\, Stockton-on-Tees\, TS22 5QQ\, United Kingdom
CATEGORIES:Community
ORGANIZER;CN="Stockton Borough Council":MAILTO:mobilelibrary.services@stockton.gov.uk
END:VEVENT
BEGIN:VEVENT
DTSTART;TZID=Europe/London:20271007T143000
DTEND;TZID=Europe/London:20271007T150000
DTSTAMP:20260420T143423
CREATED:20251202T100100Z
LAST-MODIFIED:20260304T110210Z
UID:10001494-1822919400-1822921200@wynyardmatters.org
SUMMARY:Library Van
DESCRIPTION:The Mobile Library visits the parts of the Borough where there is no static community library within easy reach. \nThe Mobile Library carries a range of materials but on a smaller scale than a community library. It operates on a 3-weekly schedule\, visiting on a set day and time and at a designated place. \nCome for a cuppa in the pub after!
URL:https://wynyardmatters.org/event/library-van-14/2027-10-07/
LOCATION:The Stables Car Park\, 138 The Stables\, Wynyard\, Stockton-on-Tees\, TS22 5QQ\, United Kingdom
CATEGORIES:Community
ORGANIZER;CN="Stockton Borough Council":MAILTO:mobilelibrary.services@stockton.gov.uk
END:VEVENT
BEGIN:VEVENT
DTSTART;TZID=Europe/London:20271028T143000
DTEND;TZID=Europe/London:20271028T150000
DTSTAMP:20260420T143423
CREATED:20251202T100100Z
LAST-MODIFIED:20260304T110210Z
UID:10001495-1824733800-1824735600@wynyardmatters.org
SUMMARY:Library Van
DESCRIPTION:The Mobile Library visits the parts of the Borough where there is no static community library within easy reach. \nThe Mobile Library carries a range of materials but on a smaller scale than a community library. It operates on a 3-weekly schedule\, visiting on a set day and time and at a designated place. \nCome for a cuppa in the pub after!
URL:https://wynyardmatters.org/event/library-van-14/2027-10-28/
LOCATION:The Stables Car Park\, 138 The Stables\, Wynyard\, Stockton-on-Tees\, TS22 5QQ\, United Kingdom
CATEGORIES:Community
ORGANIZER;CN="Stockton Borough Council":MAILTO:mobilelibrary.services@stockton.gov.uk
END:VEVENT
BEGIN:VEVENT
DTSTART;TZID=Europe/London:20271118T143000
DTEND;TZID=Europe/London:20271118T150000
DTSTAMP:20260420T143423
CREATED:20251202T100100Z
LAST-MODIFIED:20260304T110210Z
UID:10001496-1826548200-1826550000@wynyardmatters.org
SUMMARY:Library Van
DESCRIPTION:The Mobile Library visits the parts of the Borough where there is no static community library within easy reach. \nThe Mobile Library carries a range of materials but on a smaller scale than a community library. It operates on a 3-weekly schedule\, visiting on a set day and time and at a designated place. \nCome for a cuppa in the pub after!
URL:https://wynyardmatters.org/event/library-van-14/2027-11-18/
LOCATION:The Stables Car Park\, 138 The Stables\, Wynyard\, Stockton-on-Tees\, TS22 5QQ\, United Kingdom
CATEGORIES:Community
ORGANIZER;CN="Stockton Borough Council":MAILTO:mobilelibrary.services@stockton.gov.uk
END:VEVENT
BEGIN:VEVENT
DTSTART;TZID=Europe/London:20271209T143000
DTEND;TZID=Europe/London:20271209T150000
DTSTAMP:20260420T143423
CREATED:20251202T100100Z
LAST-MODIFIED:20260304T110210Z
UID:10001497-1828362600-1828364400@wynyardmatters.org
SUMMARY:Library Van
DESCRIPTION:The Mobile Library visits the parts of the Borough where there is no static community library within easy reach. \nThe Mobile Library carries a range of materials but on a smaller scale than a community library. It operates on a 3-weekly schedule\, visiting on a set day and time and at a designated place. \nCome for a cuppa in the pub after!
URL:https://wynyardmatters.org/event/library-van-14/2027-12-09/
LOCATION:The Stables Car Park\, 138 The Stables\, Wynyard\, Stockton-on-Tees\, TS22 5QQ\, United Kingdom
CATEGORIES:Community
ORGANIZER;CN="Stockton Borough Council":MAILTO:mobilelibrary.services@stockton.gov.uk
END:VEVENT
BEGIN:VEVENT
DTSTART;TZID=Europe/London:20271230T143000
DTEND;TZID=Europe/London:20271230T150000
DTSTAMP:20260420T143423
CREATED:20251202T100100Z
LAST-MODIFIED:20260304T110210Z
UID:10001498-1830177000-1830178800@wynyardmatters.org
SUMMARY:Library Van
DESCRIPTION:The Mobile Library visits the parts of the Borough where there is no static community library within easy reach. \nThe Mobile Library carries a range of materials but on a smaller scale than a community library. It operates on a 3-weekly schedule\, visiting on a set day and time and at a designated place. \nCome for a cuppa in the pub after!
URL:https://wynyardmatters.org/event/library-van-14/2027-12-30/
LOCATION:The Stables Car Park\, 138 The Stables\, Wynyard\, Stockton-on-Tees\, TS22 5QQ\, United Kingdom
CATEGORIES:Community
ORGANIZER;CN="Stockton Borough Council":MAILTO:mobilelibrary.services@stockton.gov.uk
END:VEVENT
END:VCALENDAR