BEGIN:VCALENDAR
VERSION:2.0
PRODID:-//Wynyard Matters - ECPv6.15.20//NONSGML v1.0//EN
CALSCALE:GREGORIAN
METHOD:PUBLISH
X-WR-CALNAME:Wynyard Matters
X-ORIGINAL-URL:https://wynyardmatters.org
X-WR-CALDESC:Events for Wynyard Matters
REFRESH-INTERVAL;VALUE=DURATION:PT1H
X-Robots-Tag:noindex
X-PUBLISHED-TTL:PT1H
BEGIN:VTIMEZONE
TZID:Europe/London
BEGIN:DAYLIGHT
TZOFFSETFROM:+0000
TZOFFSETTO:+0100
TZNAME:BST
DTSTART:20260329T010000
END:DAYLIGHT
BEGIN:STANDARD
TZOFFSETFROM:+0100
TZOFFSETTO:+0000
TZNAME:GMT
DTSTART:20261025T010000
END:STANDARD
BEGIN:DAYLIGHT
TZOFFSETFROM:+0000
TZOFFSETTO:+0100
TZNAME:BST
DTSTART:20270328T010000
END:DAYLIGHT
BEGIN:STANDARD
TZOFFSETFROM:+0100
TZOFFSETTO:+0000
TZNAME:GMT
DTSTART:20271031T010000
END:STANDARD
BEGIN:DAYLIGHT
TZOFFSETFROM:+0000
TZOFFSETTO:+0100
TZNAME:BST
DTSTART:20280326T010000
END:DAYLIGHT
BEGIN:STANDARD
TZOFFSETFROM:+0100
TZOFFSETTO:+0000
TZNAME:GMT
DTSTART:20281029T010000
END:STANDARD
BEGIN:DAYLIGHT
TZOFFSETFROM:+0000
TZOFFSETTO:+0100
TZNAME:BST
DTSTART:20290325T010000
END:DAYLIGHT
BEGIN:STANDARD
TZOFFSETFROM:+0100
TZOFFSETTO:+0000
TZNAME:GMT
DTSTART:20291028T010000
END:STANDARD
END:VTIMEZONE
BEGIN:VEVENT
DTSTART;TZID=Europe/London:20270622T100000
DTEND;TZID=Europe/London:20270622T120000
DTSTAMP:20260422T022226
CREATED:20260304T105003Z
LAST-MODIFIED:20260304T105003Z
UID:10000298-1813658400-1813665600@wynyardmatters.org
SUMMARY:Weekly Nordic Walking
DESCRIPTION:
URL:https://wynyardmatters.org/event/weekly-nordic-walking/2027-06-22/
LOCATION:The Stables Car Park\, 138 The Stables\, Wynyard\, Stockton-on-Tees\, TS22 5QQ\, United Kingdom
CATEGORIES:Weekly
END:VEVENT
BEGIN:VEVENT
DTSTART;TZID=Europe/London:20270629T100000
DTEND;TZID=Europe/London:20270629T120000
DTSTAMP:20260422T022226
CREATED:20260304T105003Z
LAST-MODIFIED:20260304T105003Z
UID:10000299-1814263200-1814270400@wynyardmatters.org
SUMMARY:Weekly Nordic Walking
DESCRIPTION:
URL:https://wynyardmatters.org/event/weekly-nordic-walking/2027-06-29/
LOCATION:The Stables Car Park\, 138 The Stables\, Wynyard\, Stockton-on-Tees\, TS22 5QQ\, United Kingdom
CATEGORIES:Weekly
END:VEVENT
BEGIN:VEVENT
DTSTART;TZID=Europe/London:20270706T100000
DTEND;TZID=Europe/London:20270706T120000
DTSTAMP:20260422T022226
CREATED:20260304T105003Z
LAST-MODIFIED:20260304T105003Z
UID:10000300-1814868000-1814875200@wynyardmatters.org
SUMMARY:Weekly Nordic Walking
DESCRIPTION:
URL:https://wynyardmatters.org/event/weekly-nordic-walking/2027-07-06/
LOCATION:The Stables Car Park\, 138 The Stables\, Wynyard\, Stockton-on-Tees\, TS22 5QQ\, United Kingdom
CATEGORIES:Weekly
END:VEVENT
BEGIN:VEVENT
DTSTART;TZID=Europe/London:20270713T100000
DTEND;TZID=Europe/London:20270713T120000
DTSTAMP:20260422T022226
CREATED:20260304T105003Z
LAST-MODIFIED:20260304T105003Z
UID:10000301-1815472800-1815480000@wynyardmatters.org
SUMMARY:Weekly Nordic Walking
DESCRIPTION:
URL:https://wynyardmatters.org/event/weekly-nordic-walking/2027-07-13/
LOCATION:The Stables Car Park\, 138 The Stables\, Wynyard\, Stockton-on-Tees\, TS22 5QQ\, United Kingdom
CATEGORIES:Weekly
END:VEVENT
BEGIN:VEVENT
DTSTART;TZID=Europe/London:20270720T100000
DTEND;TZID=Europe/London:20270720T120000
DTSTAMP:20260422T022226
CREATED:20260304T105003Z
LAST-MODIFIED:20260304T105003Z
UID:10000302-1816077600-1816084800@wynyardmatters.org
SUMMARY:Weekly Nordic Walking
DESCRIPTION:
URL:https://wynyardmatters.org/event/weekly-nordic-walking/2027-07-20/
LOCATION:The Stables Car Park\, 138 The Stables\, Wynyard\, Stockton-on-Tees\, TS22 5QQ\, United Kingdom
CATEGORIES:Weekly
END:VEVENT
BEGIN:VEVENT
DTSTART;TZID=Europe/London:20270727T100000
DTEND;TZID=Europe/London:20270727T120000
DTSTAMP:20260422T022226
CREATED:20260304T105003Z
LAST-MODIFIED:20260304T105003Z
UID:10000303-1816682400-1816689600@wynyardmatters.org
SUMMARY:Weekly Nordic Walking
DESCRIPTION:
URL:https://wynyardmatters.org/event/weekly-nordic-walking/2027-07-27/
LOCATION:The Stables Car Park\, 138 The Stables\, Wynyard\, Stockton-on-Tees\, TS22 5QQ\, United Kingdom
CATEGORIES:Weekly
END:VEVENT
BEGIN:VEVENT
DTSTART;TZID=Europe/London:20270803T100000
DTEND;TZID=Europe/London:20270803T120000
DTSTAMP:20260422T022226
CREATED:20260304T105003Z
LAST-MODIFIED:20260304T105003Z
UID:10000304-1817287200-1817294400@wynyardmatters.org
SUMMARY:Weekly Nordic Walking
DESCRIPTION:
URL:https://wynyardmatters.org/event/weekly-nordic-walking/2027-08-03/
LOCATION:The Stables Car Park\, 138 The Stables\, Wynyard\, Stockton-on-Tees\, TS22 5QQ\, United Kingdom
CATEGORIES:Weekly
END:VEVENT
BEGIN:VEVENT
DTSTART;TZID=Europe/London:20270810T100000
DTEND;TZID=Europe/London:20270810T120000
DTSTAMP:20260422T022226
CREATED:20260304T105003Z
LAST-MODIFIED:20260304T105003Z
UID:10000305-1817892000-1817899200@wynyardmatters.org
SUMMARY:Weekly Nordic Walking
DESCRIPTION:
URL:https://wynyardmatters.org/event/weekly-nordic-walking/2027-08-10/
LOCATION:The Stables Car Park\, 138 The Stables\, Wynyard\, Stockton-on-Tees\, TS22 5QQ\, United Kingdom
CATEGORIES:Weekly
END:VEVENT
BEGIN:VEVENT
DTSTART;TZID=Europe/London:20270817T100000
DTEND;TZID=Europe/London:20270817T120000
DTSTAMP:20260422T022226
CREATED:20260304T105003Z
LAST-MODIFIED:20260304T105003Z
UID:10000306-1818496800-1818504000@wynyardmatters.org
SUMMARY:Weekly Nordic Walking
DESCRIPTION:
URL:https://wynyardmatters.org/event/weekly-nordic-walking/2027-08-17/
LOCATION:The Stables Car Park\, 138 The Stables\, Wynyard\, Stockton-on-Tees\, TS22 5QQ\, United Kingdom
CATEGORIES:Weekly
END:VEVENT
BEGIN:VEVENT
DTSTART;TZID=Europe/London:20270824T100000
DTEND;TZID=Europe/London:20270824T120000
DTSTAMP:20260422T022226
CREATED:20260304T105003Z
LAST-MODIFIED:20260304T105003Z
UID:10000307-1819101600-1819108800@wynyardmatters.org
SUMMARY:Weekly Nordic Walking
DESCRIPTION:
URL:https://wynyardmatters.org/event/weekly-nordic-walking/2027-08-24/
LOCATION:The Stables Car Park\, 138 The Stables\, Wynyard\, Stockton-on-Tees\, TS22 5QQ\, United Kingdom
CATEGORIES:Weekly
END:VEVENT
BEGIN:VEVENT
DTSTART;TZID=Europe/London:20270831T100000
DTEND;TZID=Europe/London:20270831T120000
DTSTAMP:20260422T022226
CREATED:20260304T105003Z
LAST-MODIFIED:20260304T105003Z
UID:10000308-1819706400-1819713600@wynyardmatters.org
SUMMARY:Weekly Nordic Walking
DESCRIPTION:
URL:https://wynyardmatters.org/event/weekly-nordic-walking/2027-08-31/
LOCATION:The Stables Car Park\, 138 The Stables\, Wynyard\, Stockton-on-Tees\, TS22 5QQ\, United Kingdom
CATEGORIES:Weekly
END:VEVENT
BEGIN:VEVENT
DTSTART;TZID=Europe/London:20270907T100000
DTEND;TZID=Europe/London:20270907T120000
DTSTAMP:20260422T022226
CREATED:20260304T105003Z
LAST-MODIFIED:20260304T105003Z
UID:10000309-1820311200-1820318400@wynyardmatters.org
SUMMARY:Weekly Nordic Walking
DESCRIPTION:
URL:https://wynyardmatters.org/event/weekly-nordic-walking/2027-09-07/
LOCATION:The Stables Car Park\, 138 The Stables\, Wynyard\, Stockton-on-Tees\, TS22 5QQ\, United Kingdom
CATEGORIES:Weekly
END:VEVENT
BEGIN:VEVENT
DTSTART;TZID=Europe/London:20270914T100000
DTEND;TZID=Europe/London:20270914T120000
DTSTAMP:20260422T022226
CREATED:20260304T105003Z
LAST-MODIFIED:20260304T105003Z
UID:10000310-1820916000-1820923200@wynyardmatters.org
SUMMARY:Weekly Nordic Walking
DESCRIPTION:
URL:https://wynyardmatters.org/event/weekly-nordic-walking/2027-09-14/
LOCATION:The Stables Car Park\, 138 The Stables\, Wynyard\, Stockton-on-Tees\, TS22 5QQ\, United Kingdom
CATEGORIES:Weekly
END:VEVENT
BEGIN:VEVENT
DTSTART;TZID=Europe/London:20270921T100000
DTEND;TZID=Europe/London:20270921T120000
DTSTAMP:20260422T022226
CREATED:20260304T105003Z
LAST-MODIFIED:20260304T105003Z
UID:10000311-1821520800-1821528000@wynyardmatters.org
SUMMARY:Weekly Nordic Walking
DESCRIPTION:
URL:https://wynyardmatters.org/event/weekly-nordic-walking/2027-09-21/
LOCATION:The Stables Car Park\, 138 The Stables\, Wynyard\, Stockton-on-Tees\, TS22 5QQ\, United Kingdom
CATEGORIES:Weekly
END:VEVENT
BEGIN:VEVENT
DTSTART;TZID=Europe/London:20270928T100000
DTEND;TZID=Europe/London:20270928T120000
DTSTAMP:20260422T022226
CREATED:20260304T105003Z
LAST-MODIFIED:20260304T105003Z
UID:10000312-1822125600-1822132800@wynyardmatters.org
SUMMARY:Weekly Nordic Walking
DESCRIPTION:
URL:https://wynyardmatters.org/event/weekly-nordic-walking/2027-09-28/
LOCATION:The Stables Car Park\, 138 The Stables\, Wynyard\, Stockton-on-Tees\, TS22 5QQ\, United Kingdom
CATEGORIES:Weekly
END:VEVENT
BEGIN:VEVENT
DTSTART;TZID=Europe/London:20271005T100000
DTEND;TZID=Europe/London:20271005T120000
DTSTAMP:20260422T022226
CREATED:20260304T105003Z
LAST-MODIFIED:20260304T105003Z
UID:10000313-1822730400-1822737600@wynyardmatters.org
SUMMARY:Weekly Nordic Walking
DESCRIPTION:
URL:https://wynyardmatters.org/event/weekly-nordic-walking/2027-10-05/
LOCATION:The Stables Car Park\, 138 The Stables\, Wynyard\, Stockton-on-Tees\, TS22 5QQ\, United Kingdom
CATEGORIES:Weekly
END:VEVENT
BEGIN:VEVENT
DTSTART;TZID=Europe/London:20271012T100000
DTEND;TZID=Europe/London:20271012T120000
DTSTAMP:20260422T022226
CREATED:20260304T105003Z
LAST-MODIFIED:20260304T105003Z
UID:10000314-1823335200-1823342400@wynyardmatters.org
SUMMARY:Weekly Nordic Walking
DESCRIPTION:
URL:https://wynyardmatters.org/event/weekly-nordic-walking/2027-10-12/
LOCATION:The Stables Car Park\, 138 The Stables\, Wynyard\, Stockton-on-Tees\, TS22 5QQ\, United Kingdom
CATEGORIES:Weekly
END:VEVENT
BEGIN:VEVENT
DTSTART;TZID=Europe/London:20271019T100000
DTEND;TZID=Europe/London:20271019T120000
DTSTAMP:20260422T022226
CREATED:20260304T105003Z
LAST-MODIFIED:20260304T105003Z
UID:10000315-1823940000-1823947200@wynyardmatters.org
SUMMARY:Weekly Nordic Walking
DESCRIPTION:
URL:https://wynyardmatters.org/event/weekly-nordic-walking/2027-10-19/
LOCATION:The Stables Car Park\, 138 The Stables\, Wynyard\, Stockton-on-Tees\, TS22 5QQ\, United Kingdom
CATEGORIES:Weekly
END:VEVENT
BEGIN:VEVENT
DTSTART;TZID=Europe/London:20271026T100000
DTEND;TZID=Europe/London:20271026T120000
DTSTAMP:20260422T022226
CREATED:20260304T105003Z
LAST-MODIFIED:20260304T105003Z
UID:10000316-1824544800-1824552000@wynyardmatters.org
SUMMARY:Weekly Nordic Walking
DESCRIPTION:
URL:https://wynyardmatters.org/event/weekly-nordic-walking/2027-10-26/
LOCATION:The Stables Car Park\, 138 The Stables\, Wynyard\, Stockton-on-Tees\, TS22 5QQ\, United Kingdom
CATEGORIES:Weekly
END:VEVENT
BEGIN:VEVENT
DTSTART;TZID=Europe/London:20271102T100000
DTEND;TZID=Europe/London:20271102T120000
DTSTAMP:20260422T022226
CREATED:20260304T105003Z
LAST-MODIFIED:20260304T105003Z
UID:10000317-1825149600-1825156800@wynyardmatters.org
SUMMARY:Weekly Nordic Walking
DESCRIPTION:
URL:https://wynyardmatters.org/event/weekly-nordic-walking/2027-11-02/
LOCATION:The Stables Car Park\, 138 The Stables\, Wynyard\, Stockton-on-Tees\, TS22 5QQ\, United Kingdom
CATEGORIES:Weekly
END:VEVENT
BEGIN:VEVENT
DTSTART;TZID=Europe/London:20271109T100000
DTEND;TZID=Europe/London:20271109T120000
DTSTAMP:20260422T022226
CREATED:20260304T105003Z
LAST-MODIFIED:20260304T105003Z
UID:10000318-1825754400-1825761600@wynyardmatters.org
SUMMARY:Weekly Nordic Walking
DESCRIPTION:
URL:https://wynyardmatters.org/event/weekly-nordic-walking/2027-11-09/
LOCATION:The Stables Car Park\, 138 The Stables\, Wynyard\, Stockton-on-Tees\, TS22 5QQ\, United Kingdom
CATEGORIES:Weekly
END:VEVENT
BEGIN:VEVENT
DTSTART;TZID=Europe/London:20271116T100000
DTEND;TZID=Europe/London:20271116T120000
DTSTAMP:20260422T022226
CREATED:20260304T105003Z
LAST-MODIFIED:20260304T105003Z
UID:10000319-1826359200-1826366400@wynyardmatters.org
SUMMARY:Weekly Nordic Walking
DESCRIPTION:
URL:https://wynyardmatters.org/event/weekly-nordic-walking/2027-11-16/
LOCATION:The Stables Car Park\, 138 The Stables\, Wynyard\, Stockton-on-Tees\, TS22 5QQ\, United Kingdom
CATEGORIES:Weekly
END:VEVENT
BEGIN:VEVENT
DTSTART;TZID=Europe/London:20271123T100000
DTEND;TZID=Europe/London:20271123T120000
DTSTAMP:20260422T022226
CREATED:20260304T105003Z
LAST-MODIFIED:20260304T105003Z
UID:10000320-1826964000-1826971200@wynyardmatters.org
SUMMARY:Weekly Nordic Walking
DESCRIPTION:
URL:https://wynyardmatters.org/event/weekly-nordic-walking/2027-11-23/
LOCATION:The Stables Car Park\, 138 The Stables\, Wynyard\, Stockton-on-Tees\, TS22 5QQ\, United Kingdom
CATEGORIES:Weekly
END:VEVENT
BEGIN:VEVENT
DTSTART;TZID=Europe/London:20271130T100000
DTEND;TZID=Europe/London:20271130T120000
DTSTAMP:20260422T022226
CREATED:20260304T105003Z
LAST-MODIFIED:20260304T105003Z
UID:10000321-1827568800-1827576000@wynyardmatters.org
SUMMARY:Weekly Nordic Walking
DESCRIPTION:
URL:https://wynyardmatters.org/event/weekly-nordic-walking/2027-11-30/
LOCATION:The Stables Car Park\, 138 The Stables\, Wynyard\, Stockton-on-Tees\, TS22 5QQ\, United Kingdom
CATEGORIES:Weekly
END:VEVENT
BEGIN:VEVENT
DTSTART;TZID=Europe/London:20271207T100000
DTEND;TZID=Europe/London:20271207T120000
DTSTAMP:20260422T022226
CREATED:20260304T105003Z
LAST-MODIFIED:20260304T105003Z
UID:10000322-1828173600-1828180800@wynyardmatters.org
SUMMARY:Weekly Nordic Walking
DESCRIPTION:
URL:https://wynyardmatters.org/event/weekly-nordic-walking/2027-12-07/
LOCATION:The Stables Car Park\, 138 The Stables\, Wynyard\, Stockton-on-Tees\, TS22 5QQ\, United Kingdom
CATEGORIES:Weekly
END:VEVENT
BEGIN:VEVENT
DTSTART;TZID=Europe/London:20271214T100000
DTEND;TZID=Europe/London:20271214T120000
DTSTAMP:20260422T022226
CREATED:20260304T105003Z
LAST-MODIFIED:20260304T105003Z
UID:10000323-1828778400-1828785600@wynyardmatters.org
SUMMARY:Weekly Nordic Walking
DESCRIPTION:
URL:https://wynyardmatters.org/event/weekly-nordic-walking/2027-12-14/
LOCATION:The Stables Car Park\, 138 The Stables\, Wynyard\, Stockton-on-Tees\, TS22 5QQ\, United Kingdom
CATEGORIES:Weekly
END:VEVENT
BEGIN:VEVENT
DTSTART;TZID=Europe/London:20271221T100000
DTEND;TZID=Europe/London:20271221T120000
DTSTAMP:20260422T022226
CREATED:20260304T105003Z
LAST-MODIFIED:20260304T105003Z
UID:10000324-1829383200-1829390400@wynyardmatters.org
SUMMARY:Weekly Nordic Walking
DESCRIPTION:
URL:https://wynyardmatters.org/event/weekly-nordic-walking/2027-12-21/
LOCATION:The Stables Car Park\, 138 The Stables\, Wynyard\, Stockton-on-Tees\, TS22 5QQ\, United Kingdom
CATEGORIES:Weekly
END:VEVENT
BEGIN:VEVENT
DTSTART;TZID=Europe/London:20271228T100000
DTEND;TZID=Europe/London:20271228T120000
DTSTAMP:20260422T022226
CREATED:20260304T105003Z
LAST-MODIFIED:20260304T105003Z
UID:10000325-1829988000-1829995200@wynyardmatters.org
SUMMARY:Weekly Nordic Walking
DESCRIPTION:
URL:https://wynyardmatters.org/event/weekly-nordic-walking/2027-12-28/
LOCATION:The Stables Car Park\, 138 The Stables\, Wynyard\, Stockton-on-Tees\, TS22 5QQ\, United Kingdom
CATEGORIES:Weekly
END:VEVENT
BEGIN:VEVENT
DTSTART;TZID=Europe/London:20280104T100000
DTEND;TZID=Europe/London:20280104T120000
DTSTAMP:20260422T022226
CREATED:20260304T105003Z
LAST-MODIFIED:20260304T105003Z
UID:10000326-1830592800-1830600000@wynyardmatters.org
SUMMARY:Weekly Nordic Walking
DESCRIPTION:
URL:https://wynyardmatters.org/event/weekly-nordic-walking/2028-01-04/
LOCATION:The Stables Car Park\, 138 The Stables\, Wynyard\, Stockton-on-Tees\, TS22 5QQ\, United Kingdom
CATEGORIES:Weekly
END:VEVENT
BEGIN:VEVENT
DTSTART;TZID=Europe/London:20280111T100000
DTEND;TZID=Europe/London:20280111T120000
DTSTAMP:20260422T022226
CREATED:20260304T105003Z
LAST-MODIFIED:20260304T105003Z
UID:10000327-1831197600-1831204800@wynyardmatters.org
SUMMARY:Weekly Nordic Walking
DESCRIPTION:
URL:https://wynyardmatters.org/event/weekly-nordic-walking/2028-01-11/
LOCATION:The Stables Car Park\, 138 The Stables\, Wynyard\, Stockton-on-Tees\, TS22 5QQ\, United Kingdom
CATEGORIES:Weekly
END:VEVENT
END:VCALENDAR