BEGIN:VCALENDAR
VERSION:2.0
PRODID:-//Wynyard Matters - ECPv6.15.20//NONSGML v1.0//EN
CALSCALE:GREGORIAN
METHOD:PUBLISH
X-WR-CALNAME:Wynyard Matters
X-ORIGINAL-URL:https://wynyardmatters.org
X-WR-CALDESC:Events for Wynyard Matters
REFRESH-INTERVAL;VALUE=DURATION:PT1H
X-Robots-Tag:noindex
X-PUBLISHED-TTL:PT1H
BEGIN:VTIMEZONE
TZID:Europe/London
BEGIN:DAYLIGHT
TZOFFSETFROM:+0000
TZOFFSETTO:+0100
TZNAME:BST
DTSTART:20270328T010000
END:DAYLIGHT
BEGIN:STANDARD
TZOFFSETFROM:+0100
TZOFFSETTO:+0000
TZNAME:GMT
DTSTART:20271031T010000
END:STANDARD
BEGIN:DAYLIGHT
TZOFFSETFROM:+0000
TZOFFSETTO:+0100
TZNAME:BST
DTSTART:20280326T010000
END:DAYLIGHT
BEGIN:STANDARD
TZOFFSETFROM:+0100
TZOFFSETTO:+0000
TZNAME:GMT
DTSTART:20281029T010000
END:STANDARD
BEGIN:DAYLIGHT
TZOFFSETFROM:+0000
TZOFFSETTO:+0100
TZNAME:BST
DTSTART:20290325T010000
END:DAYLIGHT
BEGIN:STANDARD
TZOFFSETFROM:+0100
TZOFFSETTO:+0000
TZNAME:GMT
DTSTART:20291028T010000
END:STANDARD
BEGIN:DAYLIGHT
TZOFFSETFROM:+0000
TZOFFSETTO:+0100
TZNAME:BST
DTSTART:20300331T010000
END:DAYLIGHT
BEGIN:STANDARD
TZOFFSETFROM:+0100
TZOFFSETTO:+0000
TZNAME:GMT
DTSTART:20301027T010000
END:STANDARD
END:VTIMEZONE
BEGIN:VEVENT
DTSTART;TZID=Europe/London:20281024T100000
DTEND;TZID=Europe/London:20281024T120000
DTSTAMP:20260422T143455
CREATED:20260304T105003Z
LAST-MODIFIED:20260304T105003Z
UID:10000368-1855994400-1856001600@wynyardmatters.org
SUMMARY:Weekly Nordic Walking
DESCRIPTION:
URL:https://wynyardmatters.org/event/weekly-nordic-walking/2028-10-24/
LOCATION:The Stables Car Park\, 138 The Stables\, Wynyard\, Stockton-on-Tees\, TS22 5QQ\, United Kingdom
CATEGORIES:Weekly
END:VEVENT
BEGIN:VEVENT
DTSTART;TZID=Europe/London:20281031T100000
DTEND;TZID=Europe/London:20281031T120000
DTSTAMP:20260422T143455
CREATED:20260304T105003Z
LAST-MODIFIED:20260304T105003Z
UID:10000369-1856599200-1856606400@wynyardmatters.org
SUMMARY:Weekly Nordic Walking
DESCRIPTION:
URL:https://wynyardmatters.org/event/weekly-nordic-walking/2028-10-31/
LOCATION:The Stables Car Park\, 138 The Stables\, Wynyard\, Stockton-on-Tees\, TS22 5QQ\, United Kingdom
CATEGORIES:Weekly
END:VEVENT
BEGIN:VEVENT
DTSTART;TZID=Europe/London:20281107T100000
DTEND;TZID=Europe/London:20281107T120000
DTSTAMP:20260422T143455
CREATED:20260304T105003Z
LAST-MODIFIED:20260304T105003Z
UID:10000370-1857204000-1857211200@wynyardmatters.org
SUMMARY:Weekly Nordic Walking
DESCRIPTION:
URL:https://wynyardmatters.org/event/weekly-nordic-walking/2028-11-07/
LOCATION:The Stables Car Park\, 138 The Stables\, Wynyard\, Stockton-on-Tees\, TS22 5QQ\, United Kingdom
CATEGORIES:Weekly
END:VEVENT
BEGIN:VEVENT
DTSTART;TZID=Europe/London:20281114T100000
DTEND;TZID=Europe/London:20281114T120000
DTSTAMP:20260422T143455
CREATED:20260304T105003Z
LAST-MODIFIED:20260304T105003Z
UID:10000371-1857808800-1857816000@wynyardmatters.org
SUMMARY:Weekly Nordic Walking
DESCRIPTION:
URL:https://wynyardmatters.org/event/weekly-nordic-walking/2028-11-14/
LOCATION:The Stables Car Park\, 138 The Stables\, Wynyard\, Stockton-on-Tees\, TS22 5QQ\, United Kingdom
CATEGORIES:Weekly
END:VEVENT
BEGIN:VEVENT
DTSTART;TZID=Europe/London:20281121T100000
DTEND;TZID=Europe/London:20281121T120000
DTSTAMP:20260422T143455
CREATED:20260304T105003Z
LAST-MODIFIED:20260304T105003Z
UID:10000372-1858413600-1858420800@wynyardmatters.org
SUMMARY:Weekly Nordic Walking
DESCRIPTION:
URL:https://wynyardmatters.org/event/weekly-nordic-walking/2028-11-21/
LOCATION:The Stables Car Park\, 138 The Stables\, Wynyard\, Stockton-on-Tees\, TS22 5QQ\, United Kingdom
CATEGORIES:Weekly
END:VEVENT
BEGIN:VEVENT
DTSTART;TZID=Europe/London:20281128T100000
DTEND;TZID=Europe/London:20281128T120000
DTSTAMP:20260422T143455
CREATED:20260304T105003Z
LAST-MODIFIED:20260304T105003Z
UID:10000373-1859018400-1859025600@wynyardmatters.org
SUMMARY:Weekly Nordic Walking
DESCRIPTION:
URL:https://wynyardmatters.org/event/weekly-nordic-walking/2028-11-28/
LOCATION:The Stables Car Park\, 138 The Stables\, Wynyard\, Stockton-on-Tees\, TS22 5QQ\, United Kingdom
CATEGORIES:Weekly
END:VEVENT
BEGIN:VEVENT
DTSTART;TZID=Europe/London:20281205T100000
DTEND;TZID=Europe/London:20281205T120000
DTSTAMP:20260422T143455
CREATED:20260304T105003Z
LAST-MODIFIED:20260304T105003Z
UID:10000374-1859623200-1859630400@wynyardmatters.org
SUMMARY:Weekly Nordic Walking
DESCRIPTION:
URL:https://wynyardmatters.org/event/weekly-nordic-walking/2028-12-05/
LOCATION:The Stables Car Park\, 138 The Stables\, Wynyard\, Stockton-on-Tees\, TS22 5QQ\, United Kingdom
CATEGORIES:Weekly
END:VEVENT
BEGIN:VEVENT
DTSTART;TZID=Europe/London:20281212T100000
DTEND;TZID=Europe/London:20281212T120000
DTSTAMP:20260422T143455
CREATED:20260304T105003Z
LAST-MODIFIED:20260304T105003Z
UID:10000375-1860228000-1860235200@wynyardmatters.org
SUMMARY:Weekly Nordic Walking
DESCRIPTION:
URL:https://wynyardmatters.org/event/weekly-nordic-walking/2028-12-12/
LOCATION:The Stables Car Park\, 138 The Stables\, Wynyard\, Stockton-on-Tees\, TS22 5QQ\, United Kingdom
CATEGORIES:Weekly
END:VEVENT
BEGIN:VEVENT
DTSTART;TZID=Europe/London:20281219T100000
DTEND;TZID=Europe/London:20281219T120000
DTSTAMP:20260422T143455
CREATED:20260304T105003Z
LAST-MODIFIED:20260304T105003Z
UID:10000376-1860832800-1860840000@wynyardmatters.org
SUMMARY:Weekly Nordic Walking
DESCRIPTION:
URL:https://wynyardmatters.org/event/weekly-nordic-walking/2028-12-19/
LOCATION:The Stables Car Park\, 138 The Stables\, Wynyard\, Stockton-on-Tees\, TS22 5QQ\, United Kingdom
CATEGORIES:Weekly
END:VEVENT
BEGIN:VEVENT
DTSTART;TZID=Europe/London:20281226T100000
DTEND;TZID=Europe/London:20281226T120000
DTSTAMP:20260422T143455
CREATED:20260304T105003Z
LAST-MODIFIED:20260304T105003Z
UID:10000377-1861437600-1861444800@wynyardmatters.org
SUMMARY:Weekly Nordic Walking
DESCRIPTION:
URL:https://wynyardmatters.org/event/weekly-nordic-walking/2028-12-26/
LOCATION:The Stables Car Park\, 138 The Stables\, Wynyard\, Stockton-on-Tees\, TS22 5QQ\, United Kingdom
CATEGORIES:Weekly
END:VEVENT
BEGIN:VEVENT
DTSTART;TZID=Europe/London:20290102T100000
DTEND;TZID=Europe/London:20290102T120000
DTSTAMP:20260422T143455
CREATED:20260304T105003Z
LAST-MODIFIED:20260304T105003Z
UID:10000378-1862042400-1862049600@wynyardmatters.org
SUMMARY:Weekly Nordic Walking
DESCRIPTION:
URL:https://wynyardmatters.org/event/weekly-nordic-walking/2029-01-02/
LOCATION:The Stables Car Park\, 138 The Stables\, Wynyard\, Stockton-on-Tees\, TS22 5QQ\, United Kingdom
CATEGORIES:Weekly
END:VEVENT
BEGIN:VEVENT
DTSTART;TZID=Europe/London:20290109T100000
DTEND;TZID=Europe/London:20290109T120000
DTSTAMP:20260422T143455
CREATED:20260304T105003Z
LAST-MODIFIED:20260304T105003Z
UID:10000379-1862647200-1862654400@wynyardmatters.org
SUMMARY:Weekly Nordic Walking
DESCRIPTION:
URL:https://wynyardmatters.org/event/weekly-nordic-walking/2029-01-09/
LOCATION:The Stables Car Park\, 138 The Stables\, Wynyard\, Stockton-on-Tees\, TS22 5QQ\, United Kingdom
CATEGORIES:Weekly
END:VEVENT
BEGIN:VEVENT
DTSTART;TZID=Europe/London:20290116T100000
DTEND;TZID=Europe/London:20290116T120000
DTSTAMP:20260422T143455
CREATED:20260304T105003Z
LAST-MODIFIED:20260304T105003Z
UID:10000380-1863252000-1863259200@wynyardmatters.org
SUMMARY:Weekly Nordic Walking
DESCRIPTION:
URL:https://wynyardmatters.org/event/weekly-nordic-walking/2029-01-16/
LOCATION:The Stables Car Park\, 138 The Stables\, Wynyard\, Stockton-on-Tees\, TS22 5QQ\, United Kingdom
CATEGORIES:Weekly
END:VEVENT
BEGIN:VEVENT
DTSTART;TZID=Europe/London:20290123T100000
DTEND;TZID=Europe/London:20290123T120000
DTSTAMP:20260422T143455
CREATED:20260304T105003Z
LAST-MODIFIED:20260304T105003Z
UID:10000381-1863856800-1863864000@wynyardmatters.org
SUMMARY:Weekly Nordic Walking
DESCRIPTION:
URL:https://wynyardmatters.org/event/weekly-nordic-walking/2029-01-23/
LOCATION:The Stables Car Park\, 138 The Stables\, Wynyard\, Stockton-on-Tees\, TS22 5QQ\, United Kingdom
CATEGORIES:Weekly
END:VEVENT
BEGIN:VEVENT
DTSTART;TZID=Europe/London:20290130T100000
DTEND;TZID=Europe/London:20290130T120000
DTSTAMP:20260422T143455
CREATED:20260304T105003Z
LAST-MODIFIED:20260304T105003Z
UID:10000382-1864461600-1864468800@wynyardmatters.org
SUMMARY:Weekly Nordic Walking
DESCRIPTION:
URL:https://wynyardmatters.org/event/weekly-nordic-walking/2029-01-30/
LOCATION:The Stables Car Park\, 138 The Stables\, Wynyard\, Stockton-on-Tees\, TS22 5QQ\, United Kingdom
CATEGORIES:Weekly
END:VEVENT
BEGIN:VEVENT
DTSTART;TZID=Europe/London:20290206T100000
DTEND;TZID=Europe/London:20290206T120000
DTSTAMP:20260422T143455
CREATED:20260304T105003Z
LAST-MODIFIED:20260304T105003Z
UID:10000383-1865066400-1865073600@wynyardmatters.org
SUMMARY:Weekly Nordic Walking
DESCRIPTION:
URL:https://wynyardmatters.org/event/weekly-nordic-walking/2029-02-06/
LOCATION:The Stables Car Park\, 138 The Stables\, Wynyard\, Stockton-on-Tees\, TS22 5QQ\, United Kingdom
CATEGORIES:Weekly
END:VEVENT
BEGIN:VEVENT
DTSTART;TZID=Europe/London:20290213T100000
DTEND;TZID=Europe/London:20290213T120000
DTSTAMP:20260422T143455
CREATED:20260304T105003Z
LAST-MODIFIED:20260304T105003Z
UID:10000384-1865671200-1865678400@wynyardmatters.org
SUMMARY:Weekly Nordic Walking
DESCRIPTION:
URL:https://wynyardmatters.org/event/weekly-nordic-walking/2029-02-13/
LOCATION:The Stables Car Park\, 138 The Stables\, Wynyard\, Stockton-on-Tees\, TS22 5QQ\, United Kingdom
CATEGORIES:Weekly
END:VEVENT
BEGIN:VEVENT
DTSTART;TZID=Europe/London:20290220T100000
DTEND;TZID=Europe/London:20290220T120000
DTSTAMP:20260422T143455
CREATED:20260304T105003Z
LAST-MODIFIED:20260304T105003Z
UID:10000385-1866276000-1866283200@wynyardmatters.org
SUMMARY:Weekly Nordic Walking
DESCRIPTION:
URL:https://wynyardmatters.org/event/weekly-nordic-walking/2029-02-20/
LOCATION:The Stables Car Park\, 138 The Stables\, Wynyard\, Stockton-on-Tees\, TS22 5QQ\, United Kingdom
CATEGORIES:Weekly
END:VEVENT
BEGIN:VEVENT
DTSTART;TZID=Europe/London:20290227T100000
DTEND;TZID=Europe/London:20290227T120000
DTSTAMP:20260422T143455
CREATED:20260304T105003Z
LAST-MODIFIED:20260304T105003Z
UID:10000386-1866880800-1866888000@wynyardmatters.org
SUMMARY:Weekly Nordic Walking
DESCRIPTION:
URL:https://wynyardmatters.org/event/weekly-nordic-walking/2029-02-27/
LOCATION:The Stables Car Park\, 138 The Stables\, Wynyard\, Stockton-on-Tees\, TS22 5QQ\, United Kingdom
CATEGORIES:Weekly
END:VEVENT
BEGIN:VEVENT
DTSTART;TZID=Europe/London:20290306T100000
DTEND;TZID=Europe/London:20290306T120000
DTSTAMP:20260422T143455
CREATED:20260304T105003Z
LAST-MODIFIED:20260304T105003Z
UID:10000387-1867485600-1867492800@wynyardmatters.org
SUMMARY:Weekly Nordic Walking
DESCRIPTION:
URL:https://wynyardmatters.org/event/weekly-nordic-walking/2029-03-06/
LOCATION:The Stables Car Park\, 138 The Stables\, Wynyard\, Stockton-on-Tees\, TS22 5QQ\, United Kingdom
CATEGORIES:Weekly
END:VEVENT
BEGIN:VEVENT
DTSTART;TZID=Europe/London:20290313T100000
DTEND;TZID=Europe/London:20290313T120000
DTSTAMP:20260422T143455
CREATED:20260304T105003Z
LAST-MODIFIED:20260304T105003Z
UID:10000388-1868090400-1868097600@wynyardmatters.org
SUMMARY:Weekly Nordic Walking
DESCRIPTION:
URL:https://wynyardmatters.org/event/weekly-nordic-walking/2029-03-13/
LOCATION:The Stables Car Park\, 138 The Stables\, Wynyard\, Stockton-on-Tees\, TS22 5QQ\, United Kingdom
CATEGORIES:Weekly
END:VEVENT
BEGIN:VEVENT
DTSTART;TZID=Europe/London:20290320T100000
DTEND;TZID=Europe/London:20290320T120000
DTSTAMP:20260422T143455
CREATED:20260304T105003Z
LAST-MODIFIED:20260304T105003Z
UID:10000389-1868695200-1868702400@wynyardmatters.org
SUMMARY:Weekly Nordic Walking
DESCRIPTION:
URL:https://wynyardmatters.org/event/weekly-nordic-walking/2029-03-20/
LOCATION:The Stables Car Park\, 138 The Stables\, Wynyard\, Stockton-on-Tees\, TS22 5QQ\, United Kingdom
CATEGORIES:Weekly
END:VEVENT
BEGIN:VEVENT
DTSTART;TZID=Europe/London:20290327T100000
DTEND;TZID=Europe/London:20290327T120000
DTSTAMP:20260422T143455
CREATED:20260304T105003Z
LAST-MODIFIED:20260304T105003Z
UID:10000390-1869300000-1869307200@wynyardmatters.org
SUMMARY:Weekly Nordic Walking
DESCRIPTION:
URL:https://wynyardmatters.org/event/weekly-nordic-walking/2029-03-27/
LOCATION:The Stables Car Park\, 138 The Stables\, Wynyard\, Stockton-on-Tees\, TS22 5QQ\, United Kingdom
CATEGORIES:Weekly
END:VEVENT
BEGIN:VEVENT
DTSTART;TZID=Europe/London:20290403T100000
DTEND;TZID=Europe/London:20290403T120000
DTSTAMP:20260422T143455
CREATED:20260304T105003Z
LAST-MODIFIED:20260304T105003Z
UID:10000391-1869904800-1869912000@wynyardmatters.org
SUMMARY:Weekly Nordic Walking
DESCRIPTION:
URL:https://wynyardmatters.org/event/weekly-nordic-walking/2029-04-03/
LOCATION:The Stables Car Park\, 138 The Stables\, Wynyard\, Stockton-on-Tees\, TS22 5QQ\, United Kingdom
CATEGORIES:Weekly
END:VEVENT
BEGIN:VEVENT
DTSTART;TZID=Europe/London:20290410T100000
DTEND;TZID=Europe/London:20290410T120000
DTSTAMP:20260422T143455
CREATED:20260304T105003Z
LAST-MODIFIED:20260304T105003Z
UID:10000392-1870509600-1870516800@wynyardmatters.org
SUMMARY:Weekly Nordic Walking
DESCRIPTION:
URL:https://wynyardmatters.org/event/weekly-nordic-walking/2029-04-10/
LOCATION:The Stables Car Park\, 138 The Stables\, Wynyard\, Stockton-on-Tees\, TS22 5QQ\, United Kingdom
CATEGORIES:Weekly
END:VEVENT
BEGIN:VEVENT
DTSTART;TZID=Europe/London:20290417T100000
DTEND;TZID=Europe/London:20290417T120000
DTSTAMP:20260422T143455
CREATED:20260304T105003Z
LAST-MODIFIED:20260304T105003Z
UID:10000393-1871114400-1871121600@wynyardmatters.org
SUMMARY:Weekly Nordic Walking
DESCRIPTION:
URL:https://wynyardmatters.org/event/weekly-nordic-walking/2029-04-17/
LOCATION:The Stables Car Park\, 138 The Stables\, Wynyard\, Stockton-on-Tees\, TS22 5QQ\, United Kingdom
CATEGORIES:Weekly
END:VEVENT
BEGIN:VEVENT
DTSTART;TZID=Europe/London:20290424T100000
DTEND;TZID=Europe/London:20290424T120000
DTSTAMP:20260422T143455
CREATED:20260304T105003Z
LAST-MODIFIED:20260304T105003Z
UID:10000394-1871719200-1871726400@wynyardmatters.org
SUMMARY:Weekly Nordic Walking
DESCRIPTION:
URL:https://wynyardmatters.org/event/weekly-nordic-walking/2029-04-24/
LOCATION:The Stables Car Park\, 138 The Stables\, Wynyard\, Stockton-on-Tees\, TS22 5QQ\, United Kingdom
CATEGORIES:Weekly
END:VEVENT
BEGIN:VEVENT
DTSTART;TZID=Europe/London:20290501T100000
DTEND;TZID=Europe/London:20290501T120000
DTSTAMP:20260422T143455
CREATED:20260304T105003Z
LAST-MODIFIED:20260304T105003Z
UID:10000395-1872324000-1872331200@wynyardmatters.org
SUMMARY:Weekly Nordic Walking
DESCRIPTION:
URL:https://wynyardmatters.org/event/weekly-nordic-walking/2029-05-01/
LOCATION:The Stables Car Park\, 138 The Stables\, Wynyard\, Stockton-on-Tees\, TS22 5QQ\, United Kingdom
CATEGORIES:Weekly
END:VEVENT
BEGIN:VEVENT
DTSTART;TZID=Europe/London:20290508T100000
DTEND;TZID=Europe/London:20290508T120000
DTSTAMP:20260422T143455
CREATED:20260304T105003Z
LAST-MODIFIED:20260304T105003Z
UID:10000396-1872928800-1872936000@wynyardmatters.org
SUMMARY:Weekly Nordic Walking
DESCRIPTION:
URL:https://wynyardmatters.org/event/weekly-nordic-walking/2029-05-08/
LOCATION:The Stables Car Park\, 138 The Stables\, Wynyard\, Stockton-on-Tees\, TS22 5QQ\, United Kingdom
CATEGORIES:Weekly
END:VEVENT
BEGIN:VEVENT
DTSTART;TZID=Europe/London:20290515T100000
DTEND;TZID=Europe/London:20290515T120000
DTSTAMP:20260422T143455
CREATED:20260304T105003Z
LAST-MODIFIED:20260304T105003Z
UID:10000397-1873533600-1873540800@wynyardmatters.org
SUMMARY:Weekly Nordic Walking
DESCRIPTION:
URL:https://wynyardmatters.org/event/weekly-nordic-walking/2029-05-15/
LOCATION:The Stables Car Park\, 138 The Stables\, Wynyard\, Stockton-on-Tees\, TS22 5QQ\, United Kingdom
CATEGORIES:Weekly
END:VEVENT
END:VCALENDAR