BEGIN:VCALENDAR
VERSION:2.0
PRODID:-//Wynyard Matters - ECPv6.15.20//NONSGML v1.0//EN
CALSCALE:GREGORIAN
METHOD:PUBLISH
X-WR-CALNAME:Wynyard Matters
X-ORIGINAL-URL:https://wynyardmatters.org
X-WR-CALDESC:Events for Wynyard Matters
REFRESH-INTERVAL;VALUE=DURATION:PT1H
X-Robots-Tag:noindex
X-PUBLISHED-TTL:PT1H
BEGIN:VTIMEZONE
TZID:Europe/London
BEGIN:DAYLIGHT
TZOFFSETFROM:+0000
TZOFFSETTO:+0100
TZNAME:BST
DTSTART:20270328T010000
END:DAYLIGHT
BEGIN:STANDARD
TZOFFSETFROM:+0100
TZOFFSETTO:+0000
TZNAME:GMT
DTSTART:20271031T010000
END:STANDARD
BEGIN:DAYLIGHT
TZOFFSETFROM:+0000
TZOFFSETTO:+0100
TZNAME:BST
DTSTART:20280326T010000
END:DAYLIGHT
BEGIN:STANDARD
TZOFFSETFROM:+0100
TZOFFSETTO:+0000
TZNAME:GMT
DTSTART:20281029T010000
END:STANDARD
BEGIN:DAYLIGHT
TZOFFSETFROM:+0000
TZOFFSETTO:+0100
TZNAME:BST
DTSTART:20290325T010000
END:DAYLIGHT
BEGIN:STANDARD
TZOFFSETFROM:+0100
TZOFFSETTO:+0000
TZNAME:GMT
DTSTART:20291028T010000
END:STANDARD
END:VTIMEZONE
BEGIN:VEVENT
DTSTART;TZID=Europe/London:20280115T090000
DTEND;TZID=Europe/London:20280115T110000
DTSTAMP:20260423T143837
CREATED:20251202T094513Z
LAST-MODIFIED:20260304T105320Z
UID:10000589-1831539600-1831546800@wynyardmatters.org
SUMMARY:Park Run - Wynyard Woodland Walk
DESCRIPTION:What is Wynyard Woodland parkrun?\nA free\, fun\, and friendly weekly 5k community event. Walk\, jog\, run\, volunteer or spectate – it’s up to you! \nWhen is it?\nEvery Saturday at 9:00am. \nWhere is it?\nThe event takes place at Wynyard Woodland\, Station House\, Thorpe Thewles\, Stockton-on-Tees\, TS21 3JG. See Course page for more details. \nWhat does it cost to join in?\nNothing – it’s free! but please register before you first come along. Only ever register with parkrun once and don’t forget to bring a scannable copy of your barcode (request a reminder). If you forget it\, you won’t get a time. \nHow fast do I have to be?\nWe all take part for our own enjoyment. Please come along and join in whatever your pace! \nWynyard Woodland parkrun needs you!\nIt is entirely organised by volunteers – email wynyardwoodland@parkrun.com to help. \nSafeguarding\nparkrun is committed to safeguarding and promoting the welfare of children and adults at risk. For our full safeguarding processes and policies\, including how to report a concern\, please see our Safeguarding Hub. \nWe’re friendly!\nEvery week we grab a post parkrun coffee at Station House Tea Rooms\, Wynyard – please come and join us!
URL:https://wynyardmatters.org/event/park-run-wynyard-woodland-walk-46/2028-01-15/
LOCATION:Wynyard Woodland\, Station House\, Thorpe Thewles\, Stockton-on-Tees\, TS21 3JG\, United Kingdom
CATEGORIES:Weekly
END:VEVENT
BEGIN:VEVENT
DTSTART;TZID=Europe/London:20280116T090000
DTEND;TZID=Europe/London:20280116T140000
DTSTAMP:20260423T143837
CREATED:20251202T095232Z
LAST-MODIFIED:20260304T110806Z
UID:10001640-1831626000-1831644000@wynyardmatters.org
SUMMARY:Wynyard Farmers Market
DESCRIPTION:
URL:https://wynyardmatters.org/event/wynyard-farmers-market-11/2028-01-16/
LOCATION:Wynyard Hall Walled Gardens\, Wynyard Road\, Wynyard\, Stockton-on-Tees\, TS22 5NG\, United Kingdom
CATEGORIES:Monthly
ORGANIZER;CN="Wynyard Hall":MAILTO:reception@wynyardhall.co.uk
END:VEVENT
BEGIN:VEVENT
DTSTART;TZID=Europe/London:20280118T100000
DTEND;TZID=Europe/London:20280118T120000
DTSTAMP:20260423T143837
CREATED:20260304T105003Z
LAST-MODIFIED:20260304T105003Z
UID:10000328-1831802400-1831809600@wynyardmatters.org
SUMMARY:Weekly Nordic Walking
DESCRIPTION:
URL:https://wynyardmatters.org/event/weekly-nordic-walking/2028-01-18/
LOCATION:The Stables Car Park\, 138 The Stables\, Wynyard\, Stockton-on-Tees\, TS22 5QQ\, United Kingdom
CATEGORIES:Weekly
END:VEVENT
BEGIN:VEVENT
DTSTART;TZID=Europe/London:20280118T183000
DTEND;TZID=Europe/London:20280118T200000
DTSTAMP:20260423T143837
CREATED:20260304T111026Z
LAST-MODIFIED:20260304T111026Z
UID:10001701-1831833000-1831838400@wynyardmatters.org
SUMMARY:Wynyard Parish Council (Stockton) Meeting
DESCRIPTION:
URL:https://wynyardmatters.org/event/wynyard-parish-council-stockton-meeting-11/2028-01-18/
LOCATION:Wynyard Church of England Primary School\, Redwood Drive\, Wynyard\, Stockton-on-Tees\, TS22 5UB\, United Kingdom
CATEGORIES:Monthly,Parish Council
ORGANIZER;CN="Wynyard Parish Council (Stockton)":MAILTO:wynyardparishcouncil@gmail.com
END:VEVENT
BEGIN:VEVENT
DTSTART;TZID=Europe/London:20280119T100000
DTEND;TZID=Europe/London:20280119T120000
DTSTAMP:20260423T143837
CREATED:20251202T093307Z
LAST-MODIFIED:20260304T105415Z
UID:10000802-1831888800-1831896000@wynyardmatters.org
SUMMARY:Wynyard Woodland Walk
DESCRIPTION:
URL:https://wynyardmatters.org/event/wynyard-woodland-walk-16/2028-01-19/
LOCATION:Station House Tea Rooms\, Wynyard\, Stockton-on-Tees\, TS21 3JG\, United Kingdom
CATEGORIES:Fortnightly
END:VEVENT
BEGIN:VEVENT
DTSTART;TZID=Europe/London:20280119T110000
DTEND;TZID=Europe/London:20280119T130000
DTSTAMP:20260423T143837
CREATED:20251202T093903Z
LAST-MODIFIED:20260304T105843Z
UID:10001304-1831892400-1831899600@wynyardmatters.org
SUMMARY:Glasshouse Coffee Morning
DESCRIPTION:
URL:https://wynyardmatters.org/event/coffee-morning-21/2028-01-19/
LOCATION:Glasshouse\, Brierley Drive\, Wynyard\, Stockton-on-Tees\, TS22 5NG\, United Kingdom
CATEGORIES:Community,Weekly
END:VEVENT
BEGIN:VEVENT
DTSTART;TZID=Europe/London:20280120T143000
DTEND;TZID=Europe/London:20280120T150000
DTSTAMP:20260423T143837
CREATED:20251202T100100Z
LAST-MODIFIED:20260304T110210Z
UID:10001499-1831991400-1831993200@wynyardmatters.org
SUMMARY:Library Van
DESCRIPTION:The Mobile Library visits the parts of the Borough where there is no static community library within easy reach. \nThe Mobile Library carries a range of materials but on a smaller scale than a community library. It operates on a 3-weekly schedule\, visiting on a set day and time and at a designated place. \nCome for a cuppa in the pub after!
URL:https://wynyardmatters.org/event/library-van-14/2028-01-20/
LOCATION:The Stables Car Park\, 138 The Stables\, Wynyard\, Stockton-on-Tees\, TS22 5QQ\, United Kingdom
CATEGORIES:Community
ORGANIZER;CN="Stockton Borough Council":MAILTO:mobilelibrary.services@stockton.gov.uk
END:VEVENT
BEGIN:VEVENT
DTSTART;TZID=Europe/London:20280122T090000
DTEND;TZID=Europe/London:20280122T110000
DTSTAMP:20260423T143837
CREATED:20251202T094513Z
LAST-MODIFIED:20260304T105320Z
UID:10000590-1832144400-1832151600@wynyardmatters.org
SUMMARY:Park Run - Wynyard Woodland Walk
DESCRIPTION:What is Wynyard Woodland parkrun?\nA free\, fun\, and friendly weekly 5k community event. Walk\, jog\, run\, volunteer or spectate – it’s up to you! \nWhen is it?\nEvery Saturday at 9:00am. \nWhere is it?\nThe event takes place at Wynyard Woodland\, Station House\, Thorpe Thewles\, Stockton-on-Tees\, TS21 3JG. See Course page for more details. \nWhat does it cost to join in?\nNothing – it’s free! but please register before you first come along. Only ever register with parkrun once and don’t forget to bring a scannable copy of your barcode (request a reminder). If you forget it\, you won’t get a time. \nHow fast do I have to be?\nWe all take part for our own enjoyment. Please come along and join in whatever your pace! \nWynyard Woodland parkrun needs you!\nIt is entirely organised by volunteers – email wynyardwoodland@parkrun.com to help. \nSafeguarding\nparkrun is committed to safeguarding and promoting the welfare of children and adults at risk. For our full safeguarding processes and policies\, including how to report a concern\, please see our Safeguarding Hub. \nWe’re friendly!\nEvery week we grab a post parkrun coffee at Station House Tea Rooms\, Wynyard – please come and join us!
URL:https://wynyardmatters.org/event/park-run-wynyard-woodland-walk-46/2028-01-22/
LOCATION:Wynyard Woodland\, Station House\, Thorpe Thewles\, Stockton-on-Tees\, TS21 3JG\, United Kingdom
CATEGORIES:Weekly
END:VEVENT
BEGIN:VEVENT
DTSTART;TZID=Europe/London:20280125T100000
DTEND;TZID=Europe/London:20280125T120000
DTSTAMP:20260423T143837
CREATED:20260304T105003Z
LAST-MODIFIED:20260304T105003Z
UID:10000329-1832407200-1832414400@wynyardmatters.org
SUMMARY:Weekly Nordic Walking
DESCRIPTION:
URL:https://wynyardmatters.org/event/weekly-nordic-walking/2028-01-25/
LOCATION:The Stables Car Park\, 138 The Stables\, Wynyard\, Stockton-on-Tees\, TS22 5QQ\, United Kingdom
CATEGORIES:Weekly
END:VEVENT
BEGIN:VEVENT
DTSTART;TZID=Europe/London:20280125T140000
DTEND;TZID=Europe/London:20280125T160000
DTSTAMP:20260423T143837
CREATED:20251202T100036Z
LAST-MODIFIED:20260304T105749Z
UID:10001168-1832421600-1832428800@wynyardmatters.org
SUMMARY:Meet & Greet Golf Club
DESCRIPTION:
URL:https://wynyardmatters.org/event/meet-greet-golf-club-4/2028-01-25/
LOCATION:Wynyard Golf Club\, Wellington Drive\, Wynyard\, TS22 5QJ\, United Kingdom
CATEGORIES:Community,Monthly
END:VEVENT
BEGIN:VEVENT
DTSTART;TZID=Europe/London:20280126T110000
DTEND;TZID=Europe/London:20280126T130000
DTSTAMP:20260423T143837
CREATED:20251202T093903Z
LAST-MODIFIED:20260304T105843Z
UID:10001305-1832497200-1832504400@wynyardmatters.org
SUMMARY:Glasshouse Coffee Morning
DESCRIPTION:
URL:https://wynyardmatters.org/event/coffee-morning-21/2028-01-26/
LOCATION:Glasshouse\, Brierley Drive\, Wynyard\, Stockton-on-Tees\, TS22 5NG\, United Kingdom
CATEGORIES:Community,Weekly
END:VEVENT
BEGIN:VEVENT
DTSTART;TZID=Europe/London:20280129T090000
DTEND;TZID=Europe/London:20280129T110000
DTSTAMP:20260423T143837
CREATED:20251202T094513Z
LAST-MODIFIED:20260304T105320Z
UID:10000591-1832749200-1832756400@wynyardmatters.org
SUMMARY:Park Run - Wynyard Woodland Walk
DESCRIPTION:What is Wynyard Woodland parkrun?\nA free\, fun\, and friendly weekly 5k community event. Walk\, jog\, run\, volunteer or spectate – it’s up to you! \nWhen is it?\nEvery Saturday at 9:00am. \nWhere is it?\nThe event takes place at Wynyard Woodland\, Station House\, Thorpe Thewles\, Stockton-on-Tees\, TS21 3JG. See Course page for more details. \nWhat does it cost to join in?\nNothing – it’s free! but please register before you first come along. Only ever register with parkrun once and don’t forget to bring a scannable copy of your barcode (request a reminder). If you forget it\, you won’t get a time. \nHow fast do I have to be?\nWe all take part for our own enjoyment. Please come along and join in whatever your pace! \nWynyard Woodland parkrun needs you!\nIt is entirely organised by volunteers – email wynyardwoodland@parkrun.com to help. \nSafeguarding\nparkrun is committed to safeguarding and promoting the welfare of children and adults at risk. For our full safeguarding processes and policies\, including how to report a concern\, please see our Safeguarding Hub. \nWe’re friendly!\nEvery week we grab a post parkrun coffee at Station House Tea Rooms\, Wynyard – please come and join us!
URL:https://wynyardmatters.org/event/park-run-wynyard-woodland-walk-46/2028-01-29/
LOCATION:Wynyard Woodland\, Station House\, Thorpe Thewles\, Stockton-on-Tees\, TS21 3JG\, United Kingdom
CATEGORIES:Weekly
END:VEVENT
BEGIN:VEVENT
DTSTART;TZID=Europe/London:20280201T100000
DTEND;TZID=Europe/London:20280201T120000
DTSTAMP:20260423T143837
CREATED:20260304T105003Z
LAST-MODIFIED:20260304T105003Z
UID:10000330-1833012000-1833019200@wynyardmatters.org
SUMMARY:Weekly Nordic Walking
DESCRIPTION:
URL:https://wynyardmatters.org/event/weekly-nordic-walking/2028-02-01/
LOCATION:The Stables Car Park\, 138 The Stables\, Wynyard\, Stockton-on-Tees\, TS22 5QQ\, United Kingdom
CATEGORIES:Weekly
END:VEVENT
BEGIN:VEVENT
DTSTART;TZID=Europe/London:20280202T100000
DTEND;TZID=Europe/London:20280202T120000
DTSTAMP:20260423T143837
CREATED:20251202T093307Z
LAST-MODIFIED:20260304T105415Z
UID:10000803-1833098400-1833105600@wynyardmatters.org
SUMMARY:Wynyard Woodland Walk
DESCRIPTION:
URL:https://wynyardmatters.org/event/wynyard-woodland-walk-16/2028-02-02/
LOCATION:Station House Tea Rooms\, Wynyard\, Stockton-on-Tees\, TS21 3JG\, United Kingdom
CATEGORIES:Fortnightly
END:VEVENT
BEGIN:VEVENT
DTSTART;TZID=Europe/London:20280202T110000
DTEND;TZID=Europe/London:20280202T130000
DTSTAMP:20260423T143837
CREATED:20251202T093903Z
LAST-MODIFIED:20260304T105843Z
UID:10001306-1833102000-1833109200@wynyardmatters.org
SUMMARY:Glasshouse Coffee Morning
DESCRIPTION:
URL:https://wynyardmatters.org/event/coffee-morning-21/2028-02-02/
LOCATION:Glasshouse\, Brierley Drive\, Wynyard\, Stockton-on-Tees\, TS22 5NG\, United Kingdom
CATEGORIES:Community,Weekly
END:VEVENT
BEGIN:VEVENT
DTSTART;TZID=Europe/London:20280205T090000
DTEND;TZID=Europe/London:20280205T110000
DTSTAMP:20260423T143837
CREATED:20251202T094513Z
LAST-MODIFIED:20260304T105320Z
UID:10000592-1833354000-1833361200@wynyardmatters.org
SUMMARY:Park Run - Wynyard Woodland Walk
DESCRIPTION:What is Wynyard Woodland parkrun?\nA free\, fun\, and friendly weekly 5k community event. Walk\, jog\, run\, volunteer or spectate – it’s up to you! \nWhen is it?\nEvery Saturday at 9:00am. \nWhere is it?\nThe event takes place at Wynyard Woodland\, Station House\, Thorpe Thewles\, Stockton-on-Tees\, TS21 3JG. See Course page for more details. \nWhat does it cost to join in?\nNothing – it’s free! but please register before you first come along. Only ever register with parkrun once and don’t forget to bring a scannable copy of your barcode (request a reminder). If you forget it\, you won’t get a time. \nHow fast do I have to be?\nWe all take part for our own enjoyment. Please come along and join in whatever your pace! \nWynyard Woodland parkrun needs you!\nIt is entirely organised by volunteers – email wynyardwoodland@parkrun.com to help. \nSafeguarding\nparkrun is committed to safeguarding and promoting the welfare of children and adults at risk. For our full safeguarding processes and policies\, including how to report a concern\, please see our Safeguarding Hub. \nWe’re friendly!\nEvery week we grab a post parkrun coffee at Station House Tea Rooms\, Wynyard – please come and join us!
URL:https://wynyardmatters.org/event/park-run-wynyard-woodland-walk-46/2028-02-05/
LOCATION:Wynyard Woodland\, Station House\, Thorpe Thewles\, Stockton-on-Tees\, TS21 3JG\, United Kingdom
CATEGORIES:Weekly
END:VEVENT
BEGIN:VEVENT
DTSTART;TZID=Europe/London:20280208T100000
DTEND;TZID=Europe/London:20280208T120000
DTSTAMP:20260423T143837
CREATED:20260304T105003Z
LAST-MODIFIED:20260304T105003Z
UID:10000331-1833616800-1833624000@wynyardmatters.org
SUMMARY:Weekly Nordic Walking
DESCRIPTION:
URL:https://wynyardmatters.org/event/weekly-nordic-walking/2028-02-08/
LOCATION:The Stables Car Park\, 138 The Stables\, Wynyard\, Stockton-on-Tees\, TS22 5QQ\, United Kingdom
CATEGORIES:Weekly
END:VEVENT
BEGIN:VEVENT
DTSTART;TZID=Europe/London:20280209T110000
DTEND;TZID=Europe/London:20280209T130000
DTSTAMP:20260423T143837
CREATED:20251202T093903Z
LAST-MODIFIED:20260304T105843Z
UID:10001307-1833706800-1833714000@wynyardmatters.org
SUMMARY:Glasshouse Coffee Morning
DESCRIPTION:
URL:https://wynyardmatters.org/event/coffee-morning-21/2028-02-09/
LOCATION:Glasshouse\, Brierley Drive\, Wynyard\, Stockton-on-Tees\, TS22 5NG\, United Kingdom
CATEGORIES:Community,Weekly
END:VEVENT
BEGIN:VEVENT
DTSTART;TZID=Europe/London:20280210T143000
DTEND;TZID=Europe/London:20280210T150000
DTSTAMP:20260423T143837
CREATED:20251202T100100Z
LAST-MODIFIED:20260304T110210Z
UID:10001500-1833805800-1833807600@wynyardmatters.org
SUMMARY:Library Van
DESCRIPTION:The Mobile Library visits the parts of the Borough where there is no static community library within easy reach. \nThe Mobile Library carries a range of materials but on a smaller scale than a community library. It operates on a 3-weekly schedule\, visiting on a set day and time and at a designated place. \nCome for a cuppa in the pub after!
URL:https://wynyardmatters.org/event/library-van-14/2028-02-10/
LOCATION:The Stables Car Park\, 138 The Stables\, Wynyard\, Stockton-on-Tees\, TS22 5QQ\, United Kingdom
CATEGORIES:Community
ORGANIZER;CN="Stockton Borough Council":MAILTO:mobilelibrary.services@stockton.gov.uk
END:VEVENT
BEGIN:VEVENT
DTSTART;TZID=Europe/London:20280212T090000
DTEND;TZID=Europe/London:20280212T110000
DTSTAMP:20260423T143837
CREATED:20251202T094513Z
LAST-MODIFIED:20260304T105320Z
UID:10000593-1833958800-1833966000@wynyardmatters.org
SUMMARY:Park Run - Wynyard Woodland Walk
DESCRIPTION:What is Wynyard Woodland parkrun?\nA free\, fun\, and friendly weekly 5k community event. Walk\, jog\, run\, volunteer or spectate – it’s up to you! \nWhen is it?\nEvery Saturday at 9:00am. \nWhere is it?\nThe event takes place at Wynyard Woodland\, Station House\, Thorpe Thewles\, Stockton-on-Tees\, TS21 3JG. See Course page for more details. \nWhat does it cost to join in?\nNothing – it’s free! but please register before you first come along. Only ever register with parkrun once and don’t forget to bring a scannable copy of your barcode (request a reminder). If you forget it\, you won’t get a time. \nHow fast do I have to be?\nWe all take part for our own enjoyment. Please come along and join in whatever your pace! \nWynyard Woodland parkrun needs you!\nIt is entirely organised by volunteers – email wynyardwoodland@parkrun.com to help. \nSafeguarding\nparkrun is committed to safeguarding and promoting the welfare of children and adults at risk. For our full safeguarding processes and policies\, including how to report a concern\, please see our Safeguarding Hub. \nWe’re friendly!\nEvery week we grab a post parkrun coffee at Station House Tea Rooms\, Wynyard – please come and join us!
URL:https://wynyardmatters.org/event/park-run-wynyard-woodland-walk-46/2028-02-12/
LOCATION:Wynyard Woodland\, Station House\, Thorpe Thewles\, Stockton-on-Tees\, TS21 3JG\, United Kingdom
CATEGORIES:Weekly
END:VEVENT
BEGIN:VEVENT
DTSTART;TZID=Europe/London:20280212T090000
DTEND;TZID=Europe/London:20280212T140000
DTSTAMP:20260423T143837
CREATED:20251202T095213Z
LAST-MODIFIED:20260304T110709Z
UID:10001581-1833958800-1833976800@wynyardmatters.org
SUMMARY:Hartlepool Farmers Market
DESCRIPTION:
URL:https://wynyardmatters.org/event/hartlepool-farmers-market-8/2028-02-12/
LOCATION:Hartlepool Marina\, Slake Terrace\, Hartlepool\, TS24 0RU\, United Kingdom
CATEGORIES:Monthly
END:VEVENT
BEGIN:VEVENT
DTSTART;TZID=Europe/London:20280215T100000
DTEND;TZID=Europe/London:20280215T120000
DTSTAMP:20260423T143837
CREATED:20260304T105003Z
LAST-MODIFIED:20260304T105003Z
UID:10000332-1834221600-1834228800@wynyardmatters.org
SUMMARY:Weekly Nordic Walking
DESCRIPTION:
URL:https://wynyardmatters.org/event/weekly-nordic-walking/2028-02-15/
LOCATION:The Stables Car Park\, 138 The Stables\, Wynyard\, Stockton-on-Tees\, TS22 5QQ\, United Kingdom
CATEGORIES:Weekly
END:VEVENT
BEGIN:VEVENT
DTSTART;TZID=Europe/London:20280215T183000
DTEND;TZID=Europe/London:20280215T200000
DTSTAMP:20260423T143837
CREATED:20260304T111026Z
LAST-MODIFIED:20260304T111026Z
UID:10001702-1834252200-1834257600@wynyardmatters.org
SUMMARY:Wynyard Parish Council (Stockton) Meeting
DESCRIPTION:
URL:https://wynyardmatters.org/event/wynyard-parish-council-stockton-meeting-11/2028-02-15/
LOCATION:Wynyard Church of England Primary School\, Redwood Drive\, Wynyard\, Stockton-on-Tees\, TS22 5UB\, United Kingdom
CATEGORIES:Monthly,Parish Council
ORGANIZER;CN="Wynyard Parish Council (Stockton)":MAILTO:wynyardparishcouncil@gmail.com
END:VEVENT
BEGIN:VEVENT
DTSTART;TZID=Europe/London:20280216T100000
DTEND;TZID=Europe/London:20280216T120000
DTSTAMP:20260423T143837
CREATED:20251202T093307Z
LAST-MODIFIED:20260304T105415Z
UID:10000804-1834308000-1834315200@wynyardmatters.org
SUMMARY:Wynyard Woodland Walk
DESCRIPTION:
URL:https://wynyardmatters.org/event/wynyard-woodland-walk-16/2028-02-16/
LOCATION:Station House Tea Rooms\, Wynyard\, Stockton-on-Tees\, TS21 3JG\, United Kingdom
CATEGORIES:Fortnightly
END:VEVENT
BEGIN:VEVENT
DTSTART;TZID=Europe/London:20280216T110000
DTEND;TZID=Europe/London:20280216T130000
DTSTAMP:20260423T143837
CREATED:20251202T093903Z
LAST-MODIFIED:20260304T105843Z
UID:10001308-1834311600-1834318800@wynyardmatters.org
SUMMARY:Glasshouse Coffee Morning
DESCRIPTION:
URL:https://wynyardmatters.org/event/coffee-morning-21/2028-02-16/
LOCATION:Glasshouse\, Brierley Drive\, Wynyard\, Stockton-on-Tees\, TS22 5NG\, United Kingdom
CATEGORIES:Community,Weekly
END:VEVENT
BEGIN:VEVENT
DTSTART;TZID=Europe/London:20280219T090000
DTEND;TZID=Europe/London:20280219T110000
DTSTAMP:20260423T143837
CREATED:20251202T094513Z
LAST-MODIFIED:20260304T105320Z
UID:10000594-1834563600-1834570800@wynyardmatters.org
SUMMARY:Park Run - Wynyard Woodland Walk
DESCRIPTION:What is Wynyard Woodland parkrun?\nA free\, fun\, and friendly weekly 5k community event. Walk\, jog\, run\, volunteer or spectate – it’s up to you! \nWhen is it?\nEvery Saturday at 9:00am. \nWhere is it?\nThe event takes place at Wynyard Woodland\, Station House\, Thorpe Thewles\, Stockton-on-Tees\, TS21 3JG. See Course page for more details. \nWhat does it cost to join in?\nNothing – it’s free! but please register before you first come along. Only ever register with parkrun once and don’t forget to bring a scannable copy of your barcode (request a reminder). If you forget it\, you won’t get a time. \nHow fast do I have to be?\nWe all take part for our own enjoyment. Please come along and join in whatever your pace! \nWynyard Woodland parkrun needs you!\nIt is entirely organised by volunteers – email wynyardwoodland@parkrun.com to help. \nSafeguarding\nparkrun is committed to safeguarding and promoting the welfare of children and adults at risk. For our full safeguarding processes and policies\, including how to report a concern\, please see our Safeguarding Hub. \nWe’re friendly!\nEvery week we grab a post parkrun coffee at Station House Tea Rooms\, Wynyard – please come and join us!
URL:https://wynyardmatters.org/event/park-run-wynyard-woodland-walk-46/2028-02-19/
LOCATION:Wynyard Woodland\, Station House\, Thorpe Thewles\, Stockton-on-Tees\, TS21 3JG\, United Kingdom
CATEGORIES:Weekly
END:VEVENT
BEGIN:VEVENT
DTSTART;TZID=Europe/London:20280220T090000
DTEND;TZID=Europe/London:20280220T140000
DTSTAMP:20260423T143837
CREATED:20251202T095232Z
LAST-MODIFIED:20260304T110806Z
UID:10001641-1834650000-1834668000@wynyardmatters.org
SUMMARY:Wynyard Farmers Market
DESCRIPTION:
URL:https://wynyardmatters.org/event/wynyard-farmers-market-11/2028-02-20/
LOCATION:Wynyard Hall Walled Gardens\, Wynyard Road\, Wynyard\, Stockton-on-Tees\, TS22 5NG\, United Kingdom
CATEGORIES:Monthly
ORGANIZER;CN="Wynyard Hall":MAILTO:reception@wynyardhall.co.uk
END:VEVENT
BEGIN:VEVENT
DTSTART;TZID=Europe/London:20280222T100000
DTEND;TZID=Europe/London:20280222T120000
DTSTAMP:20260423T143837
CREATED:20260304T105003Z
LAST-MODIFIED:20260304T105003Z
UID:10000333-1834826400-1834833600@wynyardmatters.org
SUMMARY:Weekly Nordic Walking
DESCRIPTION:
URL:https://wynyardmatters.org/event/weekly-nordic-walking/2028-02-22/
LOCATION:The Stables Car Park\, 138 The Stables\, Wynyard\, Stockton-on-Tees\, TS22 5QQ\, United Kingdom
CATEGORIES:Weekly
END:VEVENT
BEGIN:VEVENT
DTSTART;TZID=Europe/London:20280223T110000
DTEND;TZID=Europe/London:20280223T130000
DTSTAMP:20260423T143837
CREATED:20251202T093903Z
LAST-MODIFIED:20260304T105843Z
UID:10001309-1834916400-1834923600@wynyardmatters.org
SUMMARY:Glasshouse Coffee Morning
DESCRIPTION:
URL:https://wynyardmatters.org/event/coffee-morning-21/2028-02-23/
LOCATION:Glasshouse\, Brierley Drive\, Wynyard\, Stockton-on-Tees\, TS22 5NG\, United Kingdom
CATEGORIES:Community,Weekly
END:VEVENT
BEGIN:VEVENT
DTSTART;TZID=Europe/London:20280226T090000
DTEND;TZID=Europe/London:20280226T110000
DTSTAMP:20260423T143837
CREATED:20251202T094513Z
LAST-MODIFIED:20260304T105320Z
UID:10000595-1835168400-1835175600@wynyardmatters.org
SUMMARY:Park Run - Wynyard Woodland Walk
DESCRIPTION:What is Wynyard Woodland parkrun?\nA free\, fun\, and friendly weekly 5k community event. Walk\, jog\, run\, volunteer or spectate – it’s up to you! \nWhen is it?\nEvery Saturday at 9:00am. \nWhere is it?\nThe event takes place at Wynyard Woodland\, Station House\, Thorpe Thewles\, Stockton-on-Tees\, TS21 3JG. See Course page for more details. \nWhat does it cost to join in?\nNothing – it’s free! but please register before you first come along. Only ever register with parkrun once and don’t forget to bring a scannable copy of your barcode (request a reminder). If you forget it\, you won’t get a time. \nHow fast do I have to be?\nWe all take part for our own enjoyment. Please come along and join in whatever your pace! \nWynyard Woodland parkrun needs you!\nIt is entirely organised by volunteers – email wynyardwoodland@parkrun.com to help. \nSafeguarding\nparkrun is committed to safeguarding and promoting the welfare of children and adults at risk. For our full safeguarding processes and policies\, including how to report a concern\, please see our Safeguarding Hub. \nWe’re friendly!\nEvery week we grab a post parkrun coffee at Station House Tea Rooms\, Wynyard – please come and join us!
URL:https://wynyardmatters.org/event/park-run-wynyard-woodland-walk-46/2028-02-26/
LOCATION:Wynyard Woodland\, Station House\, Thorpe Thewles\, Stockton-on-Tees\, TS21 3JG\, United Kingdom
CATEGORIES:Weekly
END:VEVENT
END:VCALENDAR