BEGIN:VCALENDAR
VERSION:2.0
PRODID:-//Wynyard Matters - ECPv6.15.20//NONSGML v1.0//EN
CALSCALE:GREGORIAN
METHOD:PUBLISH
X-WR-CALNAME:Wynyard Matters
X-ORIGINAL-URL:https://wynyardmatters.org
X-WR-CALDESC:Events for Wynyard Matters
REFRESH-INTERVAL;VALUE=DURATION:PT1H
X-Robots-Tag:noindex
X-PUBLISHED-TTL:PT1H
BEGIN:VTIMEZONE
TZID:Europe/London
BEGIN:DAYLIGHT
TZOFFSETFROM:+0000
TZOFFSETTO:+0100
TZNAME:BST
DTSTART:20240331T010000
END:DAYLIGHT
BEGIN:STANDARD
TZOFFSETFROM:+0100
TZOFFSETTO:+0000
TZNAME:GMT
DTSTART:20241027T010000
END:STANDARD
BEGIN:DAYLIGHT
TZOFFSETFROM:+0000
TZOFFSETTO:+0100
TZNAME:BST
DTSTART:20250330T010000
END:DAYLIGHT
BEGIN:STANDARD
TZOFFSETFROM:+0100
TZOFFSETTO:+0000
TZNAME:GMT
DTSTART:20251026T010000
END:STANDARD
BEGIN:DAYLIGHT
TZOFFSETFROM:+0000
TZOFFSETTO:+0100
TZNAME:BST
DTSTART:20260329T010000
END:DAYLIGHT
BEGIN:STANDARD
TZOFFSETFROM:+0100
TZOFFSETTO:+0000
TZNAME:GMT
DTSTART:20261025T010000
END:STANDARD
END:VTIMEZONE
BEGIN:VEVENT
DTSTART;TZID=Europe/London:20250312T110000
DTEND;TZID=Europe/London:20250312T130000
DTSTAMP:20260419T141520
CREATED:20250228T231121Z
LAST-MODIFIED:20250309T193724Z
UID:10000025-1741777200-1741784400@wynyardmatters.org
SUMMARY:Meet and Greet Coffee Morning
DESCRIPTION:
URL:https://wynyardmatters.org/event/meet-and-greet-coffee-morning/
LOCATION:Glasshouse\, Brierley Drive\, Wynyard\, Stockton-on-Tees\, TS22 5NG\, United Kingdom
CATEGORIES:Community,Monthly
END:VEVENT
BEGIN:VEVENT
DTSTART;TZID=Europe/London:20250311T183000
DTEND;TZID=Europe/London:20250311T200000
DTSTAMP:20260419T141520
CREATED:20250228T230934Z
LAST-MODIFIED:20250309T193724Z
UID:10000024-1741717800-1741723200@wynyardmatters.org
SUMMARY:WRA March 2025 Meeting
DESCRIPTION:
URL:https://wynyardmatters.org/event/wra-march-2025-meeting/
LOCATION:Wynyard Church of England Primary School\, Redwood Drive\, Wynyard\, Stockton-on-Tees\, TS22 5UB\, United Kingdom
CATEGORIES:WRA Meetings
END:VEVENT
BEGIN:VEVENT
DTSTART;TZID=Europe/London:20250309T150000
DTEND;TZID=Europe/London:20250309T170000
DTSTAMP:20260419T141520
CREATED:20250228T230840Z
LAST-MODIFIED:20250309T193724Z
UID:10000023-1741532400-1741539600@wynyardmatters.org
SUMMARY:Vine Church Wynyard Service - Cancelled
DESCRIPTION:Sunday gatherings are relaxed and informal and are an excellent place for all ages to learn what it means to follow Jesus!
URL:https://wynyardmatters.org/event/vine-church-wynyard-service/
LOCATION:Wynyard Church of England Primary School\, Redwood Drive\, Wynyard\, Stockton-on-Tees\, TS22 5UB\, United Kingdom
CATEGORIES:Community
ORGANIZER;CN="Vine Church Wynyard":MAILTO:hello@wynyard.church
END:VEVENT
BEGIN:VEVENT
DTSTART;TZID=Europe/London:20250308T090000
DTEND;TZID=Europe/London:20250308T110000
DTSTAMP:20260419T141520
CREATED:20250228T225151Z
LAST-MODIFIED:20250309T193724Z
UID:10000005-1741424400-1741431600@wynyardmatters.org
SUMMARY:Park Run - Wynyard Woodland Walk
DESCRIPTION:What is Wynyard Woodland parkrun?\nA free\, fun\, and friendly weekly 5k community event. Walk\, jog\, run\, volunteer or spectate – it’s up to you! \nWhen is it?\nEvery Saturday at 9:00am. \nWhere is it?\nThe event takes place at Wynyard Woodland\, Station House\, Thorpe Thewles\, Stockton-on-Tees\, TS21 3JG. See Course page for more details. \nWhat does it cost to join in?\nNothing – it’s free! but please register before you first come along. Only ever register with parkrun once and don’t forget to bring a scannable copy of your barcode (request a reminder). If you forget it\, you won’t get a time. \nHow fast do I have to be?\nWe all take part for our own enjoyment. Please come along and join in whatever your pace! \nWynyard Woodland parkrun needs you!\nIt is entirely organised by volunteers – email wynyardwoodland@parkrun.com to help. \nSafeguarding\nparkrun is committed to safeguarding and promoting the welfare of children and adults at risk. For our full safeguarding processes and policies\, including how to report a concern\, please see our Safeguarding Hub. \nWe’re friendly!\nEvery week we grab a post parkrun coffee at Station House Tea Rooms\, Wynyard – please come and join us!
URL:https://wynyardmatters.org/event/park-run-wynyard-woodland-walk-2/
LOCATION:Wynyard Woodland\, Station House\, Thorpe Thewles\, Stockton-on-Tees\, TS21 3JG\, United Kingdom
CATEGORIES:Weekly
END:VEVENT
BEGIN:VEVENT
DTSTART;TZID=Europe/London:20250306T143000
DTEND;TZID=Europe/London:20250306T150000
DTSTAMP:20260419T141520
CREATED:20250228T230512Z
LAST-MODIFIED:20250309T193724Z
UID:10000019-1741271400-1741273200@wynyardmatters.org
SUMMARY:Library Van
DESCRIPTION:The Mobile Library visits the parts of the Borough where there is no static community library within easy reach. \nThe Mobile Library carries a range of materials but on a smaller scale than a community library. It operates on a 3-weekly schedule\, visiting on a set day and time and at a designated place.
URL:https://wynyardmatters.org/event/library-van/
LOCATION:The Stables Car Park\, 138 The Stables\, Wynyard\, Stockton-on-Tees\, TS22 5QQ\, United Kingdom
CATEGORIES:Community
ORGANIZER;CN="Stockton Borough Council":MAILTO:mobilelibrary.services@stockton.gov.uk
END:VEVENT
BEGIN:VEVENT
DTSTART;TZID=Europe/London:20250305T100000
DTEND;TZID=Europe/London:20250305T120000
DTSTAMP:20260419T141520
CREATED:20250228T230233Z
LAST-MODIFIED:20250309T193724Z
UID:10000018-1741168800-1741176000@wynyardmatters.org
SUMMARY:Wynyard Woodland Walk
DESCRIPTION:
URL:https://wynyardmatters.org/event/wynyard-woodland-walk/
LOCATION:Wynyard Woodland\, Station House\, Thorpe Thewles\, Stockton-on-Tees\, TS21 3JG\, United Kingdom
CATEGORIES:Fortnightly
END:VEVENT
BEGIN:VEVENT
DTSTART;TZID=Europe/London:20250304T100000
DTEND;TZID=Europe/London:20250304T120000
DTSTAMP:20260419T141520
CREATED:20250228T230016Z
LAST-MODIFIED:20250309T193724Z
UID:10000017-1741082400-1741089600@wynyardmatters.org
SUMMARY:Nordic Walking
DESCRIPTION:
URL:https://wynyardmatters.org/event/nordic-walking/
LOCATION:The Stables Car Park\, 138 The Stables\, Wynyard\, Stockton-on-Tees\, TS22 5QQ\, United Kingdom
CATEGORIES:Weekly
END:VEVENT
BEGIN:VEVENT
DTSTART;TZID=Europe/London:20250301T090000
DTEND;TZID=Europe/London:20250301T110000
DTSTAMP:20260419T141520
CREATED:20250228T225033Z
LAST-MODIFIED:20250309T193724Z
UID:10000004-1740819600-1740826800@wynyardmatters.org
SUMMARY:Park Run - Wynyard Woodland Walk
DESCRIPTION:What is Wynyard Woodland parkrun?\nA free\, fun\, and friendly weekly 5k community event. Walk\, jog\, run\, volunteer or spectate – it’s up to you! \nWhen is it?\nEvery Saturday at 9:00am. \nWhere is it?\nThe event takes place at Wynyard Woodland\, Station House\, Thorpe Thewles\, Stockton-on-Tees\, TS21 3JG. See Course page for more details. \nWhat does it cost to join in?\nNothing – it’s free! but please register before you first come along. Only ever register with parkrun once and don’t forget to bring a scannable copy of your barcode (request a reminder). If you forget it\, you won’t get a time. \nHow fast do I have to be?\nWe all take part for our own enjoyment. Please come along and join in whatever your pace! \nWynyard Woodland parkrun needs you!\nIt is entirely organised by volunteers – email wynyardwoodland@parkrun.com to help. \nSafeguarding\nparkrun is committed to safeguarding and promoting the welfare of children and adults at risk. For our full safeguarding processes and policies\, including how to report a concern\, please see our Safeguarding Hub. \nWe’re friendly!\nEvery week we grab a post parkrun coffee at Station House Tea Rooms\, Wynyard – please come and join us!
URL:https://wynyardmatters.org/event/park-run-wynyard-woodland-walk/
LOCATION:Wynyard Woodland\, Station House\, Thorpe Thewles\, Stockton-on-Tees\, TS21 3JG\, United Kingdom
CATEGORIES:Weekly
END:VEVENT
END:VCALENDAR