BEGIN:VCALENDAR
VERSION:2.0
PRODID:-//Wynyard Matters - ECPv6.15.20//NONSGML v1.0//EN
CALSCALE:GREGORIAN
METHOD:PUBLISH
X-ORIGINAL-URL:https://wynyardmatters.org
X-WR-CALDESC:Events for Wynyard Matters
REFRESH-INTERVAL;VALUE=DURATION:PT1H
X-Robots-Tag:noindex
X-PUBLISHED-TTL:PT1H
BEGIN:VTIMEZONE
TZID:Europe/London
BEGIN:DAYLIGHT
TZOFFSETFROM:+0000
TZOFFSETTO:+0100
TZNAME:BST
DTSTART:20270328T010000
END:DAYLIGHT
BEGIN:STANDARD
TZOFFSETFROM:+0100
TZOFFSETTO:+0000
TZNAME:GMT
DTSTART:20271031T010000
END:STANDARD
BEGIN:DAYLIGHT
TZOFFSETFROM:+0000
TZOFFSETTO:+0100
TZNAME:BST
DTSTART:20280326T010000
END:DAYLIGHT
BEGIN:STANDARD
TZOFFSETFROM:+0100
TZOFFSETTO:+0000
TZNAME:GMT
DTSTART:20281029T010000
END:STANDARD
BEGIN:DAYLIGHT
TZOFFSETFROM:+0000
TZOFFSETTO:+0100
TZNAME:BST
DTSTART:20290325T010000
END:DAYLIGHT
BEGIN:STANDARD
TZOFFSETFROM:+0100
TZOFFSETTO:+0000
TZNAME:GMT
DTSTART:20291028T010000
END:STANDARD
END:VTIMEZONE
BEGIN:VEVENT
DTSTART;TZID=Europe/London:20280301T110000
DTEND;TZID=Europe/London:20280301T130000
DTSTAMP:20260423T194043
CREATED:20251202T093903Z
LAST-MODIFIED:20260304T105843Z
UID:10001310-1835521200-1835528400@wynyardmatters.org
SUMMARY:Glasshouse Coffee Morning
DESCRIPTION:
URL:https://wynyardmatters.org/event/coffee-morning-21/2028-03-01/
LOCATION:Glasshouse\, Brierley Drive\, Wynyard\, Stockton-on-Tees\, TS22 5NG\, United Kingdom
CATEGORIES:Community,Weekly
END:VEVENT
BEGIN:VEVENT
DTSTART;TZID=Europe/London:20280304T090000
DTEND;TZID=Europe/London:20280304T110000
DTSTAMP:20260423T194043
CREATED:20251202T094513Z
LAST-MODIFIED:20260304T105320Z
UID:10000596-1835773200-1835780400@wynyardmatters.org
SUMMARY:Park Run - Wynyard Woodland Walk
DESCRIPTION:What is Wynyard Woodland parkrun?\nA free\, fun\, and friendly weekly 5k community event. Walk\, jog\, run\, volunteer or spectate – it’s up to you! \nWhen is it?\nEvery Saturday at 9:00am. \nWhere is it?\nThe event takes place at Wynyard Woodland\, Station House\, Thorpe Thewles\, Stockton-on-Tees\, TS21 3JG. See Course page for more details. \nWhat does it cost to join in?\nNothing – it’s free! but please register before you first come along. Only ever register with parkrun once and don’t forget to bring a scannable copy of your barcode (request a reminder). If you forget it\, you won’t get a time. \nHow fast do I have to be?\nWe all take part for our own enjoyment. Please come along and join in whatever your pace! \nWynyard Woodland parkrun needs you!\nIt is entirely organised by volunteers – email wynyardwoodland@parkrun.com to help. \nSafeguarding\nparkrun is committed to safeguarding and promoting the welfare of children and adults at risk. For our full safeguarding processes and policies\, including how to report a concern\, please see our Safeguarding Hub. \nWe’re friendly!\nEvery week we grab a post parkrun coffee at Station House Tea Rooms\, Wynyard – please come and join us!
URL:https://wynyardmatters.org/event/park-run-wynyard-woodland-walk-46/2028-03-04/
LOCATION:Wynyard Woodland\, Station House\, Thorpe Thewles\, Stockton-on-Tees\, TS21 3JG\, United Kingdom
CATEGORIES:Weekly
END:VEVENT
BEGIN:VEVENT
DTSTART;TZID=Europe/London:20280307T100000
DTEND;TZID=Europe/London:20280307T120000
DTSTAMP:20260423T194043
CREATED:20260304T105003Z
LAST-MODIFIED:20260304T105003Z
UID:10000335-1836036000-1836043200@wynyardmatters.org
SUMMARY:Weekly Nordic Walking
DESCRIPTION:
URL:https://wynyardmatters.org/event/weekly-nordic-walking/2028-03-07/
LOCATION:The Stables Car Park\, 138 The Stables\, Wynyard\, Stockton-on-Tees\, TS22 5QQ\, United Kingdom
CATEGORIES:Weekly
END:VEVENT
BEGIN:VEVENT
DTSTART;TZID=Europe/London:20280308T110000
DTEND;TZID=Europe/London:20280308T130000
DTSTAMP:20260423T194043
CREATED:20251202T093903Z
LAST-MODIFIED:20260304T105843Z
UID:10001311-1836126000-1836133200@wynyardmatters.org
SUMMARY:Glasshouse Coffee Morning
DESCRIPTION:
URL:https://wynyardmatters.org/event/coffee-morning-21/2028-03-08/
LOCATION:Glasshouse\, Brierley Drive\, Wynyard\, Stockton-on-Tees\, TS22 5NG\, United Kingdom
CATEGORIES:Community,Weekly
END:VEVENT
BEGIN:VEVENT
DTSTART;TZID=Europe/London:20280311T090000
DTEND;TZID=Europe/London:20280311T110000
DTSTAMP:20260423T194043
CREATED:20251202T094513Z
LAST-MODIFIED:20260304T105320Z
UID:10000597-1836378000-1836385200@wynyardmatters.org
SUMMARY:Park Run - Wynyard Woodland Walk
DESCRIPTION:What is Wynyard Woodland parkrun?\nA free\, fun\, and friendly weekly 5k community event. Walk\, jog\, run\, volunteer or spectate – it’s up to you! \nWhen is it?\nEvery Saturday at 9:00am. \nWhere is it?\nThe event takes place at Wynyard Woodland\, Station House\, Thorpe Thewles\, Stockton-on-Tees\, TS21 3JG. See Course page for more details. \nWhat does it cost to join in?\nNothing – it’s free! but please register before you first come along. Only ever register with parkrun once and don’t forget to bring a scannable copy of your barcode (request a reminder). If you forget it\, you won’t get a time. \nHow fast do I have to be?\nWe all take part for our own enjoyment. Please come along and join in whatever your pace! \nWynyard Woodland parkrun needs you!\nIt is entirely organised by volunteers – email wynyardwoodland@parkrun.com to help. \nSafeguarding\nparkrun is committed to safeguarding and promoting the welfare of children and adults at risk. For our full safeguarding processes and policies\, including how to report a concern\, please see our Safeguarding Hub. \nWe’re friendly!\nEvery week we grab a post parkrun coffee at Station House Tea Rooms\, Wynyard – please come and join us!
URL:https://wynyardmatters.org/event/park-run-wynyard-woodland-walk-46/2028-03-11/
LOCATION:Wynyard Woodland\, Station House\, Thorpe Thewles\, Stockton-on-Tees\, TS21 3JG\, United Kingdom
CATEGORIES:Weekly
END:VEVENT
BEGIN:VEVENT
DTSTART;TZID=Europe/London:20280314T100000
DTEND;TZID=Europe/London:20280314T120000
DTSTAMP:20260423T194043
CREATED:20260304T105003Z
LAST-MODIFIED:20260304T105003Z
UID:10000336-1836640800-1836648000@wynyardmatters.org
SUMMARY:Weekly Nordic Walking
DESCRIPTION:
URL:https://wynyardmatters.org/event/weekly-nordic-walking/2028-03-14/
LOCATION:The Stables Car Park\, 138 The Stables\, Wynyard\, Stockton-on-Tees\, TS22 5QQ\, United Kingdom
CATEGORIES:Weekly
END:VEVENT
BEGIN:VEVENT
DTSTART;TZID=Europe/London:20280315T110000
DTEND;TZID=Europe/London:20280315T130000
DTSTAMP:20260423T194043
CREATED:20251202T093903Z
LAST-MODIFIED:20260304T105843Z
UID:10001312-1836730800-1836738000@wynyardmatters.org
SUMMARY:Glasshouse Coffee Morning
DESCRIPTION:
URL:https://wynyardmatters.org/event/coffee-morning-21/2028-03-15/
LOCATION:Glasshouse\, Brierley Drive\, Wynyard\, Stockton-on-Tees\, TS22 5NG\, United Kingdom
CATEGORIES:Community,Weekly
END:VEVENT
BEGIN:VEVENT
DTSTART;TZID=Europe/London:20280318T090000
DTEND;TZID=Europe/London:20280318T110000
DTSTAMP:20260423T194043
CREATED:20251202T094513Z
LAST-MODIFIED:20260304T105320Z
UID:10000598-1836982800-1836990000@wynyardmatters.org
SUMMARY:Park Run - Wynyard Woodland Walk
DESCRIPTION:What is Wynyard Woodland parkrun?\nA free\, fun\, and friendly weekly 5k community event. Walk\, jog\, run\, volunteer or spectate – it’s up to you! \nWhen is it?\nEvery Saturday at 9:00am. \nWhere is it?\nThe event takes place at Wynyard Woodland\, Station House\, Thorpe Thewles\, Stockton-on-Tees\, TS21 3JG. See Course page for more details. \nWhat does it cost to join in?\nNothing – it’s free! but please register before you first come along. Only ever register with parkrun once and don’t forget to bring a scannable copy of your barcode (request a reminder). If you forget it\, you won’t get a time. \nHow fast do I have to be?\nWe all take part for our own enjoyment. Please come along and join in whatever your pace! \nWynyard Woodland parkrun needs you!\nIt is entirely organised by volunteers – email wynyardwoodland@parkrun.com to help. \nSafeguarding\nparkrun is committed to safeguarding and promoting the welfare of children and adults at risk. For our full safeguarding processes and policies\, including how to report a concern\, please see our Safeguarding Hub. \nWe’re friendly!\nEvery week we grab a post parkrun coffee at Station House Tea Rooms\, Wynyard – please come and join us!
URL:https://wynyardmatters.org/event/park-run-wynyard-woodland-walk-46/2028-03-18/
LOCATION:Wynyard Woodland\, Station House\, Thorpe Thewles\, Stockton-on-Tees\, TS21 3JG\, United Kingdom
CATEGORIES:Weekly
END:VEVENT
BEGIN:VEVENT
DTSTART;TZID=Europe/London:20280321T100000
DTEND;TZID=Europe/London:20280321T120000
DTSTAMP:20260423T194043
CREATED:20260304T105003Z
LAST-MODIFIED:20260304T105003Z
UID:10000337-1837245600-1837252800@wynyardmatters.org
SUMMARY:Weekly Nordic Walking
DESCRIPTION:
URL:https://wynyardmatters.org/event/weekly-nordic-walking/2028-03-21/
LOCATION:The Stables Car Park\, 138 The Stables\, Wynyard\, Stockton-on-Tees\, TS22 5QQ\, United Kingdom
CATEGORIES:Weekly
END:VEVENT
BEGIN:VEVENT
DTSTART;TZID=Europe/London:20280322T110000
DTEND;TZID=Europe/London:20280322T130000
DTSTAMP:20260423T194043
CREATED:20251202T093903Z
LAST-MODIFIED:20260304T105843Z
UID:10001313-1837335600-1837342800@wynyardmatters.org
SUMMARY:Glasshouse Coffee Morning
DESCRIPTION:
URL:https://wynyardmatters.org/event/coffee-morning-21/2028-03-22/
LOCATION:Glasshouse\, Brierley Drive\, Wynyard\, Stockton-on-Tees\, TS22 5NG\, United Kingdom
CATEGORIES:Community,Weekly
END:VEVENT
BEGIN:VEVENT
DTSTART;TZID=Europe/London:20280325T090000
DTEND;TZID=Europe/London:20280325T110000
DTSTAMP:20260423T194043
CREATED:20251202T094513Z
LAST-MODIFIED:20260304T105320Z
UID:10000599-1837587600-1837594800@wynyardmatters.org
SUMMARY:Park Run - Wynyard Woodland Walk
DESCRIPTION:What is Wynyard Woodland parkrun?\nA free\, fun\, and friendly weekly 5k community event. Walk\, jog\, run\, volunteer or spectate – it’s up to you! \nWhen is it?\nEvery Saturday at 9:00am. \nWhere is it?\nThe event takes place at Wynyard Woodland\, Station House\, Thorpe Thewles\, Stockton-on-Tees\, TS21 3JG. See Course page for more details. \nWhat does it cost to join in?\nNothing – it’s free! but please register before you first come along. Only ever register with parkrun once and don’t forget to bring a scannable copy of your barcode (request a reminder). If you forget it\, you won’t get a time. \nHow fast do I have to be?\nWe all take part for our own enjoyment. Please come along and join in whatever your pace! \nWynyard Woodland parkrun needs you!\nIt is entirely organised by volunteers – email wynyardwoodland@parkrun.com to help. \nSafeguarding\nparkrun is committed to safeguarding and promoting the welfare of children and adults at risk. For our full safeguarding processes and policies\, including how to report a concern\, please see our Safeguarding Hub. \nWe’re friendly!\nEvery week we grab a post parkrun coffee at Station House Tea Rooms\, Wynyard – please come and join us!
URL:https://wynyardmatters.org/event/park-run-wynyard-woodland-walk-46/2028-03-25/
LOCATION:Wynyard Woodland\, Station House\, Thorpe Thewles\, Stockton-on-Tees\, TS21 3JG\, United Kingdom
CATEGORIES:Weekly
END:VEVENT
BEGIN:VEVENT
DTSTART;TZID=Europe/London:20280328T100000
DTEND;TZID=Europe/London:20280328T120000
DTSTAMP:20260423T194043
CREATED:20260304T105003Z
LAST-MODIFIED:20260304T105003Z
UID:10000338-1837850400-1837857600@wynyardmatters.org
SUMMARY:Weekly Nordic Walking
DESCRIPTION:
URL:https://wynyardmatters.org/event/weekly-nordic-walking/2028-03-28/
LOCATION:The Stables Car Park\, 138 The Stables\, Wynyard\, Stockton-on-Tees\, TS22 5QQ\, United Kingdom
CATEGORIES:Weekly
END:VEVENT
BEGIN:VEVENT
DTSTART;TZID=Europe/London:20280329T110000
DTEND;TZID=Europe/London:20280329T130000
DTSTAMP:20260423T194043
CREATED:20251202T093903Z
LAST-MODIFIED:20260304T105843Z
UID:10001314-1837940400-1837947600@wynyardmatters.org
SUMMARY:Glasshouse Coffee Morning
DESCRIPTION:
URL:https://wynyardmatters.org/event/coffee-morning-21/2028-03-29/
LOCATION:Glasshouse\, Brierley Drive\, Wynyard\, Stockton-on-Tees\, TS22 5NG\, United Kingdom
CATEGORIES:Community,Weekly
END:VEVENT
BEGIN:VEVENT
DTSTART;TZID=Europe/London:20280401T090000
DTEND;TZID=Europe/London:20280401T110000
DTSTAMP:20260423T194043
CREATED:20251202T094513Z
LAST-MODIFIED:20260304T105320Z
UID:10000600-1838192400-1838199600@wynyardmatters.org
SUMMARY:Park Run - Wynyard Woodland Walk
DESCRIPTION:What is Wynyard Woodland parkrun?\nA free\, fun\, and friendly weekly 5k community event. Walk\, jog\, run\, volunteer or spectate – it’s up to you! \nWhen is it?\nEvery Saturday at 9:00am. \nWhere is it?\nThe event takes place at Wynyard Woodland\, Station House\, Thorpe Thewles\, Stockton-on-Tees\, TS21 3JG. See Course page for more details. \nWhat does it cost to join in?\nNothing – it’s free! but please register before you first come along. Only ever register with parkrun once and don’t forget to bring a scannable copy of your barcode (request a reminder). If you forget it\, you won’t get a time. \nHow fast do I have to be?\nWe all take part for our own enjoyment. Please come along and join in whatever your pace! \nWynyard Woodland parkrun needs you!\nIt is entirely organised by volunteers – email wynyardwoodland@parkrun.com to help. \nSafeguarding\nparkrun is committed to safeguarding and promoting the welfare of children and adults at risk. For our full safeguarding processes and policies\, including how to report a concern\, please see our Safeguarding Hub. \nWe’re friendly!\nEvery week we grab a post parkrun coffee at Station House Tea Rooms\, Wynyard – please come and join us!
URL:https://wynyardmatters.org/event/park-run-wynyard-woodland-walk-46/2028-04-01/
LOCATION:Wynyard Woodland\, Station House\, Thorpe Thewles\, Stockton-on-Tees\, TS21 3JG\, United Kingdom
CATEGORIES:Weekly
END:VEVENT
BEGIN:VEVENT
DTSTART;TZID=Europe/London:20280404T100000
DTEND;TZID=Europe/London:20280404T120000
DTSTAMP:20260423T194043
CREATED:20260304T105003Z
LAST-MODIFIED:20260304T105003Z
UID:10000339-1838455200-1838462400@wynyardmatters.org
SUMMARY:Weekly Nordic Walking
DESCRIPTION:
URL:https://wynyardmatters.org/event/weekly-nordic-walking/2028-04-04/
LOCATION:The Stables Car Park\, 138 The Stables\, Wynyard\, Stockton-on-Tees\, TS22 5QQ\, United Kingdom
CATEGORIES:Weekly
END:VEVENT
BEGIN:VEVENT
DTSTART;TZID=Europe/London:20280405T110000
DTEND;TZID=Europe/London:20280405T130000
DTSTAMP:20260423T194043
CREATED:20251202T093903Z
LAST-MODIFIED:20260304T105843Z
UID:10001315-1838545200-1838552400@wynyardmatters.org
SUMMARY:Glasshouse Coffee Morning
DESCRIPTION:
URL:https://wynyardmatters.org/event/coffee-morning-21/2028-04-05/
LOCATION:Glasshouse\, Brierley Drive\, Wynyard\, Stockton-on-Tees\, TS22 5NG\, United Kingdom
CATEGORIES:Community,Weekly
END:VEVENT
BEGIN:VEVENT
DTSTART;TZID=Europe/London:20280408T090000
DTEND;TZID=Europe/London:20280408T110000
DTSTAMP:20260423T194043
CREATED:20251202T094513Z
LAST-MODIFIED:20260304T105320Z
UID:10000601-1838797200-1838804400@wynyardmatters.org
SUMMARY:Park Run - Wynyard Woodland Walk
DESCRIPTION:What is Wynyard Woodland parkrun?\nA free\, fun\, and friendly weekly 5k community event. Walk\, jog\, run\, volunteer or spectate – it’s up to you! \nWhen is it?\nEvery Saturday at 9:00am. \nWhere is it?\nThe event takes place at Wynyard Woodland\, Station House\, Thorpe Thewles\, Stockton-on-Tees\, TS21 3JG. See Course page for more details. \nWhat does it cost to join in?\nNothing – it’s free! but please register before you first come along. Only ever register with parkrun once and don’t forget to bring a scannable copy of your barcode (request a reminder). If you forget it\, you won’t get a time. \nHow fast do I have to be?\nWe all take part for our own enjoyment. Please come along and join in whatever your pace! \nWynyard Woodland parkrun needs you!\nIt is entirely organised by volunteers – email wynyardwoodland@parkrun.com to help. \nSafeguarding\nparkrun is committed to safeguarding and promoting the welfare of children and adults at risk. For our full safeguarding processes and policies\, including how to report a concern\, please see our Safeguarding Hub. \nWe’re friendly!\nEvery week we grab a post parkrun coffee at Station House Tea Rooms\, Wynyard – please come and join us!
URL:https://wynyardmatters.org/event/park-run-wynyard-woodland-walk-46/2028-04-08/
LOCATION:Wynyard Woodland\, Station House\, Thorpe Thewles\, Stockton-on-Tees\, TS21 3JG\, United Kingdom
CATEGORIES:Weekly
END:VEVENT
BEGIN:VEVENT
DTSTART;TZID=Europe/London:20280411T100000
DTEND;TZID=Europe/London:20280411T120000
DTSTAMP:20260423T194043
CREATED:20260304T105003Z
LAST-MODIFIED:20260304T105003Z
UID:10000340-1839060000-1839067200@wynyardmatters.org
SUMMARY:Weekly Nordic Walking
DESCRIPTION:
URL:https://wynyardmatters.org/event/weekly-nordic-walking/2028-04-11/
LOCATION:The Stables Car Park\, 138 The Stables\, Wynyard\, Stockton-on-Tees\, TS22 5QQ\, United Kingdom
CATEGORIES:Weekly
END:VEVENT
BEGIN:VEVENT
DTSTART;TZID=Europe/London:20280412T110000
DTEND;TZID=Europe/London:20280412T130000
DTSTAMP:20260423T194043
CREATED:20251202T093903Z
LAST-MODIFIED:20260304T105843Z
UID:10001316-1839150000-1839157200@wynyardmatters.org
SUMMARY:Glasshouse Coffee Morning
DESCRIPTION:
URL:https://wynyardmatters.org/event/coffee-morning-21/2028-04-12/
LOCATION:Glasshouse\, Brierley Drive\, Wynyard\, Stockton-on-Tees\, TS22 5NG\, United Kingdom
CATEGORIES:Community,Weekly
END:VEVENT
BEGIN:VEVENT
DTSTART;TZID=Europe/London:20280415T090000
DTEND;TZID=Europe/London:20280415T110000
DTSTAMP:20260423T194043
CREATED:20251202T094513Z
LAST-MODIFIED:20260304T105320Z
UID:10000602-1839402000-1839409200@wynyardmatters.org
SUMMARY:Park Run - Wynyard Woodland Walk
DESCRIPTION:What is Wynyard Woodland parkrun?\nA free\, fun\, and friendly weekly 5k community event. Walk\, jog\, run\, volunteer or spectate – it’s up to you! \nWhen is it?\nEvery Saturday at 9:00am. \nWhere is it?\nThe event takes place at Wynyard Woodland\, Station House\, Thorpe Thewles\, Stockton-on-Tees\, TS21 3JG. See Course page for more details. \nWhat does it cost to join in?\nNothing – it’s free! but please register before you first come along. Only ever register with parkrun once and don’t forget to bring a scannable copy of your barcode (request a reminder). If you forget it\, you won’t get a time. \nHow fast do I have to be?\nWe all take part for our own enjoyment. Please come along and join in whatever your pace! \nWynyard Woodland parkrun needs you!\nIt is entirely organised by volunteers – email wynyardwoodland@parkrun.com to help. \nSafeguarding\nparkrun is committed to safeguarding and promoting the welfare of children and adults at risk. For our full safeguarding processes and policies\, including how to report a concern\, please see our Safeguarding Hub. \nWe’re friendly!\nEvery week we grab a post parkrun coffee at Station House Tea Rooms\, Wynyard – please come and join us!
URL:https://wynyardmatters.org/event/park-run-wynyard-woodland-walk-46/2028-04-15/
LOCATION:Wynyard Woodland\, Station House\, Thorpe Thewles\, Stockton-on-Tees\, TS21 3JG\, United Kingdom
CATEGORIES:Weekly
END:VEVENT
BEGIN:VEVENT
DTSTART;TZID=Europe/London:20280418T100000
DTEND;TZID=Europe/London:20280418T120000
DTSTAMP:20260423T194043
CREATED:20260304T105003Z
LAST-MODIFIED:20260304T105003Z
UID:10000341-1839664800-1839672000@wynyardmatters.org
SUMMARY:Weekly Nordic Walking
DESCRIPTION:
URL:https://wynyardmatters.org/event/weekly-nordic-walking/2028-04-18/
LOCATION:The Stables Car Park\, 138 The Stables\, Wynyard\, Stockton-on-Tees\, TS22 5QQ\, United Kingdom
CATEGORIES:Weekly
END:VEVENT
BEGIN:VEVENT
DTSTART;TZID=Europe/London:20280419T110000
DTEND;TZID=Europe/London:20280419T130000
DTSTAMP:20260423T194043
CREATED:20251202T093903Z
LAST-MODIFIED:20260304T105843Z
UID:10001317-1839754800-1839762000@wynyardmatters.org
SUMMARY:Glasshouse Coffee Morning
DESCRIPTION:
URL:https://wynyardmatters.org/event/coffee-morning-21/2028-04-19/
LOCATION:Glasshouse\, Brierley Drive\, Wynyard\, Stockton-on-Tees\, TS22 5NG\, United Kingdom
CATEGORIES:Community,Weekly
END:VEVENT
BEGIN:VEVENT
DTSTART;TZID=Europe/London:20280422T090000
DTEND;TZID=Europe/London:20280422T110000
DTSTAMP:20260423T194043
CREATED:20251202T094513Z
LAST-MODIFIED:20260304T105320Z
UID:10000603-1840006800-1840014000@wynyardmatters.org
SUMMARY:Park Run - Wynyard Woodland Walk
DESCRIPTION:What is Wynyard Woodland parkrun?\nA free\, fun\, and friendly weekly 5k community event. Walk\, jog\, run\, volunteer or spectate – it’s up to you! \nWhen is it?\nEvery Saturday at 9:00am. \nWhere is it?\nThe event takes place at Wynyard Woodland\, Station House\, Thorpe Thewles\, Stockton-on-Tees\, TS21 3JG. See Course page for more details. \nWhat does it cost to join in?\nNothing – it’s free! but please register before you first come along. Only ever register with parkrun once and don’t forget to bring a scannable copy of your barcode (request a reminder). If you forget it\, you won’t get a time. \nHow fast do I have to be?\nWe all take part for our own enjoyment. Please come along and join in whatever your pace! \nWynyard Woodland parkrun needs you!\nIt is entirely organised by volunteers – email wynyardwoodland@parkrun.com to help. \nSafeguarding\nparkrun is committed to safeguarding and promoting the welfare of children and adults at risk. For our full safeguarding processes and policies\, including how to report a concern\, please see our Safeguarding Hub. \nWe’re friendly!\nEvery week we grab a post parkrun coffee at Station House Tea Rooms\, Wynyard – please come and join us!
URL:https://wynyardmatters.org/event/park-run-wynyard-woodland-walk-46/2028-04-22/
LOCATION:Wynyard Woodland\, Station House\, Thorpe Thewles\, Stockton-on-Tees\, TS21 3JG\, United Kingdom
CATEGORIES:Weekly
END:VEVENT
BEGIN:VEVENT
DTSTART;TZID=Europe/London:20280425T100000
DTEND;TZID=Europe/London:20280425T120000
DTSTAMP:20260423T194044
CREATED:20260304T105003Z
LAST-MODIFIED:20260304T105003Z
UID:10000342-1840269600-1840276800@wynyardmatters.org
SUMMARY:Weekly Nordic Walking
DESCRIPTION:
URL:https://wynyardmatters.org/event/weekly-nordic-walking/2028-04-25/
LOCATION:The Stables Car Park\, 138 The Stables\, Wynyard\, Stockton-on-Tees\, TS22 5QQ\, United Kingdom
CATEGORIES:Weekly
END:VEVENT
BEGIN:VEVENT
DTSTART;TZID=Europe/London:20280426T110000
DTEND;TZID=Europe/London:20280426T130000
DTSTAMP:20260423T194044
CREATED:20251202T093903Z
LAST-MODIFIED:20260304T105843Z
UID:10001318-1840359600-1840366800@wynyardmatters.org
SUMMARY:Glasshouse Coffee Morning
DESCRIPTION:
URL:https://wynyardmatters.org/event/coffee-morning-21/2028-04-26/
LOCATION:Glasshouse\, Brierley Drive\, Wynyard\, Stockton-on-Tees\, TS22 5NG\, United Kingdom
CATEGORIES:Community,Weekly
END:VEVENT
BEGIN:VEVENT
DTSTART;TZID=Europe/London:20280429T090000
DTEND;TZID=Europe/London:20280429T110000
DTSTAMP:20260423T194044
CREATED:20251202T094513Z
LAST-MODIFIED:20260304T105320Z
UID:10000604-1840611600-1840618800@wynyardmatters.org
SUMMARY:Park Run - Wynyard Woodland Walk
DESCRIPTION:What is Wynyard Woodland parkrun?\nA free\, fun\, and friendly weekly 5k community event. Walk\, jog\, run\, volunteer or spectate – it’s up to you! \nWhen is it?\nEvery Saturday at 9:00am. \nWhere is it?\nThe event takes place at Wynyard Woodland\, Station House\, Thorpe Thewles\, Stockton-on-Tees\, TS21 3JG. See Course page for more details. \nWhat does it cost to join in?\nNothing – it’s free! but please register before you first come along. Only ever register with parkrun once and don’t forget to bring a scannable copy of your barcode (request a reminder). If you forget it\, you won’t get a time. \nHow fast do I have to be?\nWe all take part for our own enjoyment. Please come along and join in whatever your pace! \nWynyard Woodland parkrun needs you!\nIt is entirely organised by volunteers – email wynyardwoodland@parkrun.com to help. \nSafeguarding\nparkrun is committed to safeguarding and promoting the welfare of children and adults at risk. For our full safeguarding processes and policies\, including how to report a concern\, please see our Safeguarding Hub. \nWe’re friendly!\nEvery week we grab a post parkrun coffee at Station House Tea Rooms\, Wynyard – please come and join us!
URL:https://wynyardmatters.org/event/park-run-wynyard-woodland-walk-46/2028-04-29/
LOCATION:Wynyard Woodland\, Station House\, Thorpe Thewles\, Stockton-on-Tees\, TS21 3JG\, United Kingdom
CATEGORIES:Weekly
END:VEVENT
BEGIN:VEVENT
DTSTART;TZID=Europe/London:20280502T100000
DTEND;TZID=Europe/London:20280502T120000
DTSTAMP:20260423T194044
CREATED:20260304T105003Z
LAST-MODIFIED:20260304T105003Z
UID:10000343-1840874400-1840881600@wynyardmatters.org
SUMMARY:Weekly Nordic Walking
DESCRIPTION:
URL:https://wynyardmatters.org/event/weekly-nordic-walking/2028-05-02/
LOCATION:The Stables Car Park\, 138 The Stables\, Wynyard\, Stockton-on-Tees\, TS22 5QQ\, United Kingdom
CATEGORIES:Weekly
END:VEVENT
BEGIN:VEVENT
DTSTART;TZID=Europe/London:20280503T110000
DTEND;TZID=Europe/London:20280503T130000
DTSTAMP:20260423T194044
CREATED:20251202T093903Z
LAST-MODIFIED:20260304T105843Z
UID:10001319-1840964400-1840971600@wynyardmatters.org
SUMMARY:Glasshouse Coffee Morning
DESCRIPTION:
URL:https://wynyardmatters.org/event/coffee-morning-21/2028-05-03/
LOCATION:Glasshouse\, Brierley Drive\, Wynyard\, Stockton-on-Tees\, TS22 5NG\, United Kingdom
CATEGORIES:Community,Weekly
END:VEVENT
BEGIN:VEVENT
DTSTART;TZID=Europe/London:20280506T090000
DTEND;TZID=Europe/London:20280506T110000
DTSTAMP:20260423T194044
CREATED:20251202T094513Z
LAST-MODIFIED:20260304T105320Z
UID:10000605-1841216400-1841223600@wynyardmatters.org
SUMMARY:Park Run - Wynyard Woodland Walk
DESCRIPTION:What is Wynyard Woodland parkrun?\nA free\, fun\, and friendly weekly 5k community event. Walk\, jog\, run\, volunteer or spectate – it’s up to you! \nWhen is it?\nEvery Saturday at 9:00am. \nWhere is it?\nThe event takes place at Wynyard Woodland\, Station House\, Thorpe Thewles\, Stockton-on-Tees\, TS21 3JG. See Course page for more details. \nWhat does it cost to join in?\nNothing – it’s free! but please register before you first come along. Only ever register with parkrun once and don’t forget to bring a scannable copy of your barcode (request a reminder). If you forget it\, you won’t get a time. \nHow fast do I have to be?\nWe all take part for our own enjoyment. Please come along and join in whatever your pace! \nWynyard Woodland parkrun needs you!\nIt is entirely organised by volunteers – email wynyardwoodland@parkrun.com to help. \nSafeguarding\nparkrun is committed to safeguarding and promoting the welfare of children and adults at risk. For our full safeguarding processes and policies\, including how to report a concern\, please see our Safeguarding Hub. \nWe’re friendly!\nEvery week we grab a post parkrun coffee at Station House Tea Rooms\, Wynyard – please come and join us!
URL:https://wynyardmatters.org/event/park-run-wynyard-woodland-walk-46/2028-05-06/
LOCATION:Wynyard Woodland\, Station House\, Thorpe Thewles\, Stockton-on-Tees\, TS21 3JG\, United Kingdom
CATEGORIES:Weekly
END:VEVENT
BEGIN:VEVENT
DTSTART;TZID=Europe/London:20280509T100000
DTEND;TZID=Europe/London:20280509T120000
DTSTAMP:20260423T194044
CREATED:20260304T105003Z
LAST-MODIFIED:20260304T105003Z
UID:10000344-1841479200-1841486400@wynyardmatters.org
SUMMARY:Weekly Nordic Walking
DESCRIPTION:
URL:https://wynyardmatters.org/event/weekly-nordic-walking/2028-05-09/
LOCATION:The Stables Car Park\, 138 The Stables\, Wynyard\, Stockton-on-Tees\, TS22 5QQ\, United Kingdom
CATEGORIES:Weekly
END:VEVENT
END:VCALENDAR