BEGIN:VCALENDAR
VERSION:2.0
PRODID:-//Wynyard Matters - ECPv6.15.20//NONSGML v1.0//EN
CALSCALE:GREGORIAN
METHOD:PUBLISH
X-ORIGINAL-URL:https://wynyardmatters.org
X-WR-CALDESC:Events for Wynyard Matters
REFRESH-INTERVAL;VALUE=DURATION:PT1H
X-Robots-Tag:noindex
X-PUBLISHED-TTL:PT1H
BEGIN:VTIMEZONE
TZID:Europe/London
BEGIN:DAYLIGHT
TZOFFSETFROM:+0000
TZOFFSETTO:+0100
TZNAME:BST
DTSTART:20280326T010000
END:DAYLIGHT
BEGIN:STANDARD
TZOFFSETFROM:+0100
TZOFFSETTO:+0000
TZNAME:GMT
DTSTART:20281029T010000
END:STANDARD
BEGIN:DAYLIGHT
TZOFFSETFROM:+0000
TZOFFSETTO:+0100
TZNAME:BST
DTSTART:20290325T010000
END:DAYLIGHT
BEGIN:STANDARD
TZOFFSETFROM:+0100
TZOFFSETTO:+0000
TZNAME:GMT
DTSTART:20291028T010000
END:STANDARD
BEGIN:DAYLIGHT
TZOFFSETFROM:+0000
TZOFFSETTO:+0100
TZNAME:BST
DTSTART:20300331T010000
END:DAYLIGHT
BEGIN:STANDARD
TZOFFSETFROM:+0100
TZOFFSETTO:+0000
TZNAME:GMT
DTSTART:20301027T010000
END:STANDARD
BEGIN:DAYLIGHT
TZOFFSETFROM:+0000
TZOFFSETTO:+0100
TZNAME:BST
DTSTART:20310330T010000
END:DAYLIGHT
BEGIN:STANDARD
TZOFFSETFROM:+0100
TZOFFSETTO:+0000
TZNAME:GMT
DTSTART:20311026T010000
END:STANDARD
BEGIN:DAYLIGHT
TZOFFSETFROM:+0000
TZOFFSETTO:+0100
TZNAME:BST
DTSTART:20320328T010000
END:DAYLIGHT
BEGIN:STANDARD
TZOFFSETFROM:+0100
TZOFFSETTO:+0000
TZNAME:GMT
DTSTART:20321031T010000
END:STANDARD
END:VTIMEZONE
BEGIN:VEVENT
DTSTART;TZID=Europe/London:20290821T183000
DTEND;TZID=Europe/London:20290821T200000
DTSTAMP:20260419T144745
CREATED:20260304T111026Z
LAST-MODIFIED:20260304T111026Z
UID:10001720-1882031400-1882036800@wynyardmatters.org
SUMMARY:Wynyard Parish Council (Stockton) Meeting
DESCRIPTION:
URL:https://wynyardmatters.org/event/wynyard-parish-council-stockton-meeting-11/2029-08-21/
LOCATION:Wynyard Church of England Primary School\, Redwood Drive\, Wynyard\, Stockton-on-Tees\, TS22 5UB\, United Kingdom
CATEGORIES:Monthly,Parish Council
ORGANIZER;CN="Wynyard Parish Council (Stockton)":MAILTO:wynyardparishcouncil@gmail.com
END:VEVENT
BEGIN:VEVENT
DTSTART;TZID=Europe/London:20290918T183000
DTEND;TZID=Europe/London:20290918T200000
DTSTAMP:20260419T144745
CREATED:20260304T111026Z
LAST-MODIFIED:20260304T111026Z
UID:10001721-1884450600-1884456000@wynyardmatters.org
SUMMARY:Wynyard Parish Council (Stockton) Meeting
DESCRIPTION:
URL:https://wynyardmatters.org/event/wynyard-parish-council-stockton-meeting-11/2029-09-18/
LOCATION:Wynyard Church of England Primary School\, Redwood Drive\, Wynyard\, Stockton-on-Tees\, TS22 5UB\, United Kingdom
CATEGORIES:Monthly,Parish Council
ORGANIZER;CN="Wynyard Parish Council (Stockton)":MAILTO:wynyardparishcouncil@gmail.com
END:VEVENT
BEGIN:VEVENT
DTSTART;TZID=Europe/London:20291016T183000
DTEND;TZID=Europe/London:20291016T200000
DTSTAMP:20260419T144745
CREATED:20260304T111026Z
LAST-MODIFIED:20260304T111026Z
UID:10001722-1886869800-1886875200@wynyardmatters.org
SUMMARY:Wynyard Parish Council (Stockton) Meeting
DESCRIPTION:
URL:https://wynyardmatters.org/event/wynyard-parish-council-stockton-meeting-11/2029-10-16/
LOCATION:Wynyard Church of England Primary School\, Redwood Drive\, Wynyard\, Stockton-on-Tees\, TS22 5UB\, United Kingdom
CATEGORIES:Monthly,Parish Council
ORGANIZER;CN="Wynyard Parish Council (Stockton)":MAILTO:wynyardparishcouncil@gmail.com
END:VEVENT
BEGIN:VEVENT
DTSTART;TZID=Europe/London:20291120T183000
DTEND;TZID=Europe/London:20291120T200000
DTSTAMP:20260419T144745
CREATED:20260304T111026Z
LAST-MODIFIED:20260304T111026Z
UID:10001723-1889893800-1889899200@wynyardmatters.org
SUMMARY:Wynyard Parish Council (Stockton) Meeting
DESCRIPTION:
URL:https://wynyardmatters.org/event/wynyard-parish-council-stockton-meeting-11/2029-11-20/
LOCATION:Wynyard Church of England Primary School\, Redwood Drive\, Wynyard\, Stockton-on-Tees\, TS22 5UB\, United Kingdom
CATEGORIES:Monthly,Parish Council
ORGANIZER;CN="Wynyard Parish Council (Stockton)":MAILTO:wynyardparishcouncil@gmail.com
END:VEVENT
BEGIN:VEVENT
DTSTART;TZID=Europe/London:20291218T183000
DTEND;TZID=Europe/London:20291218T200000
DTSTAMP:20260419T144745
CREATED:20260304T111026Z
LAST-MODIFIED:20260304T111026Z
UID:10001724-1892313000-1892318400@wynyardmatters.org
SUMMARY:Wynyard Parish Council (Stockton) Meeting
DESCRIPTION:
URL:https://wynyardmatters.org/event/wynyard-parish-council-stockton-meeting-11/2029-12-18/
LOCATION:Wynyard Church of England Primary School\, Redwood Drive\, Wynyard\, Stockton-on-Tees\, TS22 5UB\, United Kingdom
CATEGORIES:Monthly,Parish Council
ORGANIZER;CN="Wynyard Parish Council (Stockton)":MAILTO:wynyardparishcouncil@gmail.com
END:VEVENT
BEGIN:VEVENT
DTSTART;TZID=Europe/London:20300115T183000
DTEND;TZID=Europe/London:20300115T200000
DTSTAMP:20260419T144745
CREATED:20260304T111026Z
LAST-MODIFIED:20260304T111026Z
UID:10001725-1894732200-1894737600@wynyardmatters.org
SUMMARY:Wynyard Parish Council (Stockton) Meeting
DESCRIPTION:
URL:https://wynyardmatters.org/event/wynyard-parish-council-stockton-meeting-11/2030-01-15/
LOCATION:Wynyard Church of England Primary School\, Redwood Drive\, Wynyard\, Stockton-on-Tees\, TS22 5UB\, United Kingdom
CATEGORIES:Monthly,Parish Council
ORGANIZER;CN="Wynyard Parish Council (Stockton)":MAILTO:wynyardparishcouncil@gmail.com
END:VEVENT
BEGIN:VEVENT
DTSTART;TZID=Europe/London:20300219T183000
DTEND;TZID=Europe/London:20300219T200000
DTSTAMP:20260419T144745
CREATED:20260304T111026Z
LAST-MODIFIED:20260304T111026Z
UID:10001726-1897756200-1897761600@wynyardmatters.org
SUMMARY:Wynyard Parish Council (Stockton) Meeting
DESCRIPTION:
URL:https://wynyardmatters.org/event/wynyard-parish-council-stockton-meeting-11/2030-02-19/
LOCATION:Wynyard Church of England Primary School\, Redwood Drive\, Wynyard\, Stockton-on-Tees\, TS22 5UB\, United Kingdom
CATEGORIES:Monthly,Parish Council
ORGANIZER;CN="Wynyard Parish Council (Stockton)":MAILTO:wynyardparishcouncil@gmail.com
END:VEVENT
BEGIN:VEVENT
DTSTART;TZID=Europe/London:20300319T183000
DTEND;TZID=Europe/London:20300319T200000
DTSTAMP:20260419T144745
CREATED:20260304T111026Z
LAST-MODIFIED:20260304T111026Z
UID:10001727-1900175400-1900180800@wynyardmatters.org
SUMMARY:Wynyard Parish Council (Stockton) Meeting
DESCRIPTION:
URL:https://wynyardmatters.org/event/wynyard-parish-council-stockton-meeting-11/2030-03-19/
LOCATION:Wynyard Church of England Primary School\, Redwood Drive\, Wynyard\, Stockton-on-Tees\, TS22 5UB\, United Kingdom
CATEGORIES:Monthly,Parish Council
ORGANIZER;CN="Wynyard Parish Council (Stockton)":MAILTO:wynyardparishcouncil@gmail.com
END:VEVENT
BEGIN:VEVENT
DTSTART;TZID=Europe/London:20300416T183000
DTEND;TZID=Europe/London:20300416T200000
DTSTAMP:20260419T144745
CREATED:20260304T111026Z
LAST-MODIFIED:20260304T111026Z
UID:10001728-1902594600-1902600000@wynyardmatters.org
SUMMARY:Wynyard Parish Council (Stockton) Meeting
DESCRIPTION:
URL:https://wynyardmatters.org/event/wynyard-parish-council-stockton-meeting-11/2030-04-16/
LOCATION:Wynyard Church of England Primary School\, Redwood Drive\, Wynyard\, Stockton-on-Tees\, TS22 5UB\, United Kingdom
CATEGORIES:Monthly,Parish Council
ORGANIZER;CN="Wynyard Parish Council (Stockton)":MAILTO:wynyardparishcouncil@gmail.com
END:VEVENT
BEGIN:VEVENT
DTSTART;TZID=Europe/London:20300521T183000
DTEND;TZID=Europe/London:20300521T200000
DTSTAMP:20260419T144745
CREATED:20260304T111026Z
LAST-MODIFIED:20260304T111026Z
UID:10001729-1905618600-1905624000@wynyardmatters.org
SUMMARY:Wynyard Parish Council (Stockton) Meeting
DESCRIPTION:
URL:https://wynyardmatters.org/event/wynyard-parish-council-stockton-meeting-11/2030-05-21/
LOCATION:Wynyard Church of England Primary School\, Redwood Drive\, Wynyard\, Stockton-on-Tees\, TS22 5UB\, United Kingdom
CATEGORIES:Monthly,Parish Council
ORGANIZER;CN="Wynyard Parish Council (Stockton)":MAILTO:wynyardparishcouncil@gmail.com
END:VEVENT
BEGIN:VEVENT
DTSTART;TZID=Europe/London:20300618T183000
DTEND;TZID=Europe/London:20300618T200000
DTSTAMP:20260419T144745
CREATED:20260304T111026Z
LAST-MODIFIED:20260304T111026Z
UID:10001730-1908037800-1908043200@wynyardmatters.org
SUMMARY:Wynyard Parish Council (Stockton) Meeting
DESCRIPTION:
URL:https://wynyardmatters.org/event/wynyard-parish-council-stockton-meeting-11/2030-06-18/
LOCATION:Wynyard Church of England Primary School\, Redwood Drive\, Wynyard\, Stockton-on-Tees\, TS22 5UB\, United Kingdom
CATEGORIES:Monthly,Parish Council
ORGANIZER;CN="Wynyard Parish Council (Stockton)":MAILTO:wynyardparishcouncil@gmail.com
END:VEVENT
BEGIN:VEVENT
DTSTART;TZID=Europe/London:20300716T183000
DTEND;TZID=Europe/London:20300716T200000
DTSTAMP:20260419T144745
CREATED:20260304T111026Z
LAST-MODIFIED:20260304T111026Z
UID:10001731-1910457000-1910462400@wynyardmatters.org
SUMMARY:Wynyard Parish Council (Stockton) Meeting
DESCRIPTION:
URL:https://wynyardmatters.org/event/wynyard-parish-council-stockton-meeting-11/2030-07-16/
LOCATION:Wynyard Church of England Primary School\, Redwood Drive\, Wynyard\, Stockton-on-Tees\, TS22 5UB\, United Kingdom
CATEGORIES:Monthly,Parish Council
ORGANIZER;CN="Wynyard Parish Council (Stockton)":MAILTO:wynyardparishcouncil@gmail.com
END:VEVENT
BEGIN:VEVENT
DTSTART;TZID=Europe/London:20300820T183000
DTEND;TZID=Europe/London:20300820T200000
DTSTAMP:20260419T144745
CREATED:20260304T111026Z
LAST-MODIFIED:20260304T111026Z
UID:10001732-1913481000-1913486400@wynyardmatters.org
SUMMARY:Wynyard Parish Council (Stockton) Meeting
DESCRIPTION:
URL:https://wynyardmatters.org/event/wynyard-parish-council-stockton-meeting-11/2030-08-20/
LOCATION:Wynyard Church of England Primary School\, Redwood Drive\, Wynyard\, Stockton-on-Tees\, TS22 5UB\, United Kingdom
CATEGORIES:Monthly,Parish Council
ORGANIZER;CN="Wynyard Parish Council (Stockton)":MAILTO:wynyardparishcouncil@gmail.com
END:VEVENT
BEGIN:VEVENT
DTSTART;TZID=Europe/London:20300917T183000
DTEND;TZID=Europe/London:20300917T200000
DTSTAMP:20260419T144745
CREATED:20260304T111026Z
LAST-MODIFIED:20260304T111026Z
UID:10001733-1915900200-1915905600@wynyardmatters.org
SUMMARY:Wynyard Parish Council (Stockton) Meeting
DESCRIPTION:
URL:https://wynyardmatters.org/event/wynyard-parish-council-stockton-meeting-11/2030-09-17/
LOCATION:Wynyard Church of England Primary School\, Redwood Drive\, Wynyard\, Stockton-on-Tees\, TS22 5UB\, United Kingdom
CATEGORIES:Monthly,Parish Council
ORGANIZER;CN="Wynyard Parish Council (Stockton)":MAILTO:wynyardparishcouncil@gmail.com
END:VEVENT
BEGIN:VEVENT
DTSTART;TZID=Europe/London:20301015T183000
DTEND;TZID=Europe/London:20301015T200000
DTSTAMP:20260419T144745
CREATED:20260304T111026Z
LAST-MODIFIED:20260304T111026Z
UID:10001734-1918319400-1918324800@wynyardmatters.org
SUMMARY:Wynyard Parish Council (Stockton) Meeting
DESCRIPTION:
URL:https://wynyardmatters.org/event/wynyard-parish-council-stockton-meeting-11/2030-10-15/
LOCATION:Wynyard Church of England Primary School\, Redwood Drive\, Wynyard\, Stockton-on-Tees\, TS22 5UB\, United Kingdom
CATEGORIES:Monthly,Parish Council
ORGANIZER;CN="Wynyard Parish Council (Stockton)":MAILTO:wynyardparishcouncil@gmail.com
END:VEVENT
BEGIN:VEVENT
DTSTART;TZID=Europe/London:20301119T183000
DTEND;TZID=Europe/London:20301119T200000
DTSTAMP:20260419T144745
CREATED:20260304T111026Z
LAST-MODIFIED:20260304T111026Z
UID:10001735-1921343400-1921348800@wynyardmatters.org
SUMMARY:Wynyard Parish Council (Stockton) Meeting
DESCRIPTION:
URL:https://wynyardmatters.org/event/wynyard-parish-council-stockton-meeting-11/2030-11-19/
LOCATION:Wynyard Church of England Primary School\, Redwood Drive\, Wynyard\, Stockton-on-Tees\, TS22 5UB\, United Kingdom
CATEGORIES:Monthly,Parish Council
ORGANIZER;CN="Wynyard Parish Council (Stockton)":MAILTO:wynyardparishcouncil@gmail.com
END:VEVENT
BEGIN:VEVENT
DTSTART;TZID=Europe/London:20301217T183000
DTEND;TZID=Europe/London:20301217T200000
DTSTAMP:20260419T144745
CREATED:20260304T111026Z
LAST-MODIFIED:20260304T111026Z
UID:10001736-1923762600-1923768000@wynyardmatters.org
SUMMARY:Wynyard Parish Council (Stockton) Meeting
DESCRIPTION:
URL:https://wynyardmatters.org/event/wynyard-parish-council-stockton-meeting-11/2030-12-17/
LOCATION:Wynyard Church of England Primary School\, Redwood Drive\, Wynyard\, Stockton-on-Tees\, TS22 5UB\, United Kingdom
CATEGORIES:Monthly,Parish Council
ORGANIZER;CN="Wynyard Parish Council (Stockton)":MAILTO:wynyardparishcouncil@gmail.com
END:VEVENT
BEGIN:VEVENT
DTSTART;TZID=Europe/London:20310121T183000
DTEND;TZID=Europe/London:20310121T200000
DTSTAMP:20260419T144745
CREATED:20260304T111026Z
LAST-MODIFIED:20260304T111026Z
UID:10001737-1926786600-1926792000@wynyardmatters.org
SUMMARY:Wynyard Parish Council (Stockton) Meeting
DESCRIPTION:
URL:https://wynyardmatters.org/event/wynyard-parish-council-stockton-meeting-11/2031-01-21/
LOCATION:Wynyard Church of England Primary School\, Redwood Drive\, Wynyard\, Stockton-on-Tees\, TS22 5UB\, United Kingdom
CATEGORIES:Monthly,Parish Council
ORGANIZER;CN="Wynyard Parish Council (Stockton)":MAILTO:wynyardparishcouncil@gmail.com
END:VEVENT
BEGIN:VEVENT
DTSTART;TZID=Europe/London:20310218T183000
DTEND;TZID=Europe/London:20310218T200000
DTSTAMP:20260419T144745
CREATED:20260304T111026Z
LAST-MODIFIED:20260304T111026Z
UID:10001738-1929205800-1929211200@wynyardmatters.org
SUMMARY:Wynyard Parish Council (Stockton) Meeting
DESCRIPTION:
URL:https://wynyardmatters.org/event/wynyard-parish-council-stockton-meeting-11/2031-02-18/
LOCATION:Wynyard Church of England Primary School\, Redwood Drive\, Wynyard\, Stockton-on-Tees\, TS22 5UB\, United Kingdom
CATEGORIES:Monthly,Parish Council
ORGANIZER;CN="Wynyard Parish Council (Stockton)":MAILTO:wynyardparishcouncil@gmail.com
END:VEVENT
END:VCALENDAR