BEGIN:VCALENDAR
VERSION:2.0
PRODID:-//Wynyard Matters - ECPv6.15.20//NONSGML v1.0//EN
CALSCALE:GREGORIAN
METHOD:PUBLISH
X-ORIGINAL-URL:https://wynyardmatters.org
X-WR-CALDESC:Events for Wynyard Matters
REFRESH-INTERVAL;VALUE=DURATION:PT1H
X-Robots-Tag:noindex
X-PUBLISHED-TTL:PT1H
BEGIN:VTIMEZONE
TZID:Europe/London
BEGIN:DAYLIGHT
TZOFFSETFROM:+0000
TZOFFSETTO:+0100
TZNAME:BST
DTSTART:20240331T010000
END:DAYLIGHT
BEGIN:STANDARD
TZOFFSETFROM:+0100
TZOFFSETTO:+0000
TZNAME:GMT
DTSTART:20241027T010000
END:STANDARD
BEGIN:DAYLIGHT
TZOFFSETFROM:+0000
TZOFFSETTO:+0100
TZNAME:BST
DTSTART:20250330T010000
END:DAYLIGHT
BEGIN:STANDARD
TZOFFSETFROM:+0100
TZOFFSETTO:+0000
TZNAME:GMT
DTSTART:20251026T010000
END:STANDARD
BEGIN:DAYLIGHT
TZOFFSETFROM:+0000
TZOFFSETTO:+0100
TZNAME:BST
DTSTART:20260329T010000
END:DAYLIGHT
BEGIN:STANDARD
TZOFFSETFROM:+0100
TZOFFSETTO:+0000
TZNAME:GMT
DTSTART:20261025T010000
END:STANDARD
END:VTIMEZONE
BEGIN:VEVENT
DTSTART;TZID=Europe/London:20250615T090000
DTEND;TZID=Europe/London:20250615T140000
DTSTAMP:20260421T212642
CREATED:20250507T212922Z
LAST-MODIFIED:20250507T212922Z
UID:10000093-1749978000-1749996000@wynyardmatters.org
SUMMARY:Wynyard Farmers Market
DESCRIPTION:
URL:https://wynyardmatters.org/event/wynyard-farmers-market-4/
LOCATION:Wynyard Hall Walled Gardens\, Wynyard Road\, Wynyard\, Stockton-on-Tees\, TS22 5NG\, United Kingdom
CATEGORIES:Monthly
ORGANIZER;CN="Wynyard Hall":MAILTO:reception@wynyardhall.co.uk
END:VEVENT
BEGIN:VEVENT
DTSTART;TZID=Europe/London:20250616T140000
DTEND;TZID=Europe/London:20250616T170000
DTSTAMP:20260421T212642
CREATED:20250507T213457Z
LAST-MODIFIED:20250507T213457Z
UID:10000102-1750082400-1750093200@wynyardmatters.org
SUMMARY:Vine Church Care Home Service
DESCRIPTION:
URL:https://wynyardmatters.org/event/vine-church-care-home-service-4/
LOCATION:Anchor Wynyard Woods Care Home\, Wynyard Woods\, Wynyard\, Billingham\, TS22 5GJ\, United Kingdom
CATEGORIES:Community,Monthly
ORGANIZER;CN="Vine Church Wynyard":MAILTO:hello@wynyard.church
END:VEVENT
BEGIN:VEVENT
DTSTART;TZID=Europe/London:20250617T183000
DTEND;TZID=Europe/London:20250617T200000
DTSTAMP:20260421T212642
CREATED:20250507T214351Z
LAST-MODIFIED:20250507T214351Z
UID:10000118-1750185000-1750190400@wynyardmatters.org
SUMMARY:Wynyard Parish Council (Stockton) Meeting
DESCRIPTION:
URL:https://wynyardmatters.org/event/wynyard-parish-council-stockton-meeting-4/
LOCATION:Wynyard Church of England Primary School\, Redwood Drive\, Wynyard\, Stockton-on-Tees\, TS22 5UB\, United Kingdom
CATEGORIES:Monthly,Parish Council
ORGANIZER;CN="Wynyard Parish Council (Stockton)":MAILTO:wynyardparishcouncil@gmail.com
END:VEVENT
BEGIN:VEVENT
DTSTART;TZID=Europe/London:20250624T140000
DTEND;TZID=Europe/London:20250624T160000
DTSTAMP:20260421T212642
CREATED:20250507T213731Z
LAST-MODIFIED:20250507T213731Z
UID:10000108-1750773600-1750780800@wynyardmatters.org
SUMMARY:Meet & Greet
DESCRIPTION:
URL:https://wynyardmatters.org/event/meet-greet-4/
LOCATION:Wynyard Golf Club\, Wellington Drive\, Wynyard\, TS22 5QJ\, United Kingdom
CATEGORIES:Community,Monthly
END:VEVENT
BEGIN:VEVENT
DTSTART;TZID=Europe/London:20250624T183000
DTEND;TZID=Europe/London:20250624T200000
DTSTAMP:20260421T212642
CREATED:20250507T214219Z
LAST-MODIFIED:20250507T214231Z
UID:10000116-1750789800-1750795200@wynyardmatters.org
SUMMARY:Wynyard Parish Council (Hartlepool) Meeting
DESCRIPTION:
URL:https://wynyardmatters.org/event/wynyard-parish-council-hartlepool-meeting-4/
LOCATION:Wynyard Hall\, Wynyard Road\, Wynyard\, Stockton-on-Tees\, TS22 5NF\, United Kingdom
CATEGORIES:Monthly,Parish Council
ORGANIZER;CN="Wynyard Parish Council (Hartlepool)":MAILTO:clerk@wynyard-hartlepool-pc.gov.uk
END:VEVENT
BEGIN:VEVENT
DTSTART;TZID=Europe/London:20250712T090000
DTEND;TZID=Europe/London:20250712T140000
DTSTAMP:20260421T212642
CREATED:20250507T213214Z
LAST-MODIFIED:20250507T213214Z
UID:10000097-1752310800-1752328800@wynyardmatters.org
SUMMARY:Hartlepool Farmers Market
DESCRIPTION:
URL:https://wynyardmatters.org/event/hartlepool-farmers-market-2/
LOCATION:Hartlepool Marina\, Slake Terrace\, Hartlepool\, TS24 0RU\, United Kingdom
CATEGORIES:Monthly
END:VEVENT
BEGIN:VEVENT
DTSTART;TZID=Europe/London:20250714T140000
DTEND;TZID=Europe/London:20250714T170000
DTSTAMP:20260421T212642
CREATED:20250507T213524Z
LAST-MODIFIED:20250507T213524Z
UID:10000103-1752501600-1752512400@wynyardmatters.org
SUMMARY:Vine Church Care Home Service
DESCRIPTION:
URL:https://wynyardmatters.org/event/vine-church-care-home-service-5/
LOCATION:Anchor Wynyard Woods Care Home\, Wynyard Woods\, Wynyard\, Billingham\, TS22 5GJ\, United Kingdom
CATEGORIES:Community,Monthly
ORGANIZER;CN="Vine Church Wynyard":MAILTO:hello@wynyard.church
END:VEVENT
BEGIN:VEVENT
DTSTART;TZID=Europe/London:20250715T183000
DTEND;TZID=Europe/London:20250715T200000
DTSTAMP:20260421T212642
CREATED:20250507T214404Z
LAST-MODIFIED:20250507T214404Z
UID:10000119-1752604200-1752609600@wynyardmatters.org
SUMMARY:Wynyard Parish Council (Stockton) Meeting
DESCRIPTION:
URL:https://wynyardmatters.org/event/wynyard-parish-council-stockton-meeting-5/
LOCATION:Wynyard Church of England Primary School\, Redwood Drive\, Wynyard\, Stockton-on-Tees\, TS22 5UB\, United Kingdom
CATEGORIES:Monthly,Parish Council
ORGANIZER;CN="Wynyard Parish Council (Stockton)":MAILTO:wynyardparishcouncil@gmail.com
END:VEVENT
BEGIN:VEVENT
DTSTART;TZID=Europe/London:20250716T110000
DTEND;TZID=Europe/London:20250716T130000
DTSTAMP:20260421T212642
CREATED:20250507T213638Z
LAST-MODIFIED:20250507T213638Z
UID:10000106-1752663600-1752670800@wynyardmatters.org
SUMMARY:Meet and Greet Coffee Morning
DESCRIPTION:
URL:https://wynyardmatters.org/event/meet-and-greet-coffee-morning-5/
LOCATION:Glasshouse\, Brierley Drive\, Wynyard\, Stockton-on-Tees\, TS22 5NG\, United Kingdom
CATEGORIES:Community,Monthly
END:VEVENT
BEGIN:VEVENT
DTSTART;TZID=Europe/London:20250720T090000
DTEND;TZID=Europe/London:20250720T140000
DTSTAMP:20260421T212642
CREATED:20250507T212945Z
LAST-MODIFIED:20250507T212945Z
UID:10000094-1753002000-1753020000@wynyardmatters.org
SUMMARY:Wynyard Farmers Market
DESCRIPTION:
URL:https://wynyardmatters.org/event/wynyard-farmers-market-5/
LOCATION:Wynyard Hall Walled Gardens\, Wynyard Road\, Wynyard\, Stockton-on-Tees\, TS22 5NG\, United Kingdom
CATEGORIES:Monthly
ORGANIZER;CN="Wynyard Hall":MAILTO:reception@wynyardhall.co.uk
END:VEVENT
BEGIN:VEVENT
DTSTART;TZID=Europe/London:20250724T183000
DTEND;TZID=Europe/London:20250724T200000
DTSTAMP:20260421T212642
CREATED:20250507T214307Z
LAST-MODIFIED:20250507T214307Z
UID:10000117-1753381800-1753387200@wynyardmatters.org
SUMMARY:Wynyard Parish Council (Hartlepool) Meeting
DESCRIPTION:
URL:https://wynyardmatters.org/event/wynyard-parish-council-hartlepool-meeting-5/
LOCATION:Wynyard Hall\, Wynyard Road\, Wynyard\, Stockton-on-Tees\, TS22 5NF\, United Kingdom
CATEGORIES:Monthly,Parish Council
ORGANIZER;CN="Wynyard Parish Council (Hartlepool)":MAILTO:clerk@wynyard-hartlepool-pc.gov.uk
END:VEVENT
BEGIN:VEVENT
DTSTART;TZID=Europe/London:20250729T140000
DTEND;TZID=Europe/London:20250729T160000
DTSTAMP:20260421T212642
CREATED:20250507T213749Z
LAST-MODIFIED:20250507T213749Z
UID:10000109-1753797600-1753804800@wynyardmatters.org
SUMMARY:Meet & Greet
DESCRIPTION:
URL:https://wynyardmatters.org/event/meet-greet-5/
LOCATION:Wynyard Golf Club\, Wellington Drive\, Wynyard\, TS22 5QJ\, United Kingdom
CATEGORIES:Community,Monthly
END:VEVENT
BEGIN:VEVENT
DTSTART;TZID=Europe/London:20250809T090000
DTEND;TZID=Europe/London:20250809T140000
DTSTAMP:20260421T212642
CREATED:20250507T213226Z
LAST-MODIFIED:20250507T213226Z
UID:10000098-1754730000-1754748000@wynyardmatters.org
SUMMARY:Hartlepool Farmers Market
DESCRIPTION:
URL:https://wynyardmatters.org/event/hartlepool-farmers-market-3/
LOCATION:Hartlepool Marina\, Slake Terrace\, Hartlepool\, TS24 0RU\, United Kingdom
CATEGORIES:Monthly
END:VEVENT
BEGIN:VEVENT
DTSTART;TZID=Europe/London:20250811T140000
DTEND;TZID=Europe/London:20250811T170000
DTSTAMP:20260421T212642
CREATED:20250507T213546Z
LAST-MODIFIED:20250507T213546Z
UID:10000104-1754920800-1754931600@wynyardmatters.org
SUMMARY:Vine Church Care Home Service
DESCRIPTION:
URL:https://wynyardmatters.org/event/vine-church-care-home-service-6/
LOCATION:Anchor Wynyard Woods Care Home\, Wynyard Woods\, Wynyard\, Billingham\, TS22 5GJ\, United Kingdom
CATEGORIES:Community,Monthly
ORGANIZER;CN="Vine Church Wynyard":MAILTO:hello@wynyard.church
END:VEVENT
BEGIN:VEVENT
DTSTART;TZID=Europe/London:20250817T090000
DTEND;TZID=Europe/London:20250817T140000
DTSTAMP:20260421T212642
CREATED:20250507T212958Z
LAST-MODIFIED:20250507T212958Z
UID:10000095-1755421200-1755439200@wynyardmatters.org
SUMMARY:Wynyard Farmers Market
DESCRIPTION:
URL:https://wynyardmatters.org/event/wynyard-farmers-market-6/
LOCATION:Wynyard Hall Walled Gardens\, Wynyard Road\, Wynyard\, Stockton-on-Tees\, TS22 5NG\, United Kingdom
CATEGORIES:Monthly
ORGANIZER;CN="Wynyard Hall":MAILTO:reception@wynyardhall.co.uk
END:VEVENT
BEGIN:VEVENT
DTSTART;TZID=Europe/London:20250820T110000
DTEND;TZID=Europe/London:20250820T130000
DTSTAMP:20260421T212642
CREATED:20250507T213700Z
LAST-MODIFIED:20251002T083851Z
UID:10000107-1755687600-1755694800@wynyardmatters.org
SUMMARY:Coffee Morning
DESCRIPTION:
URL:https://wynyardmatters.org/event/coffee-morning/
LOCATION:Glasshouse\, Brierley Drive\, Wynyard\, Stockton-on-Tees\, TS22 5NG\, United Kingdom
CATEGORIES:Community,Monthly
END:VEVENT
BEGIN:VEVENT
DTSTART;TZID=Europe/London:20250826T140000
DTEND;TZID=Europe/London:20250826T160000
DTSTAMP:20260421T212642
CREATED:20250507T213806Z
LAST-MODIFIED:20251002T090020Z
UID:10000110-1756216800-1756224000@wynyardmatters.org
SUMMARY:Meet & Greet Golf Club
DESCRIPTION:
URL:https://wynyardmatters.org/event/meet-greet-6/
LOCATION:Wynyard Golf Club\, Wellington Drive\, Wynyard\, TS22 5QJ\, United Kingdom
CATEGORIES:Community,Monthly
END:VEVENT
BEGIN:VEVENT
DTSTART;TZID=Europe/London:20251008T110000
DTEND;TZID=Europe/London:20251008T130000
DTSTAMP:20260421T212642
CREATED:20251002T083908Z
LAST-MODIFIED:20251002T083908Z
UID:10000141-1759921200-1759928400@wynyardmatters.org
SUMMARY:Coffee Morning
DESCRIPTION:
URL:https://wynyardmatters.org/event/coffee-morning-2/
LOCATION:Glasshouse\, Brierley Drive\, Wynyard\, Stockton-on-Tees\, TS22 5NG\, United Kingdom
CATEGORIES:Community,Monthly
END:VEVENT
BEGIN:VEVENT
DTSTART;TZID=Europe/London:20251011T090000
DTEND;TZID=Europe/London:20251011T140000
DTSTAMP:20260421T212642
CREATED:20251002T084454Z
LAST-MODIFIED:20251002T084454Z
UID:10000149-1760173200-1760191200@wynyardmatters.org
SUMMARY:Hartlepool Farmers Market
DESCRIPTION:
URL:https://wynyardmatters.org/event/hartlepool-farmers-market-4/
LOCATION:Hartlepool Marina\, Slake Terrace\, Hartlepool\, TS24 0RU\, United Kingdom
CATEGORIES:Monthly
END:VEVENT
BEGIN:VEVENT
DTSTART;TZID=Europe/London:20251015T110000
DTEND;TZID=Europe/London:20251015T130000
DTSTAMP:20260421T212642
CREATED:20251002T083939Z
LAST-MODIFIED:20251002T083939Z
UID:10000142-1760526000-1760533200@wynyardmatters.org
SUMMARY:Coffee Morning
DESCRIPTION:
URL:https://wynyardmatters.org/event/coffee-morning-3/
LOCATION:Glasshouse\, Brierley Drive\, Wynyard\, Stockton-on-Tees\, TS22 5NG\, United Kingdom
CATEGORIES:Community,Monthly
END:VEVENT
BEGIN:VEVENT
DTSTART;TZID=Europe/London:20251015T180000
DTEND;TZID=Europe/London:20251015T193000
DTSTAMP:20260421T212642
CREATED:20251002T084648Z
LAST-MODIFIED:20251002T084648Z
UID:10000151-1760551200-1760556600@wynyardmatters.org
SUMMARY:Wynyard Parish Council (Hartlepool) Meeting
DESCRIPTION:
URL:https://wynyardmatters.org/event/wynyard-parish-council-hartlepool-meeting-6/
LOCATION:Wynyard Hall\, Wynyard Road\, Wynyard\, Stockton-on-Tees\, TS22 5NF\, United Kingdom
CATEGORIES:Monthly,Parish Council
ORGANIZER;CN="Wynyard Parish Council (Hartlepool)":MAILTO:clerk@wynyard-hartlepool-pc.gov.uk
END:VEVENT
BEGIN:VEVENT
DTSTART;TZID=Europe/London:20251019T090000
DTEND;TZID=Europe/London:20251019T140000
DTSTAMP:20260421T212642
CREATED:20251002T084722Z
LAST-MODIFIED:20251002T084722Z
UID:10000152-1760864400-1760882400@wynyardmatters.org
SUMMARY:Wynyard Farmers Market
DESCRIPTION:
URL:https://wynyardmatters.org/event/wynyard-farmers-market-7/
LOCATION:Wynyard Hall Walled Gardens\, Wynyard Road\, Wynyard\, Stockton-on-Tees\, TS22 5NG\, United Kingdom
CATEGORIES:Monthly
ORGANIZER;CN="Wynyard Hall":MAILTO:reception@wynyardhall.co.uk
END:VEVENT
BEGIN:VEVENT
DTSTART;TZID=Europe/London:20251020T140000
DTEND;TZID=Europe/London:20251020T170000
DTSTAMP:20260421T212642
CREATED:20251002T085759Z
LAST-MODIFIED:20251002T085759Z
UID:10000160-1760968800-1760979600@wynyardmatters.org
SUMMARY:Vine Church Care Home Service
DESCRIPTION:
URL:https://wynyardmatters.org/event/vine-church-care-home-service-7/
LOCATION:Anchor Wynyard Woods Care Home\, Wynyard Woods\, Wynyard\, Billingham\, TS22 5GJ\, United Kingdom
CATEGORIES:Community,Monthly
ORGANIZER;CN="Vine Church Wynyard":MAILTO:hello@wynyard.church
END:VEVENT
BEGIN:VEVENT
DTSTART;TZID=Europe/London:20251021T183000
DTEND;TZID=Europe/London:20251021T200000
DTSTAMP:20260421T212642
CREATED:20251002T084751Z
LAST-MODIFIED:20251002T084751Z
UID:10000153-1761071400-1761076800@wynyardmatters.org
SUMMARY:Wynyard Parish Council (Stockton) Meeting
DESCRIPTION:
URL:https://wynyardmatters.org/event/wynyard-parish-council-stockton-meeting-6/
LOCATION:Wynyard Church of England Primary School\, Redwood Drive\, Wynyard\, Stockton-on-Tees\, TS22 5UB\, United Kingdom
CATEGORIES:Monthly,Parish Council
ORGANIZER;CN="Wynyard Parish Council (Stockton)":MAILTO:wynyardparishcouncil@gmail.com
END:VEVENT
BEGIN:VEVENT
DTSTART;TZID=Europe/London:20251022T110000
DTEND;TZID=Europe/London:20251022T130000
DTSTAMP:20260421T212642
CREATED:20251002T084000Z
LAST-MODIFIED:20251002T084000Z
UID:10000143-1761130800-1761138000@wynyardmatters.org
SUMMARY:Coffee Morning
DESCRIPTION:
URL:https://wynyardmatters.org/event/coffee-morning-4/
LOCATION:Glasshouse\, Brierley Drive\, Wynyard\, Stockton-on-Tees\, TS22 5NG\, United Kingdom
CATEGORIES:Community,Monthly
END:VEVENT
BEGIN:VEVENT
DTSTART;TZID=Europe/London:20251028T140000
DTEND;TZID=Europe/London:20251028T160000
DTSTAMP:20260421T212642
CREATED:20251002T090043Z
LAST-MODIFIED:20251002T090043Z
UID:10000164-1761660000-1761667200@wynyardmatters.org
SUMMARY:Meet & Greet Golf Club
DESCRIPTION:
URL:https://wynyardmatters.org/event/meet-greet-golf-club/
LOCATION:Wynyard Golf Club\, Wellington Drive\, Wynyard\, TS22 5QJ\, United Kingdom
CATEGORIES:Community,Monthly
END:VEVENT
BEGIN:VEVENT
DTSTART;TZID=Europe/London:20251029T110000
DTEND;TZID=Europe/London:20251029T130000
DTSTAMP:20260421T212642
CREATED:20251002T084023Z
LAST-MODIFIED:20251002T084023Z
UID:10000144-1761735600-1761742800@wynyardmatters.org
SUMMARY:Coffee Morning
DESCRIPTION:
URL:https://wynyardmatters.org/event/coffee-morning-5/
LOCATION:Glasshouse\, Brierley Drive\, Wynyard\, Stockton-on-Tees\, TS22 5NG\, United Kingdom
CATEGORIES:Community,Monthly
END:VEVENT
BEGIN:VEVENT
DTSTART;TZID=Europe/London:20251105T110000
DTEND;TZID=Europe/London:20251105T130000
DTSTAMP:20260421T212642
CREATED:20251002T084042Z
LAST-MODIFIED:20251002T084042Z
UID:10000145-1762340400-1762347600@wynyardmatters.org
SUMMARY:Coffee Morning
DESCRIPTION:
URL:https://wynyardmatters.org/event/coffee-morning-6/
LOCATION:Glasshouse\, Brierley Drive\, Wynyard\, Stockton-on-Tees\, TS22 5NG\, United Kingdom
CATEGORIES:Community,Monthly
END:VEVENT
BEGIN:VEVENT
DTSTART;TZID=Europe/London:20251109T090000
DTEND;TZID=Europe/London:20251109T140000
DTSTAMP:20260421T212642
CREATED:20251002T084822Z
LAST-MODIFIED:20251002T084822Z
UID:10000154-1762678800-1762696800@wynyardmatters.org
SUMMARY:Hartlepool Farmers Market
DESCRIPTION:
URL:https://wynyardmatters.org/event/hartlepool-farmers-market-5/
LOCATION:Hartlepool Marina\, Slake Terrace\, Hartlepool\, TS24 0RU\, United Kingdom
CATEGORIES:Monthly
END:VEVENT
BEGIN:VEVENT
DTSTART;TZID=Europe/London:20251112T110000
DTEND;TZID=Europe/London:20251112T130000
DTSTAMP:20260421T212642
CREATED:20251002T084104Z
LAST-MODIFIED:20251002T084104Z
UID:10000146-1762945200-1762952400@wynyardmatters.org
SUMMARY:Coffee Morning
DESCRIPTION:
URL:https://wynyardmatters.org/event/coffee-morning-7/
LOCATION:Glasshouse\, Brierley Drive\, Wynyard\, Stockton-on-Tees\, TS22 5NG\, United Kingdom
CATEGORIES:Community,Monthly
END:VEVENT
END:VCALENDAR