BEGIN:VCALENDAR
VERSION:2.0
PRODID:-//Wynyard Matters - ECPv6.15.20//NONSGML v1.0//EN
CALSCALE:GREGORIAN
METHOD:PUBLISH
X-WR-CALNAME:Wynyard Matters
X-ORIGINAL-URL:https://wynyardmatters.org
X-WR-CALDESC:Events for Wynyard Matters
REFRESH-INTERVAL;VALUE=DURATION:PT1H
X-Robots-Tag:noindex
X-PUBLISHED-TTL:PT1H
BEGIN:VTIMEZONE
TZID:Europe/London
BEGIN:DAYLIGHT
TZOFFSETFROM:+0000
TZOFFSETTO:+0100
TZNAME:BST
DTSTART:20250330T010000
END:DAYLIGHT
BEGIN:STANDARD
TZOFFSETFROM:+0100
TZOFFSETTO:+0000
TZNAME:GMT
DTSTART:20251026T010000
END:STANDARD
BEGIN:DAYLIGHT
TZOFFSETFROM:+0000
TZOFFSETTO:+0100
TZNAME:BST
DTSTART:20260329T010000
END:DAYLIGHT
BEGIN:STANDARD
TZOFFSETFROM:+0100
TZOFFSETTO:+0000
TZNAME:GMT
DTSTART:20261025T010000
END:STANDARD
BEGIN:DAYLIGHT
TZOFFSETFROM:+0000
TZOFFSETTO:+0100
TZNAME:BST
DTSTART:20270328T010000
END:DAYLIGHT
BEGIN:STANDARD
TZOFFSETFROM:+0100
TZOFFSETTO:+0000
TZNAME:GMT
DTSTART:20271031T010000
END:STANDARD
END:VTIMEZONE
BEGIN:VEVENT
DTSTART;TZID=Europe/London:20260302T140000
DTEND;TZID=Europe/London:20260302T170000
DTSTAMP:20260422T134234
CREATED:20260304T104849Z
LAST-MODIFIED:20260304T104849Z
UID:10000228-1772460000-1772470800@wynyardmatters.org
SUMMARY:Vine Church Care Home Service
DESCRIPTION:
URL:https://wynyardmatters.org/event/vine-church-care-home-service-12/
LOCATION:Anchor Wynyard Woods Care Home\, Wynyard Woods\, Wynyard\, Billingham\, TS22 5GJ\, United Kingdom
CATEGORIES:Community,Monthly
ORGANIZER;CN="Vine Church Wynyard":MAILTO:hello@wynyard.church
END:VEVENT
BEGIN:VEVENT
DTSTART;TZID=Europe/London:20260314T090000
DTEND;TZID=Europe/London:20260314T140000
DTSTAMP:20260422T134235
CREATED:20251202T095213Z
LAST-MODIFIED:20260304T110709Z
UID:10001558-1773478800-1773496800@wynyardmatters.org
SUMMARY:Hartlepool Farmers Market
DESCRIPTION:
URL:https://wynyardmatters.org/event/hartlepool-farmers-market-8/2026-03-14/
LOCATION:Hartlepool Marina\, Slake Terrace\, Hartlepool\, TS24 0RU\, United Kingdom
CATEGORIES:Monthly
END:VEVENT
BEGIN:VEVENT
DTSTART;TZID=Europe/London:20260315T090000
DTEND;TZID=Europe/London:20260315T140000
DTSTAMP:20260422T134235
CREATED:20251202T095232Z
LAST-MODIFIED:20260304T110806Z
UID:10001618-1773565200-1773583200@wynyardmatters.org
SUMMARY:Wynyard Farmers Market
DESCRIPTION:
URL:https://wynyardmatters.org/event/wynyard-farmers-market-11/2026-03-15/
LOCATION:Wynyard Hall Walled Gardens\, Wynyard Road\, Wynyard\, Stockton-on-Tees\, TS22 5NG\, United Kingdom
CATEGORIES:Monthly
ORGANIZER;CN="Wynyard Hall":MAILTO:reception@wynyardhall.co.uk
END:VEVENT
BEGIN:VEVENT
DTSTART;TZID=Europe/London:20260317T183000
DTEND;TZID=Europe/London:20260317T200000
DTSTAMP:20260422T134235
CREATED:20260304T111026Z
LAST-MODIFIED:20260304T111026Z
UID:10001679-1773772200-1773777600@wynyardmatters.org
SUMMARY:Wynyard Parish Council (Stockton) Meeting
DESCRIPTION:
URL:https://wynyardmatters.org/event/wynyard-parish-council-stockton-meeting-11/2026-03-17/
LOCATION:Wynyard Church of England Primary School\, Redwood Drive\, Wynyard\, Stockton-on-Tees\, TS22 5UB\, United Kingdom
CATEGORIES:Monthly,Parish Council
ORGANIZER;CN="Wynyard Parish Council (Stockton)":MAILTO:wynyardparishcouncil@gmail.com
END:VEVENT
BEGIN:VEVENT
DTSTART;TZID=Europe/London:20260318T180000
DTEND;TZID=Europe/London:20260318T193000
DTSTAMP:20260422T134235
CREATED:20260304T111237Z
LAST-MODIFIED:20260316T205316Z
UID:10001739-1773856800-1773862200@wynyardmatters.org
SUMMARY:Wynyard Parish Council (Hartlepool) Annual Parish Meeting 2026
DESCRIPTION:
URL:https://wynyardmatters.org/event/wynyard-parish-council-hartlepool-annual-parish-meeting-2026/
LOCATION:Wynyard Hall\, Wynyard Road\, Wynyard\, Stockton-on-Tees\, TS22 5NF\, United Kingdom
CATEGORIES:Monthly,Parish Council
ORGANIZER;CN="Wynyard Parish Council (Hartlepool)":MAILTO:clerk@wynyard-hartlepool-pc.gov.uk
END:VEVENT
BEGIN:VEVENT
DTSTART;TZID=Europe/London:20260331T140000
DTEND;TZID=Europe/London:20260331T160000
DTSTAMP:20260422T134235
CREATED:20251202T100036Z
LAST-MODIFIED:20260304T105749Z
UID:10001146-1774965600-1774972800@wynyardmatters.org
SUMMARY:Meet & Greet Golf Club
DESCRIPTION:
URL:https://wynyardmatters.org/event/meet-greet-golf-club-4/2026-03-31/
LOCATION:Wynyard Golf Club\, Wellington Drive\, Wynyard\, TS22 5QJ\, United Kingdom
CATEGORIES:Community,Monthly
END:VEVENT
END:VCALENDAR