BEGIN:VCALENDAR
VERSION:2.0
PRODID:-//Wynyard Matters - ECPv6.15.20//NONSGML v1.0//EN
CALSCALE:GREGORIAN
METHOD:PUBLISH
X-WR-CALNAME:Wynyard Matters
X-ORIGINAL-URL:https://wynyardmatters.org
X-WR-CALDESC:Events for Wynyard Matters
REFRESH-INTERVAL;VALUE=DURATION:PT1H
X-Robots-Tag:noindex
X-PUBLISHED-TTL:PT1H
BEGIN:VTIMEZONE
TZID:Europe/London
BEGIN:DAYLIGHT
TZOFFSETFROM:+0000
TZOFFSETTO:+0100
TZNAME:BST
DTSTART:20240331T010000
END:DAYLIGHT
BEGIN:STANDARD
TZOFFSETFROM:+0100
TZOFFSETTO:+0000
TZNAME:GMT
DTSTART:20241027T010000
END:STANDARD
BEGIN:DAYLIGHT
TZOFFSETFROM:+0000
TZOFFSETTO:+0100
TZNAME:BST
DTSTART:20250330T010000
END:DAYLIGHT
BEGIN:STANDARD
TZOFFSETFROM:+0100
TZOFFSETTO:+0000
TZNAME:GMT
DTSTART:20251026T010000
END:STANDARD
BEGIN:DAYLIGHT
TZOFFSETFROM:+0000
TZOFFSETTO:+0100
TZNAME:BST
DTSTART:20260329T010000
END:DAYLIGHT
BEGIN:STANDARD
TZOFFSETFROM:+0100
TZOFFSETTO:+0000
TZNAME:GMT
DTSTART:20261025T010000
END:STANDARD
END:VTIMEZONE
BEGIN:VEVENT
DTSTART;TZID=Europe/London:20250414T140000
DTEND;TZID=Europe/London:20250414T170000
DTSTAMP:20260421T160642
CREATED:20250228T233041Z
LAST-MODIFIED:20250309T193725Z
UID:10000044-1744639200-1744650000@wynyardmatters.org
SUMMARY:Vine Church Care Home Service
DESCRIPTION:
URL:https://wynyardmatters.org/event/vine-church-care-home-service-2/
LOCATION:Anchor Wynyard Woods Care Home\, Wynyard Woods\, Wynyard\, Billingham\, TS22 5GJ\, United Kingdom
CATEGORIES:Community,Monthly
ORGANIZER;CN="Vine Church Wynyard":MAILTO:hello@wynyard.church
END:VEVENT
BEGIN:VEVENT
DTSTART;TZID=Europe/London:20250415T183000
DTEND;TZID=Europe/London:20250415T200000
DTSTAMP:20260421T160642
CREATED:20250228T233406Z
LAST-MODIFIED:20250309T193725Z
UID:10000047-1744741800-1744747200@wynyardmatters.org
SUMMARY:Wynyard Parish Council (Stockton) Meeting
DESCRIPTION:
URL:https://wynyardmatters.org/event/wynyard-parish-council-stockton-meeting-2/
LOCATION:Wynyard Church of England Primary School\, Redwood Drive\, Wynyard\, Stockton-on-Tees\, TS22 5UB\, United Kingdom
CATEGORIES:Monthly,Parish Council
ORGANIZER;CN="Wynyard Parish Council (Stockton)":MAILTO:wynyardparishcouncil@gmail.com
END:VEVENT
BEGIN:VEVENT
DTSTART;TZID=Europe/London:20250416T110000
DTEND;TZID=Europe/London:20250416T130000
DTSTAMP:20260421T160642
CREATED:20250228T234258Z
LAST-MODIFIED:20250309T193725Z
UID:10000055-1744801200-1744808400@wynyardmatters.org
SUMMARY:Meet and Greet Coffee Morning
DESCRIPTION:
URL:https://wynyardmatters.org/event/meet-and-greet-coffee-morning-2/
LOCATION:Glasshouse\, Brierley Drive\, Wynyard\, Stockton-on-Tees\, TS22 5NG\, United Kingdom
CATEGORIES:Community,Monthly
END:VEVENT
BEGIN:VEVENT
DTSTART;TZID=Europe/London:20250416T183000
DTEND;TZID=Europe/London:20250416T200000
DTSTAMP:20260421T160642
CREATED:20250228T233732Z
LAST-MODIFIED:20250309T193725Z
UID:10000050-1744828200-1744833600@wynyardmatters.org
SUMMARY:Wynyard Parish Council (Hartlepool) Meeting
DESCRIPTION:
URL:https://wynyardmatters.org/event/wynyard-parish-council-hartlepool-meeting-2/
LOCATION:Wynyard Hall\, Wynyard Road\, Wynyard\, Stockton-on-Tees\, TS22 5NF\, United Kingdom
CATEGORIES:Monthly,Parish Council
ORGANIZER;CN="Wynyard Parish Council (Hartlepool)":MAILTO:clerk@wynyard-hartlepool-pc.gov.uk
END:VEVENT
BEGIN:VEVENT
DTSTART;TZID=Europe/London:20250420T090000
DTEND;TZID=Europe/London:20250420T140000
DTSTAMP:20260421T160642
CREATED:20250228T232744Z
LAST-MODIFIED:20250309T193725Z
UID:10000041-1745139600-1745157600@wynyardmatters.org
SUMMARY:Wynyard Farmers Market
DESCRIPTION:
URL:https://wynyardmatters.org/event/wynyard-farmers-market-2/
LOCATION:Wynyard Hall Walled Gardens\, Wynyard Road\, Wynyard\, Stockton-on-Tees\, TS22 5NG\, United Kingdom
CATEGORIES:Monthly
ORGANIZER;CN="Wynyard Hall":MAILTO:reception@wynyardhall.co.uk
END:VEVENT
BEGIN:VEVENT
DTSTART;TZID=Europe/London:20250429T140000
DTEND;TZID=Europe/London:20250429T160000
DTSTAMP:20260421T160642
CREATED:20250228T234545Z
LAST-MODIFIED:20250309T193725Z
UID:10000058-1745935200-1745942400@wynyardmatters.org
SUMMARY:Meet & Greet
DESCRIPTION:
URL:https://wynyardmatters.org/event/meet-greet-2/
LOCATION:Wynyard Golf Club\, Wellington Drive\, Wynyard\, TS22 5QJ\, United Kingdom
CATEGORIES:Community,Monthly
END:VEVENT
END:VCALENDAR