BEGIN:VCALENDAR
VERSION:2.0
PRODID:-//Wynyard Matters - ECPv6.15.20//NONSGML v1.0//EN
CALSCALE:GREGORIAN
METHOD:PUBLISH
X-WR-CALNAME:Wynyard Matters
X-ORIGINAL-URL:https://wynyardmatters.org
X-WR-CALDESC:Events for Wynyard Matters
REFRESH-INTERVAL;VALUE=DURATION:PT1H
X-Robots-Tag:noindex
X-PUBLISHED-TTL:PT1H
BEGIN:VTIMEZONE
TZID:Europe/London
BEGIN:DAYLIGHT
TZOFFSETFROM:+0000
TZOFFSETTO:+0100
TZNAME:BST
DTSTART:20240331T010000
END:DAYLIGHT
BEGIN:STANDARD
TZOFFSETFROM:+0100
TZOFFSETTO:+0000
TZNAME:GMT
DTSTART:20241027T010000
END:STANDARD
BEGIN:DAYLIGHT
TZOFFSETFROM:+0000
TZOFFSETTO:+0100
TZNAME:BST
DTSTART:20250330T010000
END:DAYLIGHT
BEGIN:STANDARD
TZOFFSETFROM:+0100
TZOFFSETTO:+0000
TZNAME:GMT
DTSTART:20251026T010000
END:STANDARD
BEGIN:DAYLIGHT
TZOFFSETFROM:+0000
TZOFFSETTO:+0100
TZNAME:BST
DTSTART:20260329T010000
END:DAYLIGHT
BEGIN:STANDARD
TZOFFSETFROM:+0100
TZOFFSETTO:+0000
TZNAME:GMT
DTSTART:20261025T010000
END:STANDARD
END:VTIMEZONE
BEGIN:VEVENT
DTSTART;TZID=Europe/London:20250312T110000
DTEND;TZID=Europe/London:20250312T130000
DTSTAMP:20260421T192626
CREATED:20250228T231121Z
LAST-MODIFIED:20250309T193724Z
UID:10000025-1741777200-1741784400@wynyardmatters.org
SUMMARY:Meet and Greet Coffee Morning
DESCRIPTION:
URL:https://wynyardmatters.org/event/meet-and-greet-coffee-morning/
LOCATION:Glasshouse\, Brierley Drive\, Wynyard\, Stockton-on-Tees\, TS22 5NG\, United Kingdom
CATEGORIES:Community,Monthly
END:VEVENT
BEGIN:VEVENT
DTSTART;TZID=Europe/London:20250316T090000
DTEND;TZID=Europe/London:20250316T140000
DTSTAMP:20260421T192626
CREATED:20250228T232709Z
LAST-MODIFIED:20250309T193724Z
UID:10000040-1742115600-1742133600@wynyardmatters.org
SUMMARY:Wynyard Farmers Market
DESCRIPTION:
URL:https://wynyardmatters.org/event/wynyard-farmers-market/
LOCATION:Wynyard Hall Walled Gardens\, Wynyard Road\, Wynyard\, Stockton-on-Tees\, TS22 5NG\, United Kingdom
CATEGORIES:Monthly
ORGANIZER;CN="Wynyard Hall":MAILTO:reception@wynyardhall.co.uk
END:VEVENT
BEGIN:VEVENT
DTSTART;TZID=Europe/London:20250317T140000
DTEND;TZID=Europe/London:20250317T170000
DTSTAMP:20260421T192626
CREATED:20250228T233007Z
LAST-MODIFIED:20250309T193724Z
UID:10000043-1742220000-1742230800@wynyardmatters.org
SUMMARY:Vine Church Care Home Service
DESCRIPTION:
URL:https://wynyardmatters.org/event/vine-church-care-home-service/
LOCATION:Anchor Wynyard Woods Care Home\, Wynyard Woods\, Wynyard\, Billingham\, TS22 5GJ\, United Kingdom
CATEGORIES:Community,Monthly
ORGANIZER;CN="Vine Church Wynyard":MAILTO:hello@wynyard.church
END:VEVENT
BEGIN:VEVENT
DTSTART;TZID=Europe/London:20250318T183000
DTEND;TZID=Europe/London:20250318T200000
DTSTAMP:20260421T192626
CREATED:20250228T233335Z
LAST-MODIFIED:20250309T193724Z
UID:10000046-1742322600-1742328000@wynyardmatters.org
SUMMARY:Wynyard Parish Council (Stockton) Meeting
DESCRIPTION:
URL:https://wynyardmatters.org/event/wynyard-parish-council-stockton-meeting/
LOCATION:Wynyard Church of England Primary School\, Redwood Drive\, Wynyard\, Stockton-on-Tees\, TS22 5UB\, United Kingdom
CATEGORIES:Monthly,Parish Council
ORGANIZER;CN="Wynyard Parish Council (Stockton)":MAILTO:wynyardparishcouncil@gmail.com
END:VEVENT
BEGIN:VEVENT
DTSTART;TZID=Europe/London:20250319T183000
DTEND;TZID=Europe/London:20250319T200000
DTSTAMP:20260421T192626
CREATED:20250228T233703Z
LAST-MODIFIED:20250309T193724Z
UID:10000049-1742409000-1742414400@wynyardmatters.org
SUMMARY:Wynyard Parish Council (Hartlepool) Meeting
DESCRIPTION:
URL:https://wynyardmatters.org/event/wynyard-parish-council-hartlepool-meeting/
LOCATION:Wynyard Hall\, Wynyard Road\, Wynyard\, Stockton-on-Tees\, TS22 5NF\, United Kingdom
CATEGORIES:Monthly,Parish Council
ORGANIZER;CN="Wynyard Parish Council (Hartlepool)":MAILTO:clerk@wynyard-hartlepool-pc.gov.uk
END:VEVENT
BEGIN:VEVENT
DTSTART;TZID=Europe/London:20250325T140000
DTEND;TZID=Europe/London:20250325T160000
DTSTAMP:20260421T192626
CREATED:20250228T234036Z
LAST-MODIFIED:20250309T193724Z
UID:10000052-1742911200-1742918400@wynyardmatters.org
SUMMARY:Meet & Greet
DESCRIPTION:
URL:https://wynyardmatters.org/event/meet-greet/
LOCATION:Wynyard Golf Club\, Wellington Drive\, Wynyard\, TS22 5QJ\, United Kingdom
CATEGORIES:Community,Monthly
END:VEVENT
END:VCALENDAR