BEGIN:VCALENDAR
VERSION:2.0
PRODID:-//Wynyard Matters - ECPv6.15.20//NONSGML v1.0//EN
CALSCALE:GREGORIAN
METHOD:PUBLISH
X-WR-CALNAME:Wynyard Matters
X-ORIGINAL-URL:https://wynyardmatters.org
X-WR-CALDESC:Events for Wynyard Matters
REFRESH-INTERVAL;VALUE=DURATION:PT1H
X-Robots-Tag:noindex
X-PUBLISHED-TTL:PT1H
BEGIN:VTIMEZONE
TZID:Europe/London
BEGIN:DAYLIGHT
TZOFFSETFROM:+0000
TZOFFSETTO:+0100
TZNAME:BST
DTSTART:20290325T010000
END:DAYLIGHT
BEGIN:STANDARD
TZOFFSETFROM:+0100
TZOFFSETTO:+0000
TZNAME:GMT
DTSTART:20291028T010000
END:STANDARD
BEGIN:DAYLIGHT
TZOFFSETFROM:+0000
TZOFFSETTO:+0100
TZNAME:BST
DTSTART:20300331T010000
END:DAYLIGHT
BEGIN:STANDARD
TZOFFSETFROM:+0100
TZOFFSETTO:+0000
TZNAME:GMT
DTSTART:20301027T010000
END:STANDARD
BEGIN:DAYLIGHT
TZOFFSETFROM:+0000
TZOFFSETTO:+0100
TZNAME:BST
DTSTART:20310330T010000
END:DAYLIGHT
BEGIN:STANDARD
TZOFFSETFROM:+0100
TZOFFSETTO:+0000
TZNAME:GMT
DTSTART:20311026T010000
END:STANDARD
END:VTIMEZONE
BEGIN:VEVENT
DTSTART;TZID=Europe/London:20300731T110000
DTEND;TZID=Europe/London:20300731T130000
DTSTAMP:20260423T193416
CREATED:20251202T093903Z
LAST-MODIFIED:20260304T105843Z
UID:10001436-1911726000-1911733200@wynyardmatters.org
SUMMARY:Glasshouse Coffee Morning
DESCRIPTION:
URL:https://wynyardmatters.org/event/coffee-morning-21/2030-07-31/
LOCATION:Glasshouse\, Brierley Drive\, Wynyard\, Stockton-on-Tees\, TS22 5NG\, United Kingdom
CATEGORIES:Community,Weekly
END:VEVENT
BEGIN:VEVENT
DTSTART;TZID=Europe/London:20300801T143000
DTEND;TZID=Europe/London:20300801T150000
DTSTAMP:20260423T193416
CREATED:20251202T100100Z
LAST-MODIFIED:20260304T110210Z
UID:10001543-1911825000-1911826800@wynyardmatters.org
SUMMARY:Library Van
DESCRIPTION:The Mobile Library visits the parts of the Borough where there is no static community library within easy reach. \nThe Mobile Library carries a range of materials but on a smaller scale than a community library. It operates on a 3-weekly schedule\, visiting on a set day and time and at a designated place. \nCome for a cuppa in the pub after!
URL:https://wynyardmatters.org/event/library-van-14/2030-08-01/
LOCATION:The Stables Car Park\, 138 The Stables\, Wynyard\, Stockton-on-Tees\, TS22 5QQ\, United Kingdom
CATEGORIES:Community
ORGANIZER;CN="Stockton Borough Council":MAILTO:mobilelibrary.services@stockton.gov.uk
END:VEVENT
BEGIN:VEVENT
DTSTART;TZID=Europe/London:20300807T110000
DTEND;TZID=Europe/London:20300807T130000
DTSTAMP:20260423T193416
CREATED:20251202T093903Z
LAST-MODIFIED:20260304T105843Z
UID:10001437-1912330800-1912338000@wynyardmatters.org
SUMMARY:Glasshouse Coffee Morning
DESCRIPTION:
URL:https://wynyardmatters.org/event/coffee-morning-21/2030-08-07/
LOCATION:Glasshouse\, Brierley Drive\, Wynyard\, Stockton-on-Tees\, TS22 5NG\, United Kingdom
CATEGORIES:Community,Weekly
END:VEVENT
BEGIN:VEVENT
DTSTART;TZID=Europe/London:20300814T110000
DTEND;TZID=Europe/London:20300814T130000
DTSTAMP:20260423T193416
CREATED:20251202T093903Z
LAST-MODIFIED:20260304T105843Z
UID:10001438-1912935600-1912942800@wynyardmatters.org
SUMMARY:Glasshouse Coffee Morning
DESCRIPTION:
URL:https://wynyardmatters.org/event/coffee-morning-21/2030-08-14/
LOCATION:Glasshouse\, Brierley Drive\, Wynyard\, Stockton-on-Tees\, TS22 5NG\, United Kingdom
CATEGORIES:Community,Weekly
END:VEVENT
BEGIN:VEVENT
DTSTART;TZID=Europe/London:20300821T110000
DTEND;TZID=Europe/London:20300821T130000
DTSTAMP:20260423T193416
CREATED:20251202T093903Z
LAST-MODIFIED:20260304T105843Z
UID:10001439-1913540400-1913547600@wynyardmatters.org
SUMMARY:Glasshouse Coffee Morning
DESCRIPTION:
URL:https://wynyardmatters.org/event/coffee-morning-21/2030-08-21/
LOCATION:Glasshouse\, Brierley Drive\, Wynyard\, Stockton-on-Tees\, TS22 5NG\, United Kingdom
CATEGORIES:Community,Weekly
END:VEVENT
BEGIN:VEVENT
DTSTART;TZID=Europe/London:20300822T143000
DTEND;TZID=Europe/London:20300822T150000
DTSTAMP:20260423T193416
CREATED:20251202T100100Z
LAST-MODIFIED:20260304T110210Z
UID:10001544-1913639400-1913641200@wynyardmatters.org
SUMMARY:Library Van
DESCRIPTION:The Mobile Library visits the parts of the Borough where there is no static community library within easy reach. \nThe Mobile Library carries a range of materials but on a smaller scale than a community library. It operates on a 3-weekly schedule\, visiting on a set day and time and at a designated place. \nCome for a cuppa in the pub after!
URL:https://wynyardmatters.org/event/library-van-14/2030-08-22/
LOCATION:The Stables Car Park\, 138 The Stables\, Wynyard\, Stockton-on-Tees\, TS22 5QQ\, United Kingdom
CATEGORIES:Community
ORGANIZER;CN="Stockton Borough Council":MAILTO:mobilelibrary.services@stockton.gov.uk
END:VEVENT
BEGIN:VEVENT
DTSTART;TZID=Europe/London:20300827T140000
DTEND;TZID=Europe/London:20300827T160000
DTSTAMP:20260423T193416
CREATED:20251202T100036Z
LAST-MODIFIED:20260304T105749Z
UID:10001199-1914069600-1914076800@wynyardmatters.org
SUMMARY:Meet & Greet Golf Club
DESCRIPTION:
URL:https://wynyardmatters.org/event/meet-greet-golf-club-4/2030-08-27/
LOCATION:Wynyard Golf Club\, Wellington Drive\, Wynyard\, TS22 5QJ\, United Kingdom
CATEGORIES:Community,Monthly
END:VEVENT
BEGIN:VEVENT
DTSTART;TZID=Europe/London:20300828T110000
DTEND;TZID=Europe/London:20300828T130000
DTSTAMP:20260423T193416
CREATED:20251202T093903Z
LAST-MODIFIED:20260304T105843Z
UID:10001440-1914145200-1914152400@wynyardmatters.org
SUMMARY:Glasshouse Coffee Morning
DESCRIPTION:
URL:https://wynyardmatters.org/event/coffee-morning-21/2030-08-28/
LOCATION:Glasshouse\, Brierley Drive\, Wynyard\, Stockton-on-Tees\, TS22 5NG\, United Kingdom
CATEGORIES:Community,Weekly
END:VEVENT
BEGIN:VEVENT
DTSTART;TZID=Europe/London:20300904T110000
DTEND;TZID=Europe/London:20300904T130000
DTSTAMP:20260423T193416
CREATED:20251202T093903Z
LAST-MODIFIED:20260304T105843Z
UID:10001441-1914750000-1914757200@wynyardmatters.org
SUMMARY:Glasshouse Coffee Morning
DESCRIPTION:
URL:https://wynyardmatters.org/event/coffee-morning-21/2030-09-04/
LOCATION:Glasshouse\, Brierley Drive\, Wynyard\, Stockton-on-Tees\, TS22 5NG\, United Kingdom
CATEGORIES:Community,Weekly
END:VEVENT
BEGIN:VEVENT
DTSTART;TZID=Europe/London:20300911T110000
DTEND;TZID=Europe/London:20300911T130000
DTSTAMP:20260423T193416
CREATED:20251202T093903Z
LAST-MODIFIED:20260304T105843Z
UID:10001442-1915354800-1915362000@wynyardmatters.org
SUMMARY:Glasshouse Coffee Morning
DESCRIPTION:
URL:https://wynyardmatters.org/event/coffee-morning-21/2030-09-11/
LOCATION:Glasshouse\, Brierley Drive\, Wynyard\, Stockton-on-Tees\, TS22 5NG\, United Kingdom
CATEGORIES:Community,Weekly
END:VEVENT
BEGIN:VEVENT
DTSTART;TZID=Europe/London:20300912T143000
DTEND;TZID=Europe/London:20300912T150000
DTSTAMP:20260423T193416
CREATED:20251202T100100Z
LAST-MODIFIED:20260304T110210Z
UID:10001545-1915453800-1915455600@wynyardmatters.org
SUMMARY:Library Van
DESCRIPTION:The Mobile Library visits the parts of the Borough where there is no static community library within easy reach. \nThe Mobile Library carries a range of materials but on a smaller scale than a community library. It operates on a 3-weekly schedule\, visiting on a set day and time and at a designated place. \nCome for a cuppa in the pub after!
URL:https://wynyardmatters.org/event/library-van-14/2030-09-12/
LOCATION:The Stables Car Park\, 138 The Stables\, Wynyard\, Stockton-on-Tees\, TS22 5QQ\, United Kingdom
CATEGORIES:Community
ORGANIZER;CN="Stockton Borough Council":MAILTO:mobilelibrary.services@stockton.gov.uk
END:VEVENT
BEGIN:VEVENT
DTSTART;TZID=Europe/London:20300918T110000
DTEND;TZID=Europe/London:20300918T130000
DTSTAMP:20260423T193416
CREATED:20251202T093903Z
LAST-MODIFIED:20260304T105843Z
UID:10001443-1915959600-1915966800@wynyardmatters.org
SUMMARY:Glasshouse Coffee Morning
DESCRIPTION:
URL:https://wynyardmatters.org/event/coffee-morning-21/2030-09-18/
LOCATION:Glasshouse\, Brierley Drive\, Wynyard\, Stockton-on-Tees\, TS22 5NG\, United Kingdom
CATEGORIES:Community,Weekly
END:VEVENT
BEGIN:VEVENT
DTSTART;TZID=Europe/London:20300924T140000
DTEND;TZID=Europe/London:20300924T160000
DTSTAMP:20260423T193416
CREATED:20251202T100036Z
LAST-MODIFIED:20260304T105749Z
UID:10001200-1916488800-1916496000@wynyardmatters.org
SUMMARY:Meet & Greet Golf Club
DESCRIPTION:
URL:https://wynyardmatters.org/event/meet-greet-golf-club-4/2030-09-24/
LOCATION:Wynyard Golf Club\, Wellington Drive\, Wynyard\, TS22 5QJ\, United Kingdom
CATEGORIES:Community,Monthly
END:VEVENT
BEGIN:VEVENT
DTSTART;TZID=Europe/London:20300925T110000
DTEND;TZID=Europe/London:20300925T130000
DTSTAMP:20260423T193416
CREATED:20251202T093903Z
LAST-MODIFIED:20260304T105843Z
UID:10001444-1916564400-1916571600@wynyardmatters.org
SUMMARY:Glasshouse Coffee Morning
DESCRIPTION:
URL:https://wynyardmatters.org/event/coffee-morning-21/2030-09-25/
LOCATION:Glasshouse\, Brierley Drive\, Wynyard\, Stockton-on-Tees\, TS22 5NG\, United Kingdom
CATEGORIES:Community,Weekly
END:VEVENT
BEGIN:VEVENT
DTSTART;TZID=Europe/London:20301002T110000
DTEND;TZID=Europe/London:20301002T130000
DTSTAMP:20260423T193416
CREATED:20251202T093903Z
LAST-MODIFIED:20260304T105843Z
UID:10001445-1917169200-1917176400@wynyardmatters.org
SUMMARY:Glasshouse Coffee Morning
DESCRIPTION:
URL:https://wynyardmatters.org/event/coffee-morning-21/2030-10-02/
LOCATION:Glasshouse\, Brierley Drive\, Wynyard\, Stockton-on-Tees\, TS22 5NG\, United Kingdom
CATEGORIES:Community,Weekly
END:VEVENT
BEGIN:VEVENT
DTSTART;TZID=Europe/London:20301003T143000
DTEND;TZID=Europe/London:20301003T150000
DTSTAMP:20260423T193416
CREATED:20251202T100100Z
LAST-MODIFIED:20260304T110210Z
UID:10001546-1917268200-1917270000@wynyardmatters.org
SUMMARY:Library Van
DESCRIPTION:The Mobile Library visits the parts of the Borough where there is no static community library within easy reach. \nThe Mobile Library carries a range of materials but on a smaller scale than a community library. It operates on a 3-weekly schedule\, visiting on a set day and time and at a designated place. \nCome for a cuppa in the pub after!
URL:https://wynyardmatters.org/event/library-van-14/2030-10-03/
LOCATION:The Stables Car Park\, 138 The Stables\, Wynyard\, Stockton-on-Tees\, TS22 5QQ\, United Kingdom
CATEGORIES:Community
ORGANIZER;CN="Stockton Borough Council":MAILTO:mobilelibrary.services@stockton.gov.uk
END:VEVENT
BEGIN:VEVENT
DTSTART;TZID=Europe/London:20301009T110000
DTEND;TZID=Europe/London:20301009T130000
DTSTAMP:20260423T193416
CREATED:20251202T093903Z
LAST-MODIFIED:20260304T105843Z
UID:10001446-1917774000-1917781200@wynyardmatters.org
SUMMARY:Glasshouse Coffee Morning
DESCRIPTION:
URL:https://wynyardmatters.org/event/coffee-morning-21/2030-10-09/
LOCATION:Glasshouse\, Brierley Drive\, Wynyard\, Stockton-on-Tees\, TS22 5NG\, United Kingdom
CATEGORIES:Community,Weekly
END:VEVENT
BEGIN:VEVENT
DTSTART;TZID=Europe/London:20301016T110000
DTEND;TZID=Europe/London:20301016T130000
DTSTAMP:20260423T193416
CREATED:20251202T093903Z
LAST-MODIFIED:20260304T105843Z
UID:10001447-1918378800-1918386000@wynyardmatters.org
SUMMARY:Glasshouse Coffee Morning
DESCRIPTION:
URL:https://wynyardmatters.org/event/coffee-morning-21/2030-10-16/
LOCATION:Glasshouse\, Brierley Drive\, Wynyard\, Stockton-on-Tees\, TS22 5NG\, United Kingdom
CATEGORIES:Community,Weekly
END:VEVENT
BEGIN:VEVENT
DTSTART;TZID=Europe/London:20301023T110000
DTEND;TZID=Europe/London:20301023T130000
DTSTAMP:20260423T193416
CREATED:20251202T093903Z
LAST-MODIFIED:20260304T105843Z
UID:10001448-1918983600-1918990800@wynyardmatters.org
SUMMARY:Glasshouse Coffee Morning
DESCRIPTION:
URL:https://wynyardmatters.org/event/coffee-morning-21/2030-10-23/
LOCATION:Glasshouse\, Brierley Drive\, Wynyard\, Stockton-on-Tees\, TS22 5NG\, United Kingdom
CATEGORIES:Community,Weekly
END:VEVENT
BEGIN:VEVENT
DTSTART;TZID=Europe/London:20301024T143000
DTEND;TZID=Europe/London:20301024T150000
DTSTAMP:20260423T193416
CREATED:20251202T100100Z
LAST-MODIFIED:20260304T110210Z
UID:10001547-1919082600-1919084400@wynyardmatters.org
SUMMARY:Library Van
DESCRIPTION:The Mobile Library visits the parts of the Borough where there is no static community library within easy reach. \nThe Mobile Library carries a range of materials but on a smaller scale than a community library. It operates on a 3-weekly schedule\, visiting on a set day and time and at a designated place. \nCome for a cuppa in the pub after!
URL:https://wynyardmatters.org/event/library-van-14/2030-10-24/
LOCATION:The Stables Car Park\, 138 The Stables\, Wynyard\, Stockton-on-Tees\, TS22 5QQ\, United Kingdom
CATEGORIES:Community
ORGANIZER;CN="Stockton Borough Council":MAILTO:mobilelibrary.services@stockton.gov.uk
END:VEVENT
BEGIN:VEVENT
DTSTART;TZID=Europe/London:20301029T140000
DTEND;TZID=Europe/London:20301029T160000
DTSTAMP:20260423T193416
CREATED:20251202T100036Z
LAST-MODIFIED:20260304T105749Z
UID:10001201-1919512800-1919520000@wynyardmatters.org
SUMMARY:Meet & Greet Golf Club
DESCRIPTION:
URL:https://wynyardmatters.org/event/meet-greet-golf-club-4/2030-10-29/
LOCATION:Wynyard Golf Club\, Wellington Drive\, Wynyard\, TS22 5QJ\, United Kingdom
CATEGORIES:Community,Monthly
END:VEVENT
BEGIN:VEVENT
DTSTART;TZID=Europe/London:20301030T110000
DTEND;TZID=Europe/London:20301030T130000
DTSTAMP:20260423T193416
CREATED:20251202T093903Z
LAST-MODIFIED:20260304T105843Z
UID:10001449-1919588400-1919595600@wynyardmatters.org
SUMMARY:Glasshouse Coffee Morning
DESCRIPTION:
URL:https://wynyardmatters.org/event/coffee-morning-21/2030-10-30/
LOCATION:Glasshouse\, Brierley Drive\, Wynyard\, Stockton-on-Tees\, TS22 5NG\, United Kingdom
CATEGORIES:Community,Weekly
END:VEVENT
BEGIN:VEVENT
DTSTART;TZID=Europe/London:20301106T110000
DTEND;TZID=Europe/London:20301106T130000
DTSTAMP:20260423T193416
CREATED:20251202T093903Z
LAST-MODIFIED:20260304T105843Z
UID:10001450-1920193200-1920200400@wynyardmatters.org
SUMMARY:Glasshouse Coffee Morning
DESCRIPTION:
URL:https://wynyardmatters.org/event/coffee-morning-21/2030-11-06/
LOCATION:Glasshouse\, Brierley Drive\, Wynyard\, Stockton-on-Tees\, TS22 5NG\, United Kingdom
CATEGORIES:Community,Weekly
END:VEVENT
BEGIN:VEVENT
DTSTART;TZID=Europe/London:20301113T110000
DTEND;TZID=Europe/London:20301113T130000
DTSTAMP:20260423T193416
CREATED:20251202T093903Z
LAST-MODIFIED:20260304T105843Z
UID:10001451-1920798000-1920805200@wynyardmatters.org
SUMMARY:Glasshouse Coffee Morning
DESCRIPTION:
URL:https://wynyardmatters.org/event/coffee-morning-21/2030-11-13/
LOCATION:Glasshouse\, Brierley Drive\, Wynyard\, Stockton-on-Tees\, TS22 5NG\, United Kingdom
CATEGORIES:Community,Weekly
END:VEVENT
BEGIN:VEVENT
DTSTART;TZID=Europe/London:20301114T143000
DTEND;TZID=Europe/London:20301114T150000
DTSTAMP:20260423T193416
CREATED:20251202T100100Z
LAST-MODIFIED:20260304T110210Z
UID:10001548-1920897000-1920898800@wynyardmatters.org
SUMMARY:Library Van
DESCRIPTION:The Mobile Library visits the parts of the Borough where there is no static community library within easy reach. \nThe Mobile Library carries a range of materials but on a smaller scale than a community library. It operates on a 3-weekly schedule\, visiting on a set day and time and at a designated place. \nCome for a cuppa in the pub after!
URL:https://wynyardmatters.org/event/library-van-14/2030-11-14/
LOCATION:The Stables Car Park\, 138 The Stables\, Wynyard\, Stockton-on-Tees\, TS22 5QQ\, United Kingdom
CATEGORIES:Community
ORGANIZER;CN="Stockton Borough Council":MAILTO:mobilelibrary.services@stockton.gov.uk
END:VEVENT
BEGIN:VEVENT
DTSTART;TZID=Europe/London:20301120T110000
DTEND;TZID=Europe/London:20301120T130000
DTSTAMP:20260423T193416
CREATED:20251202T093903Z
LAST-MODIFIED:20260304T105843Z
UID:10001452-1921402800-1921410000@wynyardmatters.org
SUMMARY:Glasshouse Coffee Morning
DESCRIPTION:
URL:https://wynyardmatters.org/event/coffee-morning-21/2030-11-20/
LOCATION:Glasshouse\, Brierley Drive\, Wynyard\, Stockton-on-Tees\, TS22 5NG\, United Kingdom
CATEGORIES:Community,Weekly
END:VEVENT
BEGIN:VEVENT
DTSTART;TZID=Europe/London:20301126T140000
DTEND;TZID=Europe/London:20301126T160000
DTSTAMP:20260423T193416
CREATED:20251202T100036Z
LAST-MODIFIED:20260304T105749Z
UID:10001202-1921932000-1921939200@wynyardmatters.org
SUMMARY:Meet & Greet Golf Club
DESCRIPTION:
URL:https://wynyardmatters.org/event/meet-greet-golf-club-4/2030-11-26/
LOCATION:Wynyard Golf Club\, Wellington Drive\, Wynyard\, TS22 5QJ\, United Kingdom
CATEGORIES:Community,Monthly
END:VEVENT
BEGIN:VEVENT
DTSTART;TZID=Europe/London:20301127T110000
DTEND;TZID=Europe/London:20301127T130000
DTSTAMP:20260423T193416
CREATED:20251202T093903Z
LAST-MODIFIED:20260304T105843Z
UID:10001453-1922007600-1922014800@wynyardmatters.org
SUMMARY:Glasshouse Coffee Morning
DESCRIPTION:
URL:https://wynyardmatters.org/event/coffee-morning-21/2030-11-27/
LOCATION:Glasshouse\, Brierley Drive\, Wynyard\, Stockton-on-Tees\, TS22 5NG\, United Kingdom
CATEGORIES:Community,Weekly
END:VEVENT
BEGIN:VEVENT
DTSTART;TZID=Europe/London:20301204T110000
DTEND;TZID=Europe/London:20301204T130000
DTSTAMP:20260423T193416
CREATED:20251202T093903Z
LAST-MODIFIED:20260304T105843Z
UID:10001454-1922612400-1922619600@wynyardmatters.org
SUMMARY:Glasshouse Coffee Morning
DESCRIPTION:
URL:https://wynyardmatters.org/event/coffee-morning-21/2030-12-04/
LOCATION:Glasshouse\, Brierley Drive\, Wynyard\, Stockton-on-Tees\, TS22 5NG\, United Kingdom
CATEGORIES:Community,Weekly
END:VEVENT
BEGIN:VEVENT
DTSTART;TZID=Europe/London:20301205T143000
DTEND;TZID=Europe/London:20301205T150000
DTSTAMP:20260423T193416
CREATED:20251202T100100Z
LAST-MODIFIED:20260304T110210Z
UID:10001549-1922711400-1922713200@wynyardmatters.org
SUMMARY:Library Van
DESCRIPTION:The Mobile Library visits the parts of the Borough where there is no static community library within easy reach. \nThe Mobile Library carries a range of materials but on a smaller scale than a community library. It operates on a 3-weekly schedule\, visiting on a set day and time and at a designated place. \nCome for a cuppa in the pub after!
URL:https://wynyardmatters.org/event/library-van-14/2030-12-05/
LOCATION:The Stables Car Park\, 138 The Stables\, Wynyard\, Stockton-on-Tees\, TS22 5QQ\, United Kingdom
CATEGORIES:Community
ORGANIZER;CN="Stockton Borough Council":MAILTO:mobilelibrary.services@stockton.gov.uk
END:VEVENT
END:VCALENDAR