BEGIN:VCALENDAR
VERSION:2.0
PRODID:-//Wynyard Matters - ECPv6.15.20//NONSGML v1.0//EN
CALSCALE:GREGORIAN
METHOD:PUBLISH
X-ORIGINAL-URL:https://wynyardmatters.org
X-WR-CALDESC:Events for Wynyard Matters
REFRESH-INTERVAL;VALUE=DURATION:PT1H
X-Robots-Tag:noindex
X-PUBLISHED-TTL:PT1H
BEGIN:VTIMEZONE
TZID:Europe/London
BEGIN:DAYLIGHT
TZOFFSETFROM:+0000
TZOFFSETTO:+0100
TZNAME:BST
DTSTART:20250330T010000
END:DAYLIGHT
BEGIN:STANDARD
TZOFFSETFROM:+0100
TZOFFSETTO:+0000
TZNAME:GMT
DTSTART:20251026T010000
END:STANDARD
BEGIN:DAYLIGHT
TZOFFSETFROM:+0000
TZOFFSETTO:+0100
TZNAME:BST
DTSTART:20260329T010000
END:DAYLIGHT
BEGIN:STANDARD
TZOFFSETFROM:+0100
TZOFFSETTO:+0000
TZNAME:GMT
DTSTART:20261025T010000
END:STANDARD
BEGIN:DAYLIGHT
TZOFFSETFROM:+0000
TZOFFSETTO:+0100
TZNAME:BST
DTSTART:20270328T010000
END:DAYLIGHT
BEGIN:STANDARD
TZOFFSETFROM:+0100
TZOFFSETTO:+0000
TZNAME:GMT
DTSTART:20271031T010000
END:STANDARD
END:VTIMEZONE
BEGIN:VEVENT
DTSTART;TZID=Europe/London:20260902T100000
DTEND;TZID=Europe/London:20260902T120000
DTSTAMP:20260420T123554
CREATED:20251202T093307Z
LAST-MODIFIED:20260304T105415Z
UID:10000766-1788343200-1788350400@wynyardmatters.org
SUMMARY:Wynyard Woodland Walk
DESCRIPTION:
URL:https://wynyardmatters.org/event/wynyard-woodland-walk-16/2026-09-02/
LOCATION:Station House Tea Rooms\, Wynyard\, Stockton-on-Tees\, TS21 3JG\, United Kingdom
CATEGORIES:Fortnightly
END:VEVENT
BEGIN:VEVENT
DTSTART;TZID=Europe/London:20260902T110000
DTEND;TZID=Europe/London:20260902T130000
DTSTAMP:20260420T123554
CREATED:20251202T093903Z
LAST-MODIFIED:20260304T105843Z
UID:10001232-1788346800-1788354000@wynyardmatters.org
SUMMARY:Glasshouse Coffee Morning
DESCRIPTION:
URL:https://wynyardmatters.org/event/coffee-morning-21/2026-09-02/
LOCATION:Glasshouse\, Brierley Drive\, Wynyard\, Stockton-on-Tees\, TS22 5NG\, United Kingdom
CATEGORIES:Community,Weekly
END:VEVENT
END:VCALENDAR