BEGIN:VCALENDAR
VERSION:2.0
PRODID:-//Wynyard Matters - ECPv6.15.20//NONSGML v1.0//EN
CALSCALE:GREGORIAN
METHOD:PUBLISH
X-ORIGINAL-URL:https://wynyardmatters.org
X-WR-CALDESC:Events for Wynyard Matters
REFRESH-INTERVAL;VALUE=DURATION:PT1H
X-Robots-Tag:noindex
X-PUBLISHED-TTL:PT1H
BEGIN:VTIMEZONE
TZID:Europe/London
BEGIN:DAYLIGHT
TZOFFSETFROM:+0000
TZOFFSETTO:+0100
TZNAME:BST
DTSTART:20250330T010000
END:DAYLIGHT
BEGIN:STANDARD
TZOFFSETFROM:+0100
TZOFFSETTO:+0000
TZNAME:GMT
DTSTART:20251026T010000
END:STANDARD
BEGIN:DAYLIGHT
TZOFFSETFROM:+0000
TZOFFSETTO:+0100
TZNAME:BST
DTSTART:20260329T010000
END:DAYLIGHT
BEGIN:STANDARD
TZOFFSETFROM:+0100
TZOFFSETTO:+0000
TZNAME:GMT
DTSTART:20261025T010000
END:STANDARD
BEGIN:DAYLIGHT
TZOFFSETFROM:+0000
TZOFFSETTO:+0100
TZNAME:BST
DTSTART:20270328T010000
END:DAYLIGHT
BEGIN:STANDARD
TZOFFSETFROM:+0100
TZOFFSETTO:+0000
TZNAME:GMT
DTSTART:20271031T010000
END:STANDARD
END:VTIMEZONE
BEGIN:VEVENT
DTSTART;TZID=Europe/London:20260123T183000
DTEND;TZID=Europe/London:20260123T203000
DTSTAMP:20260420T141719
CREATED:20260115T185119Z
LAST-MODIFIED:20260116T122225Z
UID:10000227-1769193000-1769200200@wynyardmatters.org
SUMMARY:Support Education in Wynyard Public Meeting
DESCRIPTION:You’re invited to show your support for more Primary and Secondary education provision in Wynyard at our Public Meeting hosted by MP for Hartlepool Jonathan Brash.\nGet behind the appeal to the Department for Education on the proposed primary school in Wynyard Park that has been marked as ‘minded to cancel’.\n\nJonathan Brash\, MP for Hartlepool\, will lead the meeting\, supported by Wynyard Parish Councils\, Hartlepool Borough Council\, Melrose Learning Trust & Durham Diocese.\nNow is the time for us to call on decision makers to support education in Wynyard and to approve the urgently needed second Primary School our community has been waiting for.\n\nIf you intend to attend\, we’d appreciate it if you could book a free ticket via Eventbrite https://www.eventbrite.com/e/public-meeting-supporting-wynyard-education-st-josephs-cofe-appeal-tickets-1980575114483 and consider adding your signature to our change.org public petition https://www.change.org/p/support-better-educational-opportunities-in-wynyard\n 
URL:https://wynyardmatters.org/event/1109/
LOCATION:Wynyard Church of England Primary School\, Redwood Drive\, Wynyard\, Stockton-on-Tees\, TS22 5UB\, United Kingdom
CATEGORIES:Parish Council
ORGANIZER;CN="Wynyard Parish Council (Hartlepool)":MAILTO:clerk@wynyard-hartlepool-pc.gov.uk
END:VEVENT
END:VCALENDAR